PDS_VERSION_ID = PDS3
/* FILE DATA ELEMENTS */
RECORD_TYPE = STREAM
/* POINTERS TO DATA OBJECTS */
^COMPRESSED_FILE = "HE756_0000_P23.JP2"
/* IDENTIFICATION DATA ELEMENTS */
DATA_SET_ID = "MEX-M-HRSC-5-REFDR-MAPPROJECTED-V3.0"
DATA_SET_NAME = "MARS EXPRESS HRSC MAP PROJECTED REFDR V3.0"
DETECTOR_ID = MEX_HRSC_P2
EVENT_TYPE = "MARS-REGIONAL-STEREO-Im-Fl-Lc"
INSTRUMENT_HOST_ID = MEX
INSTRUMENT_HOST_NAME = "MARS EXPRESS"
INSTRUMENT_ID = HRSC
INSTRUMENT_NAME = "HIGH RESOLUTION STEREO CAMERA"
MISSION_NAME = "MARS EXPRESS"
MISSION_PHASE_NAME = ME_Phase_33
PROCESSING_LEVEL_ID = 3
PRODUCT_CREATION_TIME = 2016-10-30T02:40:36.000Z
PRODUCT_ID = "HE756_0000_P23.JP2"
RELEASE_ID = 0129
REVISION_ID = 0000
/* QUALITY DATA ELEMENTS */
DATA_QUALITY_ID = 1
DATA_QUALITY_DESC = "Data calculated based on original SPICE kernels"
/* TIME DATA ELEMENTS */
SPACECRAFT_CLOCK_START_COUNT = "1/0388176146.09051"
SPACECRAFT_CLOCK_STOP_COUNT = "1/0388176329.26452"
START_TIME = 2015-08-20T18:42:42.444Z
STOP_TIME = 2015-08-20T18:44:38.793Z
/* ORBITAL DATA ELEMENTS */
ASCENDING_NODE_LONGITUDE = 296.58
MAXIMUM_RESOLUTION = 27.2
FOOTPRINT_POINT_LATITUDE = (-40.0374,-40.0336,-40.0266,-40.022, -40.0129,-39.8311,-39.6819,-39.3855, -39.235,-39.0828,-38.9312,-38.781, -38.6303,-38.4801,-38.3301,-38.18, -38.0301,-37.8053,-37.6552,-37.505, -37.3549,-37.2052,-37.0561,-36.9057, -36.7555,-36.6058,-36.4532,-36.2992, -36.1445,-35.9894,-35.834,-35.6788, -35.4461,-35.288,-35.132,-34.9768, -34.7448,-34.5911,-34.4387,-34.2832, -34.128,-33.9732,-33.8202,-33.666, -33.4354,-33.2006,-32.9662,-32.8099, -32.6554,-32.5003,-32.3234,-32.3269, -32.3313,-32.3355,-32.3416,-32.5745, -32.8073,-32.9625,-33.1177,-33.2721, -33.427,-33.582,-33.7364,-33.8922, -34.0474,-34.2034,-34.4368,-34.6688, -34.8241,-34.9808,-35.1362,-35.2895, -35.444,-35.5976,-35.753,-35.9081, -36.1409,-36.2961,-36.4519,-36.6064, -36.7571,-36.9085,-37.0606,-37.2151, -37.4405,-37.5928,-37.7432,-37.8906, -38.0392,-38.1885,-38.3386,-38.489, -38.7145,-38.9394,-39.0894,-39.3143, -39.4642,-39.689,-39.8391,-40.0374)
FOOTPRINT_POINT_LONGITUDE = (186.241,185.969,185.568,185.353, 184.981,184.909,184.914,184.927,184.932 ,184.936,184.94,184.945,184.95,184.954, 184.959,184.964,184.968,184.975,184.98, 184.984,184.988,184.992,184.997,185.001 ,185.005,185.009,185.013,185.017, 185.021,185.024,185.028,185.031,185.036 ,185.038,185.04,185.043,185.048,185.052 ,185.056,185.058,185.061,185.064, 185.067,185.07,185.074,185.076,185.079, 185.08,185.082,185.084,185.171,185.398, 185.738,186.135,186.55,186.546,186.543, 186.54,186.538,186.536,186.534,186.532, 186.53,186.527,186.525,186.522,186.518, 186.515,186.513,186.509,186.507,186.505 ,186.503,186.502,186.499,186.496, 186.493,186.49,186.487,186.484,186.481, 186.478,186.474,186.469,186.464,186.46, 186.458,186.456,186.454,186.452,186.449 ,186.446,186.441,186.437,186.434,186.43 ,186.427,186.422,186.419,186.241)
ORBIT_NUMBER = 14756
ORBITAL_ECCENTRICITY = 0.578
ORBITAL_INCLINATION = 86.92
ORBITAL_SEMIMAJOR_AXIS = 8804.48
PERIAPSIS_ALTITUDE = 329.75
PERIAPSIS_ARGUMENT_ANGLE = 314.53
PERIAPSIS_TIME = 2015-08-20T18:41:40.000Z
SPACECRAFT_ORIENTATION = (0.0,1.0,0.0)
^MEX_ORIENTATION_DESC = "MEX_ORIENTATION_DESC.TXT"
SPACECRAFT_POINTING_MODE = NADIR
^MEX_POINTING_DESC = "MEX_POINTING_DESC.TXT"
RIGHT_ASCENSION = -1e+32
DECLINATION = -1e+32
OFFSET_ANGLE = -1e+32
SPACECRAFT_SOLAR_DISTANCE = 2.43129e+08
TARGET_NAME = MARS
/* CAMERA DATA ELEMENTS */
DETECTOR_TEMPERATURE = 18.3705
FOCAL_PLANE_TEMPERATURE = 8.9911
INST_CMPRS_NAME = "DISCRETE COSINE TRANSFORMATION (DCT)"
INST_CMPRS_RATIO = 7.90989
INST_CMPRS_QUALITY = 0
INST_CMPRS_QUANTZ_TBL_ID = 0
INSTRUMENT_TEMPERATURE = 11.6418
LENS_TEMPERATURE = 10.2145
MACROPIXEL_SIZE = 2
MISSING_FRAMES = 0
PIXEL_SUBSAMPLING_FLAG = N
SIGNAL_CHAIN_ID = 3
/* RADIOMETRIC DATA ELEMENTS */
BANDWIDTH = 177.0
CENTER_FILTER_WAVELENGTH = 676.5
RADIANCE_OFFSET = 1.08097
RADIANCE_SCALING_FACTOR = 0.0138163
REFLECTANCE_SCALING_FACTOR = 0.000433036
MEX:REFLECTANCE_OFFSET = 0.0338801
/* IMAGE OBJECT DEFINITIONS */
OBJECT = IMAGE
  INTERCHANGE_FORMAT = BINARY
  LINES = 18227
  LINE_SAMPLES = 3242
  SAMPLE_TYPE = UNSIGNED_INTEGER
  SAMPLE_BITS = 8
  BANDS = 1
  BAND_STORAGE_TYPE = BAND_SEQUENTIAL
  MAXIMUM = 255
  MEAN = 120.319
  MINIMUM = 1
  STANDARD_DEVIATION = 27.7973
END_OBJECT = IMAGE
/* MAP OBJECT DEFINITIONS */
OBJECT = IMAGE_MAP_PROJECTION
  ^DATA_SET_MAP_PROJECTION_CATALOG= "DSMAP.CAT"
  A_AXIS_RADIUS = 3396.0
  B_AXIS_RADIUS = 3396.0
  C_AXIS_RADIUS = 3396.0
  CENTER_LATITUDE = 0.0
  CENTER_LONGITUDE = 186.0
  COORDINATE_SYSTEM_NAME = PLANETOGRAPHIC
  COORDINATE_SYSTEM_TYPE = "BODY-FIXED ROTATING"
  EASTERNMOST_LONGITUDE = 186.55
  FIRST_STANDARD_PARALLEL = "N/A"
  LINE_FIRST_PIXEL = 1
  LINE_LAST_PIXEL = 18227
  LINE_PROJECTION_OFFSET = -76634.25
  MAP_PROJECTION_ROTATION = 0.0
  MAP_PROJECTION_TYPE = SINUSOIDAL
  MAP_RESOLUTION = 2370.85521546667
  MAP_SCALE = 0.025
  MAXIMUM_LATITUDE = -32.3234
  MINIMUM_LATITUDE = -40.0374
  POSITIVE_LONGITUDE_DIRECTION = EAST
  REFERENCE_LATITUDE = "N/A"
  REFERENCE_LONGITUDE = "N/A"
  SAMPLE_FIRST_PIXEL = 1
  SAMPLE_LAST_PIXEL = 3242
  SAMPLE_PROJECTION_OFFSET = 2044.25
  SECOND_STANDARD_PARALLEL = "N/A"
  WESTERNMOST_LONGITUDE = 184.909
END_OBJECT = IMAGE_MAP_PROJECTION
/* The JPEG2000 image data file associated with this label. */
OBJECT = COMPRESSED_FILE
  FILE_NAME = "HE756_0000_P23.JP2"
  RECORD_TYPE = UNDEFINED
  FILE_RECORDS = UNK
  ENCODING_TYPE = "JP2"
  INTERCHANGE_FORMAT = BINARY
  UNCOMPRESSED_FILE_NAME = "HE756_0000_P23.IMG"
  REQUIRED_STORAGE_BYTES = "59114628"
  ^DESCRIPTION = "JP2INFO.TXT"
END_OBJECT = COMPRESSED_FILE
END
