PDS_VERSION_ID = PDS3
/* FILE DATA ELEMENTS */
RECORD_TYPE = STREAM
/* POINTERS TO DATA OBJECTS */
^COMPRESSED_FILE = "HE756_0000_S13.JP2"
/* IDENTIFICATION DATA ELEMENTS */
DATA_SET_ID = "MEX-M-HRSC-5-REFDR-MAPPROJECTED-V3.0"
DATA_SET_NAME = "MARS EXPRESS HRSC MAP PROJECTED REFDR V3.0"
DETECTOR_ID = MEX_HRSC_S1
EVENT_TYPE = "MARS-REGIONAL-STEREO-Im-Fl-Lc"
INSTRUMENT_HOST_ID = MEX
INSTRUMENT_HOST_NAME = "MARS EXPRESS"
INSTRUMENT_ID = HRSC
INSTRUMENT_NAME = "HIGH RESOLUTION STEREO CAMERA"
MISSION_NAME = "MARS EXPRESS"
MISSION_PHASE_NAME = ME_Phase_33
PROCESSING_LEVEL_ID = 3
PRODUCT_CREATION_TIME = 2016-10-30T02:40:36.000Z
PRODUCT_ID = "HE756_0000_S13.JP2"
RELEASE_ID = 0129
REVISION_ID = 0000
/* QUALITY DATA ELEMENTS */
DATA_QUALITY_ID = 1
DATA_QUALITY_DESC = "Data calculated based on original SPICE kernels"
/* TIME DATA ELEMENTS */
SPACECRAFT_CLOCK_START_COUNT = "1/0388176146.09051"
SPACECRAFT_CLOCK_STOP_COUNT = "1/0388176329.26452"
START_TIME = 2015-08-20T18:43:32.036Z
STOP_TIME = 2015-08-20T18:45:33.524Z
/* ORBITAL DATA ELEMENTS */
ASCENDING_NODE_LONGITUDE = 296.58
MAXIMUM_RESOLUTION = 14.3
FOOTPRINT_POINT_LATITUDE = (-39.9559,-39.9533,-39.9497,-39.9462, -39.9397,-39.9774,-39.8287,-39.6745, -39.4405,-39.2855,-39.1347,-38.9082, -38.7556,-38.6033,-38.3741,-38.2212, -38.0683,-37.9159,-37.7631,-37.6107, -37.4584,-37.3061,-37.0774,-36.9248, -36.7729,-36.6208,-36.4688,-36.317, -36.1646,-36.013,-35.7868,-35.5607, -35.4094,-35.1138,-34.9637,-34.737, -34.5858,-34.4328,-34.2823,-34.1332, -33.9815,-33.8305,-33.6062,-33.4553, -33.3052,-33.0125,-32.6937,-32.5167, -32.34,-32.3305,-32.3328,-32.3353, -32.3362,-32.3327,-32.5097,-32.6865, -32.8621,-33.0111,-33.1604,-33.3108, -33.4601,-33.6109,-33.7608,-33.9844, -34.2085,-34.3582,-34.5085,-34.6593, -34.8092,-34.9577,-35.1844,-35.414, -35.5679,-35.719,-35.8703,-36.0222, -36.1738,-36.3258,-36.4765,-36.628, -36.779,-36.9295,-37.2261,-37.378, -37.6037,-37.7597,-37.9149,-38.1466, -38.3003,-38.4532,-38.6066,-38.7604, -38.9909,-39.1448,-39.2993,-39.5307, -39.6852,-39.8391,-39.9896,-39.9559)
FOOTPRINT_POINT_LONGITUDE = (186.197,186.003,185.764,185.54,185.167 ,184.887,184.892,184.897,184.907, 184.912,184.916,184.922,184.926,184.93, 184.937,184.941,184.945,184.949,184.954 ,184.957,184.961,184.965,184.971, 184.975,184.978,184.982,184.985,184.989 ,184.992,184.995,185.0,185.004,185.007, 185.01,185.012,185.016,185.019,185.022, 185.025,185.027,185.029,185.032,185.035 ,185.037,185.039,185.041,185.042, 185.044,185.045,185.351,185.581,185.917 ,186.238,186.481,186.592,186.589, 186.586,186.583,186.58,186.578,186.575, 186.573,186.571,186.566,186.562,186.559 ,186.556,186.553,186.55,186.546,186.542 ,186.539,186.537,186.534,186.531, 186.528,186.525,186.522,186.519,186.515 ,186.512,186.508,186.498,186.495, 186.489,186.486,186.484,186.48,186.476, 186.473,186.469,186.466,186.46,186.457, 186.453,186.448,186.444,186.441,186.437 ,186.197)
ORBIT_NUMBER = 14756
ORBITAL_ECCENTRICITY = 0.578
ORBITAL_INCLINATION = 86.92
ORBITAL_SEMIMAJOR_AXIS = 8804.48
PERIAPSIS_ALTITUDE = 329.75
PERIAPSIS_ARGUMENT_ANGLE = 314.53
PERIAPSIS_TIME = 2015-08-20T18:41:40.000Z
SPACECRAFT_ORIENTATION = (0.0,1.0,0.0)
^MEX_ORIENTATION_DESC = "MEX_ORIENTATION_DESC.TXT"
SPACECRAFT_POINTING_MODE = NADIR
^MEX_POINTING_DESC = "MEX_POINTING_DESC.TXT"
RIGHT_ASCENSION = -1e+32
DECLINATION = -1e+32
OFFSET_ANGLE = -1e+32
SPACECRAFT_SOLAR_DISTANCE = 2.43129e+08
TARGET_NAME = MARS
/* CAMERA DATA ELEMENTS */
DETECTOR_TEMPERATURE = 17.351
FOCAL_PLANE_TEMPERATURE = 8.9911
INST_CMPRS_NAME = "DISCRETE COSINE TRANSFORMATION (DCT)"
INST_CMPRS_RATIO = 6.39244
INST_CMPRS_QUALITY = 0
INST_CMPRS_QUANTZ_TBL_ID = 0
INSTRUMENT_TEMPERATURE = 11.6418
LENS_TEMPERATURE = 10.2145
MACROPIXEL_SIZE = 1
MISSING_FRAMES = 0
PIXEL_SUBSAMPLING_FLAG = N
SIGNAL_CHAIN_ID = 2
/* RADIOMETRIC DATA ELEMENTS */
BANDWIDTH = 180.0
CENTER_FILTER_WAVELENGTH = 677.0
RADIANCE_OFFSET = 1.15288
RADIANCE_SCALING_FACTOR = 0.0149074
REFLECTANCE_SCALING_FACTOR = 0.000459745
MEX:REFLECTANCE_OFFSET = 0.0355549
/* IMAGE OBJECT DEFINITIONS */
OBJECT = IMAGE
  INTERCHANGE_FORMAT = BINARY
  LINES = 36453
  LINE_SAMPLES = 6483
  SAMPLE_TYPE = UNSIGNED_INTEGER
  SAMPLE_BITS = 8
  BANDS = 1
  BAND_STORAGE_TYPE = BAND_SEQUENTIAL
  MAXIMUM = 255
  MEAN = 121.606
  MINIMUM = 1
  STANDARD_DEVIATION = 29.2088
END_OBJECT = IMAGE
/* MAP OBJECT DEFINITIONS */
OBJECT = IMAGE_MAP_PROJECTION
  ^DATA_SET_MAP_PROJECTION_CATALOG= "DSMAP.CAT"
  A_AXIS_RADIUS = 3396.0
  B_AXIS_RADIUS = 3396.0
  C_AXIS_RADIUS = 3396.0
  CENTER_LATITUDE = 0.0
  CENTER_LONGITUDE = 186.0
  COORDINATE_SYSTEM_NAME = PLANETOGRAPHIC
  COORDINATE_SYSTEM_TYPE = "BODY-FIXED ROTATING"
  EASTERNMOST_LONGITUDE = 186.592
  FIRST_STANDARD_PARALLEL = "N/A"
  LINE_FIRST_PIXEL = 1
  LINE_LAST_PIXEL = 36453
  LINE_PROJECTION_OFFSET = -153268.0
  MAP_PROJECTION_ROTATION = 0.0
  MAP_PROJECTION_TYPE = SINUSOIDAL
  MAP_RESOLUTION = 4741.71043093333
  MAP_SCALE = 0.0125
  MAXIMUM_LATITUDE = -32.3305
  MINIMUM_LATITUDE = -39.9896
  POSITIVE_LONGITUDE_DIRECTION = EAST
  REFERENCE_LATITUDE = "N/A"
  REFERENCE_LONGITUDE = "N/A"
  SAMPLE_FIRST_PIXEL = 1
  SAMPLE_LAST_PIXEL = 6483
  SAMPLE_PROJECTION_OFFSET = 4089.0
  SECOND_STANDARD_PARALLEL = "N/A"
  WESTERNMOST_LONGITUDE = 184.887
END_OBJECT = IMAGE_MAP_PROJECTION
/* The JPEG2000 image data file associated with this label. */
OBJECT = COMPRESSED_FILE
  FILE_NAME = "HE756_0000_S13.JP2"
  RECORD_TYPE = UNDEFINED
  FILE_RECORDS = UNK
  ENCODING_TYPE = "JP2"
  INTERCHANGE_FORMAT = BINARY
  UNCOMPRESSED_FILE_NAME = "HE756_0000_S13.IMG"
  REQUIRED_STORAGE_BYTES = "236357214"
  ^DESCRIPTION = "JP2INFO.TXT"
END_OBJECT = COMPRESSED_FILE
END
