PDS_VERSION_ID = PDS3
/* FILE DATA ELEMENTS */
RECORD_TYPE = STREAM
/* POINTERS TO DATA OBJECTS */
^COMPRESSED_FILE = "HE756_0000_S23.JP2"
/* IDENTIFICATION DATA ELEMENTS */
DATA_SET_ID = "MEX-M-HRSC-5-REFDR-MAPPROJECTED-V3.0"
DATA_SET_NAME = "MARS EXPRESS HRSC MAP PROJECTED REFDR V3.0"
DETECTOR_ID = MEX_HRSC_S2
EVENT_TYPE = "MARS-REGIONAL-STEREO-Im-Fl-Lc"
INSTRUMENT_HOST_ID = MEX
INSTRUMENT_HOST_NAME = "MARS EXPRESS"
INSTRUMENT_ID = HRSC
INSTRUMENT_NAME = "HIGH RESOLUTION STEREO CAMERA"
MISSION_NAME = "MARS EXPRESS"
MISSION_PHASE_NAME = ME_Phase_33
PROCESSING_LEVEL_ID = 3
PRODUCT_CREATION_TIME = 2016-10-30T02:40:36.000Z
PRODUCT_ID = "HE756_0000_S23.JP2"
RELEASE_ID = 0129
REVISION_ID = 0000
/* QUALITY DATA ELEMENTS */
DATA_QUALITY_ID = 1
DATA_QUALITY_DESC = "Data calculated based on original SPICE kernels"
/* TIME DATA ELEMENTS */
SPACECRAFT_CLOCK_START_COUNT = "1/0388176146.09051"
SPACECRAFT_CLOCK_STOP_COUNT = "1/0388176329.26452"
START_TIME = 2015-08-20T18:42:32.281Z
STOP_TIME = 2015-08-20T18:44:28.030Z
/* ORBITAL DATA ELEMENTS */
ASCENDING_NODE_LONGITUDE = 296.58
MAXIMUM_RESOLUTION = 14
FOOTPRINT_POINT_LATITUDE = (-40.0602,-40.0564,-40.0481,-40.0424, -40.0348,-39.7645,-39.6161,-39.4697, -39.3188,-39.0899,-38.9371,-38.7863, -38.6349,-38.4841,-38.2584,-38.0326, -37.882,-37.7317,-37.581,-37.4304, -37.2047,-37.0554,-36.9042,-36.6786, -36.4529,-36.3037,-36.1534,-36.0024, -35.8504,-35.6941,-35.4601,-35.2203, -35.0639,-34.9078,-34.7525,-34.5984, -34.3681,-34.2112,-33.9797,-33.747, -33.5912,-33.4374,-33.1995,-33.0405, -32.8821,-32.7264,-32.57,-32.4133, -32.3324,-32.337,-32.3411,-32.3446, -32.3508,-32.5081,-32.6654,-32.822, -32.9787,-33.1351,-33.2904,-33.4464, -33.6796,-33.9145,-34.0712,-34.2285, -34.385,-34.5427,-34.6973,-34.8537, -35.0124,-35.1685,-35.3218,-35.4769, -35.6304,-35.7868,-35.941,-36.1675, -36.3184,-36.4701,-36.6975,-36.8492, -37.0026,-37.1576,-37.315,-37.4635, -37.6158,-37.7683,-37.9149,-38.0631, -38.2123,-38.4387,-38.5896,-38.7401, -38.8901,-39.0407,-39.1909,-39.3409, -39.491,-39.716,-39.941,-40.0602)
FOOTPRINT_POINT_LONGITUDE = (186.078,185.844,185.436,185.202, 184.924,184.91,184.917,184.923,184.929, 184.935,184.94,184.945,184.95,184.954, 184.962,184.969,184.973,184.978,184.982 ,184.987,184.993,184.998,185.002, 185.008,185.014,185.018,185.022,185.026 ,185.029,185.032,185.038,185.041, 185.044,185.047,185.05,185.054,185.059, 185.062,185.067,185.071,185.074,185.077 ,185.079,185.081,185.082,185.085, 185.087,185.088,185.291,185.578,185.909 ,186.197,186.454,186.545,186.543,186.54 ,186.538,186.536,186.534,186.532, 186.529,186.526,186.523,186.521,186.518 ,186.515,186.514,186.511,186.508, 186.505,186.504,186.502,186.501,186.498 ,186.495,186.492,186.489,186.487, 186.482,186.479,186.476,186.472,186.466 ,186.465,186.461,186.458,186.457, 186.455,186.453,186.448,186.445,186.442 ,186.439,186.436,186.434,186.431, 186.428,186.423,186.419,186.078)
ORBIT_NUMBER = 14756
ORBITAL_ECCENTRICITY = 0.578
ORBITAL_INCLINATION = 86.92
ORBITAL_SEMIMAJOR_AXIS = 8804.48
PERIAPSIS_ALTITUDE = 329.75
PERIAPSIS_ARGUMENT_ANGLE = 314.53
PERIAPSIS_TIME = 2015-08-20T18:41:40.000Z
SPACECRAFT_ORIENTATION = (0.0,1.0,0.0)
^MEX_ORIENTATION_DESC = "MEX_ORIENTATION_DESC.TXT"
SPACECRAFT_POINTING_MODE = NADIR
^MEX_POINTING_DESC = "MEX_POINTING_DESC.TXT"
RIGHT_ASCENSION = -1e+32
DECLINATION = -1e+32
OFFSET_ANGLE = -1e+32
SPACECRAFT_SOLAR_DISTANCE = 2.43129e+08
TARGET_NAME = MARS
/* CAMERA DATA ELEMENTS */
DETECTOR_TEMPERATURE = 18.3705
FOCAL_PLANE_TEMPERATURE = 8.9911
INST_CMPRS_NAME = "DISCRETE COSINE TRANSFORMATION (DCT)"
INST_CMPRS_RATIO = 6.19628
INST_CMPRS_QUALITY = 0
INST_CMPRS_QUANTZ_TBL_ID = 0
INSTRUMENT_TEMPERATURE = 11.6418
LENS_TEMPERATURE = 10.2145
MACROPIXEL_SIZE = 1
MISSING_FRAMES = 0
PIXEL_SUBSAMPLING_FLAG = N
SIGNAL_CHAIN_ID = 1
/* RADIOMETRIC DATA ELEMENTS */
BANDWIDTH = 178.0
CENTER_FILTER_WAVELENGTH = 679.0
RADIANCE_OFFSET = 1.10361
RADIANCE_SCALING_FACTOR = 0.0145574
REFLECTANCE_SCALING_FACTOR = 0.000455709
MEX:REFLECTANCE_OFFSET = 0.0345477
/* IMAGE OBJECT DEFINITIONS */
OBJECT = IMAGE
  INTERCHANGE_FORMAT = BINARY
  LINES = 36453
  LINE_SAMPLES = 6483
  SAMPLE_TYPE = UNSIGNED_INTEGER
  SAMPLE_BITS = 8
  BANDS = 1
  BAND_STORAGE_TYPE = BAND_SEQUENTIAL
  MAXIMUM = 255
  MEAN = 120.798
  MINIMUM = 1
  STANDARD_DEVIATION = 27.4539
END_OBJECT = IMAGE
/* MAP OBJECT DEFINITIONS */
OBJECT = IMAGE_MAP_PROJECTION
  ^DATA_SET_MAP_PROJECTION_CATALOG= "DSMAP.CAT"
  A_AXIS_RADIUS = 3396.0
  B_AXIS_RADIUS = 3396.0
  C_AXIS_RADIUS = 3396.0
  CENTER_LATITUDE = 0.0
  CENTER_LONGITUDE = 186.0
  COORDINATE_SYSTEM_NAME = PLANETOGRAPHIC
  COORDINATE_SYSTEM_TYPE = "BODY-FIXED ROTATING"
  EASTERNMOST_LONGITUDE = 186.545
  FIRST_STANDARD_PARALLEL = "N/A"
  LINE_FIRST_PIXEL = 1
  LINE_LAST_PIXEL = 36453
  LINE_PROJECTION_OFFSET = -153268.0
  MAP_PROJECTION_ROTATION = 0.0
  MAP_PROJECTION_TYPE = SINUSOIDAL
  MAP_RESOLUTION = 4741.71043093333
  MAP_SCALE = 0.0125
  MAXIMUM_LATITUDE = -32.3324
  MINIMUM_LATITUDE = -40.0602
  POSITIVE_LONGITUDE_DIRECTION = EAST
  REFERENCE_LATITUDE = "N/A"
  REFERENCE_LONGITUDE = "N/A"
  SAMPLE_FIRST_PIXEL = 1
  SAMPLE_LAST_PIXEL = 6483
  SAMPLE_PROJECTION_OFFSET = 4089.0
  SECOND_STANDARD_PARALLEL = "N/A"
  WESTERNMOST_LONGITUDE = 184.91
END_OBJECT = IMAGE_MAP_PROJECTION
/* The JPEG2000 image data file associated with this label. */
OBJECT = COMPRESSED_FILE
  FILE_NAME = "HE756_0000_S23.JP2"
  RECORD_TYPE = UNDEFINED
  FILE_RECORDS = UNK
  ENCODING_TYPE = "JP2"
  INTERCHANGE_FORMAT = BINARY
  UNCOMPRESSED_FILE_NAME = "HE756_0000_S23.IMG"
  REQUIRED_STORAGE_BYTES = "236357214"
  ^DESCRIPTION = "JP2INFO.TXT"
END_OBJECT = COMPRESSED_FILE
END
