PDS_VERSION_ID = PDS3
/* FILE DATA ELEMENTS */
RECORD_TYPE = STREAM
/* POINTERS TO DATA OBJECTS */
^COMPRESSED_FILE = "HE762_0000_RE3.JP2"
/* IDENTIFICATION DATA ELEMENTS */
DATA_SET_ID = "MEX-M-HRSC-5-REFDR-MAPPROJECTED-V3.0"
DATA_SET_NAME = "MARS EXPRESS HRSC MAP PROJECTED REFDR V3.0"
DETECTOR_ID = MEX_HRSC_RED
EVENT_TYPE = "MARS-REGIONAL-MAPPING-Vo-Te-Pf"
INSTRUMENT_HOST_ID = MEX
INSTRUMENT_HOST_NAME = "MARS EXPRESS"
INSTRUMENT_ID = HRSC
INSTRUMENT_NAME = "HIGH RESOLUTION STEREO CAMERA"
MISSION_NAME = "MARS EXPRESS"
MISSION_PHASE_NAME = ME_Phase_33
PROCESSING_LEVEL_ID = 3
PRODUCT_CREATION_TIME = 2016-10-30T02:40:36.000Z
PRODUCT_ID = "HE762_0000_RE3.JP2"
RELEASE_ID = 0129
REVISION_ID = 0000
/* QUALITY DATA ELEMENTS */
DATA_QUALITY_ID = 1
DATA_QUALITY_DESC = "Data calculated based on original SPICE kernels"
/* TIME DATA ELEMENTS */
SPACECRAFT_CLOCK_START_COUNT = "1/0388327404.08264"
SPACECRAFT_CLOCK_STOP_COUNT = "1/0388327576.06673"
START_TIME = 2015-08-22T12:43:36.418Z
STOP_TIME = 2015-08-22T12:44:59.234Z
/* ORBITAL DATA ELEMENTS */
ASCENDING_NODE_LONGITUDE = 296.47
MAXIMUM_RESOLUTION = 129.8
FOOTPRINT_POINT_LATITUDE = (-26.6008,-26.601,-26.6004,-26.5992, -26.5978,-26.596,-26.5363,-26.3811, -26.2259,-26.1224,-25.9673,-25.8638, -25.7087,-25.5536,-25.4501,-25.2953, -25.192,-25.0371,-24.8822,-24.779, -24.6243,-24.5212,-24.418,-24.2634, -24.1604,-24.0568,-23.951,-23.8452, -23.6866,-23.5282,-23.4225,-23.317, -23.1585,-23.0002,-22.8947,-22.7868, -22.6784,-22.5703,-22.408,-22.2458, -22.1378,-21.9759,-21.8141,-21.7054, -21.5947,-21.4284,-21.318,-21.2074, -21.1904,-21.191,-21.1919,-21.1924, -21.1927,-21.1915,-21.1911,-21.1904, -21.1897,-21.1885,-21.3005,-21.4664, -21.5768,-21.6877,-21.797,-21.9048, -22.0669,-22.2292,-22.3917,-22.5543, -22.6626,-22.7709,-22.8792,-22.9849, -23.0906,-23.2491,-23.4079,-23.5138, -23.6198,-23.7787,-23.9376,-24.0962, -24.1996,-24.3029,-24.4579,-24.6123, -24.7674,-24.9226,-25.0262,-25.1816, -25.3365,-25.4399,-25.5953,-25.6989, -25.8026,-25.9579,-26.1133,-26.2169, -26.3724,-26.4761,-26.5798,-26.6008)
FOOTPRINT_POINT_LONGITUDE = (292.83,292.647,292.365,292.125,291.941 ,291.758,291.523,291.522,291.522, 291.521,291.52,291.52,291.519,291.518, 291.517,291.516,291.516,291.514,291.513 ,291.512,291.511,291.51,291.509,291.508 ,291.507,291.506,291.505,291.504, 291.502,291.501,291.5,291.499,291.497, 291.495,291.494,291.492,291.491,291.489 ,291.487,291.485,291.484,291.482, 291.479,291.478,291.476,291.474,291.472 ,291.47,291.604,291.755,291.891,292.011 ,292.132,292.313,292.54,292.676,292.796 ,292.963,293.078,293.076,293.076, 293.075,293.074,293.073,293.072,293.071 ,293.069,293.068,293.067,293.066, 293.065,293.064,293.063,293.062,293.061 ,293.06,293.059,293.057,293.056,293.054 ,293.053,293.052,293.051,293.05,293.048 ,293.047,293.046,293.044,293.043, 293.042,293.04,293.039,293.038,293.036, 293.035,293.034,293.032,293.031,293.03, 292.83)
ORBIT_NUMBER = 14762
ORBITAL_ECCENTRICITY = 0.578
ORBITAL_INCLINATION = 86.91
ORBITAL_SEMIMAJOR_AXIS = 8805.52
PERIAPSIS_ALTITUDE = 329.61
PERIAPSIS_ARGUMENT_ANGLE = 313.52
PERIAPSIS_TIME = 2015-08-22T12:39:01.000Z
SPACECRAFT_ORIENTATION = (0.0,1.0,0.0)
^MEX_ORIENTATION_DESC = "MEX_ORIENTATION_DESC.TXT"
SPACECRAFT_POINTING_MODE = NADIR
^MEX_POINTING_DESC = "MEX_POINTING_DESC.TXT"
RIGHT_ASCENSION = -1e+32
DECLINATION = -1e+32
OFFSET_ANGLE = -1e+32
SPACECRAFT_SOLAR_DISTANCE = 2.43351e+08
TARGET_NAME = MARS
/* CAMERA DATA ELEMENTS */
DETECTOR_TEMPERATURE = 18.9822
FOCAL_PLANE_TEMPERATURE = 7.7677
INST_CMPRS_NAME = "DISCRETE COSINE TRANSFORMATION (DCT)"
INST_CMPRS_RATIO = 15.9823
INST_CMPRS_QUALITY = 0
INST_CMPRS_QUANTZ_TBL_ID = 0
INSTRUMENT_TEMPERATURE = 11.8457
LENS_TEMPERATURE = 8.1755
MACROPIXEL_SIZE = 8
MISSING_FRAMES = 0
PIXEL_SUBSAMPLING_FLAG = N
SIGNAL_CHAIN_ID = 2
/* RADIOMETRIC DATA ELEMENTS */
BANDWIDTH = 48.0
CENTER_FILTER_WAVELENGTH = 748.0
RADIANCE_OFFSET = 0.330522
RADIANCE_SCALING_FACTOR = 0.00430661
REFLECTANCE_SCALING_FACTOR = 0.000582007
MEX:REFLECTANCE_OFFSET = 0.0446676
/* IMAGE OBJECT DEFINITIONS */
OBJECT = IMAGE
  INTERCHANGE_FORMAT = BINARY
  LINES = 3206
  LINE_SAMPLES = 982
  SAMPLE_TYPE = UNSIGNED_INTEGER
  SAMPLE_BITS = 8
  BANDS = 1
  BAND_STORAGE_TYPE = BAND_SEQUENTIAL
  MAXIMUM = 255
  MEAN = 122.15
  MINIMUM = 1
  STANDARD_DEVIATION = 17.6895
END_OBJECT = IMAGE
/* MAP OBJECT DEFINITIONS */
OBJECT = IMAGE_MAP_PROJECTION
  ^DATA_SET_MAP_PROJECTION_CATALOG= "DSMAP.CAT"
  A_AXIS_RADIUS = 3396.0
  B_AXIS_RADIUS = 3396.0
  C_AXIS_RADIUS = 3396.0
  CENTER_LATITUDE = 0.0
  CENTER_LONGITUDE = 292.0
  COORDINATE_SYSTEM_NAME = PLANETOGRAPHIC
  COORDINATE_SYSTEM_TYPE = "BODY-FIXED ROTATING"
  EASTERNMOST_LONGITUDE = 293.078
  FIRST_STANDARD_PARALLEL = "N/A"
  LINE_FIRST_PIXEL = 1
  LINE_LAST_PIXEL = 3206
  LINE_PROJECTION_OFFSET = -12551.5625
  MAP_PROJECTION_ROTATION = 0.0
  MAP_PROJECTION_TYPE = SINUSOIDAL
  MAP_RESOLUTION = 592.713803866667
  MAP_SCALE = 0.1
  MAXIMUM_LATITUDE = -21.1885
  MINIMUM_LATITUDE = -26.601
  POSITIVE_LONGITUDE_DIRECTION = EAST
  REFERENCE_LATITUDE = "N/A"
  REFERENCE_LONGITUDE = "N/A"
  SAMPLE_FIRST_PIXEL = 1
  SAMPLE_LAST_PIXEL = 982
  SAMPLE_PROJECTION_OFFSET = 343.3125
  SECOND_STANDARD_PARALLEL = "N/A"
  WESTERNMOST_LONGITUDE = 291.47
END_OBJECT = IMAGE_MAP_PROJECTION
/* The JPEG2000 image data file associated with this label. */
OBJECT = COMPRESSED_FILE
  FILE_NAME = "HE762_0000_RE3.JP2"
  RECORD_TYPE = UNDEFINED
  FILE_RECORDS = UNK
  ENCODING_TYPE = "JP2"
  INTERCHANGE_FORMAT = BINARY
  UNCOMPRESSED_FILE_NAME = "HE762_0000_RE3.IMG"
  REQUIRED_STORAGE_BYTES = "3166950"
  ^DESCRIPTION = "JP2INFO.TXT"
END_OBJECT = COMPRESSED_FILE
END
