PDS_VERSION_ID = PDS3
/* FILE DATA ELEMENTS */
RECORD_TYPE = STREAM
/* POINTERS TO DATA OBJECTS */
^COMPRESSED_FILE = "HE762_0000_S23.JP2"
/* IDENTIFICATION DATA ELEMENTS */
DATA_SET_ID = "MEX-M-HRSC-5-REFDR-MAPPROJECTED-V3.0"
DATA_SET_NAME = "MARS EXPRESS HRSC MAP PROJECTED REFDR V3.0"
DETECTOR_ID = MEX_HRSC_S2
EVENT_TYPE = "MARS-REGIONAL-MAPPING-Vo-Te-Pf"
INSTRUMENT_HOST_ID = MEX
INSTRUMENT_HOST_NAME = "MARS EXPRESS"
INSTRUMENT_ID = HRSC
INSTRUMENT_NAME = "HIGH RESOLUTION STEREO CAMERA"
MISSION_NAME = "MARS EXPRESS"
MISSION_PHASE_NAME = ME_Phase_33
PROCESSING_LEVEL_ID = 3
PRODUCT_CREATION_TIME = 2016-10-30T02:40:36.000Z
PRODUCT_ID = "HE762_0000_S23.JP2"
RELEASE_ID = 0129
REVISION_ID = 0000
/* QUALITY DATA ELEMENTS */
DATA_QUALITY_ID = 1
DATA_QUALITY_DESC = "Data calculated based on original SPICE kernels"
/* TIME DATA ELEMENTS */
SPACECRAFT_CLOCK_START_COUNT = "1/0388327404.08264"
SPACECRAFT_CLOCK_STOP_COUNT = "1/0388327576.06673"
START_TIME = 2015-08-22T12:43:30.304Z
STOP_TIME = 2015-08-22T12:44:52.446Z
/* ORBITAL DATA ELEMENTS */
ASCENDING_NODE_LONGITUDE = 296.47
MAXIMUM_RESOLUTION = 32.8
FOOTPRINT_POINT_LATITUDE = (-26.6167,-26.6169,-26.6168,-26.6165, -26.6158,-26.6151,-26.6142,-26.6132, -26.6119,-26.6104,-26.5508,-26.4442, -26.2847,-26.1784,-26.0187,-25.8591, -25.6997,-25.5934,-25.4338,-25.2746, -25.1683,-25.009,-24.8496,-24.6904, -24.5842,-24.4251,-24.266,-24.1599, -24.0009,-23.842,-23.736,-23.5746, -23.4115,-23.2484,-23.1397,-22.9767, -22.868,-22.7049,-22.542,-22.4327, -22.3214,-22.1544,-22.0431,-21.8764, -21.7099,-21.5986,-21.4871,-21.376, -21.2638,-21.1995,-21.2003,-21.2016, -21.2026,-21.2016,-21.2003,-21.2022, -21.2015,-21.2006,-21.1993,-21.2554, -21.3679,-21.5346,-21.7013,-21.8125, -21.9792,-22.1463,-22.3137,-22.4253, -22.535,-22.6436,-22.8067,-22.9699, -23.0788,-23.2418,-23.4053,-23.569, -23.7311,-23.8902,-23.9965,-24.156, -24.2624,-24.369,-24.4753,-24.5807, -24.687,-24.7934,-24.9533,-25.0599, -25.1662,-25.3257,-25.4854,-25.5918, -25.6985,-25.8582,-26.0179,-26.1778, -26.2843,-26.4441,-26.604,-26.6167)
FOOTPRINT_POINT_LONGITUDE = (292.837,292.691,292.574,292.457, 292.281,292.164,292.047,291.93,291.813, 291.681,291.514,291.514,291.513,291.513 ,291.512,291.511,291.51,291.51,291.508, 291.508,291.507,291.506,291.504,291.503 ,291.502,291.501,291.5,291.499,291.497, 291.496,291.495,291.493,291.491,291.489 ,291.488,291.486,291.485,291.483, 291.481,291.479,291.478,291.476,291.474 ,291.472,291.47,291.468,291.466,291.465 ,291.463,291.524,291.696,291.868, 292.009,292.133,292.258,292.43,292.555, 292.727,292.914,293.075,293.075,293.073 ,293.072,293.072,293.07,293.069,293.068 ,293.067,293.066,293.065,293.064, 293.062,293.062,293.06,293.059,293.057, 293.056,293.055,293.054,293.052,293.051 ,293.05,293.049,293.048,293.047,293.046 ,293.045,293.044,293.043,293.041,293.04 ,293.039,293.038,293.036,293.035, 293.033,293.032,293.03,293.029,292.837)
ORBIT_NUMBER = 14762
ORBITAL_ECCENTRICITY = 0.578
ORBITAL_INCLINATION = 86.91
ORBITAL_SEMIMAJOR_AXIS = 8805.52
PERIAPSIS_ALTITUDE = 329.61
PERIAPSIS_ARGUMENT_ANGLE = 313.52
PERIAPSIS_TIME = 2015-08-22T12:39:01.000Z
SPACECRAFT_ORIENTATION = (0.0,1.0,0.0)
^MEX_ORIENTATION_DESC = "MEX_ORIENTATION_DESC.TXT"
SPACECRAFT_POINTING_MODE = NADIR
^MEX_POINTING_DESC = "MEX_POINTING_DESC.TXT"
RIGHT_ASCENSION = -1e+32
DECLINATION = -1e+32
OFFSET_ANGLE = -1e+32
SPACECRAFT_SOLAR_DISTANCE = 2.43351e+08
TARGET_NAME = MARS
/* CAMERA DATA ELEMENTS */
DETECTOR_TEMPERATURE = 18.9822
FOCAL_PLANE_TEMPERATURE = 7.7677
INST_CMPRS_NAME = "DISCRETE COSINE TRANSFORMATION (DCT)"
INST_CMPRS_RATIO = 10.9331
INST_CMPRS_QUALITY = 0
INST_CMPRS_QUANTZ_TBL_ID = 0
INSTRUMENT_TEMPERATURE = 11.8457
LENS_TEMPERATURE = 8.1755
MACROPIXEL_SIZE = 2
MISSING_FRAMES = 0
PIXEL_SUBSAMPLING_FLAG = N
SIGNAL_CHAIN_ID = 1
/* RADIOMETRIC DATA ELEMENTS */
BANDWIDTH = 178.0
CENTER_FILTER_WAVELENGTH = 679.0
RADIANCE_OFFSET = 1.24181
RADIANCE_SCALING_FACTOR = 0.0159377
REFLECTANCE_SCALING_FACTOR = 0.000499828
MEX:REFLECTANCE_OFFSET = 0.0389449
/* IMAGE OBJECT DEFINITIONS */
OBJECT = IMAGE
  INTERCHANGE_FORMAT = BINARY
  LINES = 12824
  LINE_SAMPLES = 3927
  SAMPLE_TYPE = UNSIGNED_INTEGER
  SAMPLE_BITS = 8
  BANDS = 1
  BAND_STORAGE_TYPE = BAND_SEQUENTIAL
  MAXIMUM = 255
  MEAN = 124.648
  MINIMUM = 1
  STANDARD_DEVIATION = 17.369
END_OBJECT = IMAGE
/* MAP OBJECT DEFINITIONS */
OBJECT = IMAGE_MAP_PROJECTION
  ^DATA_SET_MAP_PROJECTION_CATALOG= "DSMAP.CAT"
  A_AXIS_RADIUS = 3396.0
  B_AXIS_RADIUS = 3396.0
  C_AXIS_RADIUS = 3396.0
  CENTER_LATITUDE = 0.0
  CENTER_LONGITUDE = 292.0
  COORDINATE_SYSTEM_NAME = PLANETOGRAPHIC
  COORDINATE_SYSTEM_TYPE = "BODY-FIXED ROTATING"
  EASTERNMOST_LONGITUDE = 293.075
  FIRST_STANDARD_PARALLEL = "N/A"
  LINE_FIRST_PIXEL = 1
  LINE_LAST_PIXEL = 12824
  LINE_PROJECTION_OFFSET = -50204.75
  MAP_PROJECTION_ROTATION = 0.0
  MAP_PROJECTION_TYPE = SINUSOIDAL
  MAP_RESOLUTION = 2370.85521546667
  MAP_SCALE = 0.025
  MAXIMUM_LATITUDE = -21.1993
  MINIMUM_LATITUDE = -26.6169
  POSITIVE_LONGITUDE_DIRECTION = EAST
  REFERENCE_LATITUDE = "N/A"
  REFERENCE_LONGITUDE = "N/A"
  SAMPLE_FIRST_PIXEL = 1
  SAMPLE_LAST_PIXEL = 3927
  SAMPLE_PROJECTION_OFFSET = 1374.75
  SECOND_STANDARD_PARALLEL = "N/A"
  WESTERNMOST_LONGITUDE = 291.463
END_OBJECT = IMAGE_MAP_PROJECTION
/* The JPEG2000 image data file associated with this label. */
OBJECT = COMPRESSED_FILE
  FILE_NAME = "HE762_0000_S23.JP2"
  RECORD_TYPE = UNDEFINED
  FILE_RECORDS = UNK
  ENCODING_TYPE = "JP2"
  INTERCHANGE_FORMAT = BINARY
  UNCOMPRESSED_FILE_NAME = "HE762_0000_S23.IMG"
  REQUIRED_STORAGE_BYTES = "50383410"
  ^DESCRIPTION = "JP2INFO.TXT"
END_OBJECT = COMPRESSED_FILE
END
