PDS_VERSION_ID = PDS3
/* FILE DATA ELEMENTS */
RECORD_TYPE = STREAM
/* POINTERS TO DATA OBJECTS */
^COMPRESSED_FILE = "HE763_0000_S13.JP2"
/* IDENTIFICATION DATA ELEMENTS */
DATA_SET_ID = "MEX-M-HRSC-5-REFDR-MAPPROJECTED-V3.0"
DATA_SET_NAME = "MARS EXPRESS HRSC MAP PROJECTED REFDR V3.0"
DETECTOR_ID = MEX_HRSC_S1
EVENT_TYPE = "MARS-REGIONAL-MAPPING-Fl-Lc-La"
INSTRUMENT_HOST_ID = MEX
INSTRUMENT_HOST_NAME = "MARS EXPRESS"
INSTRUMENT_ID = HRSC
INSTRUMENT_NAME = "HIGH RESOLUTION STEREO CAMERA"
MISSION_NAME = "MARS EXPRESS"
MISSION_PHASE_NAME = ME_Phase_33
PROCESSING_LEVEL_ID = 3
PRODUCT_CREATION_TIME = 2016-10-30T02:40:36.000Z
PRODUCT_ID = "HE763_0000_S13.JP2"
RELEASE_ID = 0129
REVISION_ID = 0000
/* QUALITY DATA ELEMENTS */
DATA_QUALITY_ID = 1
DATA_QUALITY_DESC = "Data calculated based on original SPICE kernels"
/* TIME DATA ELEMENTS */
SPACECRAFT_CLOCK_START_COUNT = "1/0388352186.09052"
SPACECRAFT_CLOCK_STOP_COUNT = "1/0388352339.33990"
START_TIME = 2015-08-22T19:37:33.071Z
STOP_TIME = 2015-08-22T19:39:03.643Z
/* ORBITAL DATA ELEMENTS */
ASCENDING_NODE_LONGITUDE = 296.45
MAXIMUM_RESOLUTION = 27.9
FOOTPRINT_POINT_LATITUDE = (-52.1814,-52.1759,-52.1718,-52.1647, -52.1529,-52.1441,-52.1366,-52.1865, -52.0673,-51.888,-51.7704,-51.652, -51.5333,-51.3559,-51.1791,-51.0614, -50.8834,-50.7644,-50.5866,-50.4087, -50.2901,-50.1715,-50.0527,-49.8746, -49.6965,-49.5778,-49.4595,-49.3409, -49.2221,-49.0445,-48.9261,-48.7483, -48.6296,-48.5112,-48.3921,-48.2737, -48.155,-48.035,-47.9168,-47.7987, -47.6803,-47.5001,-47.3801,-47.262, -47.145,-47.0253,-46.908,-46.7319, -46.6157,-46.4974,-46.3198,-46.2436, -46.2488,-46.2567,-46.2625,-46.2725, -46.2772,-46.2809,-46.4005,-46.5793, -46.7567,-46.9339,-47.0532,-47.1718, -47.3496,-47.4681,-47.5862,-47.7046, -47.8235,-47.9421,-48.0613,-48.1801, -48.3581,-48.4765,-48.5953,-48.7733, -48.892,-49.0112,-49.13,-49.3084, -49.4275,-49.5462,-49.6652,-49.8437, -50.0222,-50.1412,-50.3197,-50.4983, -50.6171,-50.7361,-50.9147,-51.0335, -51.1524,-51.2703,-51.4478,-51.6261, -51.745,-51.9225,-52.0408,-52.1814)
FOOTPRINT_POINT_LONGITUDE = (190.109,189.878,189.718,189.451, 189.041,188.757,188.526,188.235,188.248 ,188.268,188.279,188.291,188.303, 188.321,188.338,188.349,188.366,188.378 ,188.395,188.411,188.422,188.433, 188.444,188.46,188.476,188.486,188.497, 188.507,188.517,188.532,188.542,188.556 ,188.566,188.575,188.585,188.594, 188.604,188.614,188.623,188.632,188.641 ,188.655,188.665,188.673,188.681,188.69 ,188.698,188.71,188.717,188.725,188.737 ,188.952,189.178,189.403,189.596, 189.887,190.13,190.41,190.406,190.4, 190.393,190.386,190.382,190.377,190.37, 190.366,190.361,190.356,190.351,190.346 ,190.342,190.337,190.329,190.324, 190.319,190.311,190.306,190.301,190.295 ,190.287,190.282,190.276,190.271, 190.263,190.254,190.248,190.24,190.231, 190.225,190.219,190.21,190.203,190.197, 190.19,190.18,190.171,190.164,190.154, 190.147,190.109)
ORBIT_NUMBER = 14763
ORBITAL_ECCENTRICITY = 0.578
ORBITAL_INCLINATION = 86.92
ORBITAL_SEMIMAJOR_AXIS = 8802.61
PERIAPSIS_ALTITUDE = 329.62
PERIAPSIS_ARGUMENT_ANGLE = 313.34
PERIAPSIS_TIME = 2015-08-22T19:38:30.000Z
SPACECRAFT_ORIENTATION = (0.0,1.0,0.0)
^MEX_ORIENTATION_DESC = "MEX_ORIENTATION_DESC.TXT"
SPACECRAFT_POINTING_MODE = NADIR
^MEX_POINTING_DESC = "MEX_POINTING_DESC.TXT"
RIGHT_ASCENSION = -1e+32
DECLINATION = -1e+32
OFFSET_ANGLE = -1e+32
SPACECRAFT_SOLAR_DISTANCE = 2.43387e+08
TARGET_NAME = MARS
/* CAMERA DATA ELEMENTS */
DETECTOR_TEMPERATURE = 17.5549
FOCAL_PLANE_TEMPERATURE = 8.3794
INST_CMPRS_NAME = "DISCRETE COSINE TRANSFORMATION (DCT)"
INST_CMPRS_RATIO = 8.81706
INST_CMPRS_QUALITY = 0
INST_CMPRS_QUANTZ_TBL_ID = 0
INSTRUMENT_TEMPERATURE = 11.4379
LENS_TEMPERATURE = 8.5833
MACROPIXEL_SIZE = 2
MISSING_FRAMES = 0
PIXEL_SUBSAMPLING_FLAG = N
SIGNAL_CHAIN_ID = 1
/* RADIOMETRIC DATA ELEMENTS */
BANDWIDTH = 180.0
CENTER_FILTER_WAVELENGTH = 677.0
RADIANCE_OFFSET = 1.54156
RADIANCE_SCALING_FACTOR = 0.00765743
REFLECTANCE_SCALING_FACTOR = 0.000236657
MEX:REFLECTANCE_OFFSET = 0.0476428
/* IMAGE OBJECT DEFINITIONS */
OBJECT = IMAGE
  INTERCHANGE_FORMAT = BINARY
  LINES = 14234
  LINE_SAMPLES = 3480
  SAMPLE_TYPE = UNSIGNED_INTEGER
  SAMPLE_BITS = 8
  BANDS = 1
  BAND_STORAGE_TYPE = BAND_SEQUENTIAL
  MAXIMUM = 255
  MEAN = 113.002
  MINIMUM = 1
  STANDARD_DEVIATION = 22.3475
END_OBJECT = IMAGE
/* MAP OBJECT DEFINITIONS */
OBJECT = IMAGE_MAP_PROJECTION
  ^DATA_SET_MAP_PROJECTION_CATALOG= "DSMAP.CAT"
  A_AXIS_RADIUS = 3396.0
  B_AXIS_RADIUS = 3396.0
  C_AXIS_RADIUS = 3396.0
  CENTER_LATITUDE = 0.0
  CENTER_LONGITUDE = 189.0
  COORDINATE_SYSTEM_NAME = PLANETOGRAPHIC
  COORDINATE_SYSTEM_TYPE = "BODY-FIXED ROTATING"
  EASTERNMOST_LONGITUDE = 190.41
  FIRST_STANDARD_PARALLEL = "N/A"
  LINE_FIRST_PIXEL = 1
  LINE_LAST_PIXEL = 14234
  LINE_PROJECTION_OFFSET = -109680.75
  MAP_PROJECTION_ROTATION = 0.0
  MAP_PROJECTION_TYPE = SINUSOIDAL
  MAP_RESOLUTION = 2370.85521546667
  MAP_SCALE = 0.025
  MAXIMUM_LATITUDE = -46.2436
  MINIMUM_LATITUDE = -52.1865
  POSITIVE_LONGITUDE_DIRECTION = EAST
  REFERENCE_LATITUDE = "N/A"
  REFERENCE_LONGITUDE = "N/A"
  SAMPLE_FIRST_PIXEL = 1
  SAMPLE_LAST_PIXEL = 3480
  SAMPLE_PROJECTION_OFFSET = 1154.75
  SECOND_STANDARD_PARALLEL = "N/A"
  WESTERNMOST_LONGITUDE = 188.235
END_OBJECT = IMAGE_MAP_PROJECTION
/* The JPEG2000 image data file associated with this label. */
OBJECT = COMPRESSED_FILE
  FILE_NAME = "HE763_0000_S13.JP2"
  RECORD_TYPE = UNDEFINED
  FILE_RECORDS = UNK
  ENCODING_TYPE = "JP2"
  INTERCHANGE_FORMAT = BINARY
  UNCOMPRESSED_FILE_NAME = "HE763_0000_S13.IMG"
  REQUIRED_STORAGE_BYTES = "49558680"
  ^DESCRIPTION = "JP2INFO.TXT"
END_OBJECT = COMPRESSED_FILE
END
