PDS_VERSION_ID = PDS3
/* FILE DATA ELEMENTS */
RECORD_TYPE = STREAM
/* POINTERS TO DATA OBJECTS */
^COMPRESSED_FILE = "HE763_0000_S23.JP2"
/* IDENTIFICATION DATA ELEMENTS */
DATA_SET_ID = "MEX-M-HRSC-5-REFDR-MAPPROJECTED-V3.0"
DATA_SET_NAME = "MARS EXPRESS HRSC MAP PROJECTED REFDR V3.0"
DETECTOR_ID = MEX_HRSC_S2
EVENT_TYPE = "MARS-REGIONAL-MAPPING-Fl-Lc-La"
INSTRUMENT_HOST_ID = MEX
INSTRUMENT_HOST_NAME = "MARS EXPRESS"
INSTRUMENT_ID = HRSC
INSTRUMENT_NAME = "HIGH RESOLUTION STEREO CAMERA"
MISSION_NAME = "MARS EXPRESS"
MISSION_PHASE_NAME = ME_Phase_33
PROCESSING_LEVEL_ID = 3
PRODUCT_CREATION_TIME = 2016-10-30T02:40:36.000Z
PRODUCT_ID = "HE763_0000_S23.JP2"
RELEASE_ID = 0129
REVISION_ID = 0000
/* QUALITY DATA ELEMENTS */
DATA_QUALITY_ID = 1
DATA_QUALITY_DESC = "Data calculated based on original SPICE kernels"
/* TIME DATA ELEMENTS */
SPACECRAFT_CLOCK_START_COUNT = "1/0388352186.09052"
SPACECRAFT_CLOCK_STOP_COUNT = "1/0388352339.33990"
START_TIME = 2015-08-22T19:36:32.293Z
STOP_TIME = 2015-08-22T19:38:04.657Z
/* ORBITAL DATA ELEMENTS */
ASCENDING_NODE_LONGITUDE = 296.45
MAXIMUM_RESOLUTION = 27.9
FOOTPRINT_POINT_LATITUDE = (-52.3456,-52.3399,-52.3351,-52.3266, -52.3196,-52.3094,-52.2982,-52.2915, -52.2157,-52.0987,-51.9804,-51.8607, -51.7396,-51.6195,-51.4394,-51.3183, -51.1971,-51.0156,-50.8351,-50.6555, -50.4744,-50.3578,-50.2411,-50.0661, -49.8912,-49.7162,-49.5994,-49.4823, -49.307,-49.1901,-49.0728,-48.9557, -48.7801,-48.6629,-48.5458,-48.3704, -48.195,-48.0203,-47.9028,-47.7851, -47.6109,-47.4374,-47.2606,-47.1415, -47.0254,-46.9073,-46.7878,-46.6684, -46.5499,-46.433,-46.2763,-46.2901, -46.2984,-46.3022,-46.3037,-46.3093, -46.3146,-46.436,-46.5523,-46.6707, -46.7889,-46.9662,-47.1427,-47.2608, -47.3787,-47.497,-47.6744,-47.7922, -47.9687,-48.204,-48.3217,-48.4398, -48.5574,-48.7339,-48.9103,-49.0278, -49.2038,-49.38,-49.4973,-49.6733, -49.7906,-49.9077,-50.0834,-50.2006, -50.3762,-50.4933,-50.673,-50.7938, -50.9149,-51.0961,-51.2174,-51.3394, -51.4605,-51.6416,-51.7631,-51.884, -52.005,-52.1254,-52.2459,-52.3456)
FOOTPRINT_POINT_LONGITUDE = (190.128,189.888,189.703,189.408, 189.187,188.892,188.597,188.431,188.198 ,188.212,188.226,188.239,188.252, 188.265,188.284,188.297,188.309,188.327 ,188.346,188.364,188.382,188.393, 188.404,188.421,188.438,188.455,188.465 ,188.476,188.492,188.503,188.513, 188.523,188.538,188.549,188.559,188.574 ,188.588,188.603,188.613,188.622, 188.637,188.651,188.665,188.673,188.683 ,188.691,188.7,188.708,188.716,188.725, 188.736,189.043,189.334,189.592,189.738 ,190.046,190.273,190.405,190.402, 190.398,190.394,190.388,190.382,190.378 ,190.374,190.369,190.363,190.359, 190.352,190.344,190.339,190.335,190.33, 190.323,190.316,190.312,190.305,190.298 ,190.293,190.285,190.281,190.276, 190.268,190.263,190.255,190.25,190.242, 190.236,190.231,190.222,190.216,190.21, 190.204,190.195,190.189,190.182,190.176 ,190.17,190.164,190.128)
ORBIT_NUMBER = 14763
ORBITAL_ECCENTRICITY = 0.578
ORBITAL_INCLINATION = 86.92
ORBITAL_SEMIMAJOR_AXIS = 8802.61
PERIAPSIS_ALTITUDE = 329.62
PERIAPSIS_ARGUMENT_ANGLE = 313.34
PERIAPSIS_TIME = 2015-08-22T19:38:30.000Z
SPACECRAFT_ORIENTATION = (0.0,1.0,0.0)
^MEX_ORIENTATION_DESC = "MEX_ORIENTATION_DESC.TXT"
SPACECRAFT_POINTING_MODE = NADIR
^MEX_POINTING_DESC = "MEX_POINTING_DESC.TXT"
RIGHT_ASCENSION = -1e+32
DECLINATION = -1e+32
OFFSET_ANGLE = -1e+32
SPACECRAFT_SOLAR_DISTANCE = 2.43387e+08
TARGET_NAME = MARS
/* CAMERA DATA ELEMENTS */
DETECTOR_TEMPERATURE = 18.3705
FOCAL_PLANE_TEMPERATURE = 8.3794
INST_CMPRS_NAME = "DISCRETE COSINE TRANSFORMATION (DCT)"
INST_CMPRS_RATIO = 11.4273
INST_CMPRS_QUALITY = 0
INST_CMPRS_QUANTZ_TBL_ID = 0
INSTRUMENT_TEMPERATURE = 11.4379
LENS_TEMPERATURE = 8.5833
MACROPIXEL_SIZE = 2
MISSING_FRAMES = 0
PIXEL_SUBSAMPLING_FLAG = N
SIGNAL_CHAIN_ID = 1
/* RADIOMETRIC DATA ELEMENTS */
BANDWIDTH = 178.0
CENTER_FILTER_WAVELENGTH = 679.0
RADIANCE_OFFSET = 1.60544
RADIANCE_SCALING_FACTOR = 0.00709959
REFLECTANCE_SCALING_FACTOR = 0.000222721
MEX:REFLECTANCE_OFFSET = 0.0503643
/* IMAGE OBJECT DEFINITIONS */
OBJECT = IMAGE
  INTERCHANGE_FORMAT = BINARY
  LINES = 14234
  LINE_SAMPLES = 3480
  SAMPLE_TYPE = UNSIGNED_INTEGER
  SAMPLE_BITS = 8
  BANDS = 1
  BAND_STORAGE_TYPE = BAND_SEQUENTIAL
  MAXIMUM = 255
  MEAN = 108.777
  MINIMUM = 1
  STANDARD_DEVIATION = 26.286
END_OBJECT = IMAGE
/* MAP OBJECT DEFINITIONS */
OBJECT = IMAGE_MAP_PROJECTION
  ^DATA_SET_MAP_PROJECTION_CATALOG= "DSMAP.CAT"
  A_AXIS_RADIUS = 3396.0
  B_AXIS_RADIUS = 3396.0
  C_AXIS_RADIUS = 3396.0
  CENTER_LATITUDE = 0.0
  CENTER_LONGITUDE = 189.0
  COORDINATE_SYSTEM_NAME = PLANETOGRAPHIC
  COORDINATE_SYSTEM_TYPE = "BODY-FIXED ROTATING"
  EASTERNMOST_LONGITUDE = 190.405
  FIRST_STANDARD_PARALLEL = "N/A"
  LINE_FIRST_PIXEL = 1
  LINE_LAST_PIXEL = 14234
  LINE_PROJECTION_OFFSET = -109680.75
  MAP_PROJECTION_ROTATION = 0.0
  MAP_PROJECTION_TYPE = SINUSOIDAL
  MAP_RESOLUTION = 2370.85521546667
  MAP_SCALE = 0.025
  MAXIMUM_LATITUDE = -46.2763
  MINIMUM_LATITUDE = -52.3456
  POSITIVE_LONGITUDE_DIRECTION = EAST
  REFERENCE_LATITUDE = "N/A"
  REFERENCE_LONGITUDE = "N/A"
  SAMPLE_FIRST_PIXEL = 1
  SAMPLE_LAST_PIXEL = 3480
  SAMPLE_PROJECTION_OFFSET = 1154.75
  SECOND_STANDARD_PARALLEL = "N/A"
  WESTERNMOST_LONGITUDE = 188.198
END_OBJECT = IMAGE_MAP_PROJECTION
/* The JPEG2000 image data file associated with this label. */
OBJECT = COMPRESSED_FILE
  FILE_NAME = "HE763_0000_S23.JP2"
  RECORD_TYPE = UNDEFINED
  FILE_RECORDS = UNK
  ENCODING_TYPE = "JP2"
  INTERCHANGE_FORMAT = BINARY
  UNCOMPRESSED_FILE_NAME = "HE763_0000_S23.IMG"
  REQUIRED_STORAGE_BYTES = "49558680"
  ^DESCRIPTION = "JP2INFO.TXT"
END_OBJECT = COMPRESSED_FILE
END
