PDS_VERSION_ID = PDS3
/* FILE DATA ELEMENTS */
RECORD_TYPE = STREAM
/* POINTERS TO DATA OBJECTS */
^COMPRESSED_FILE = "HE766_0000_S23.JP2"
/* IDENTIFICATION DATA ELEMENTS */
DATA_SET_ID = "MEX-M-HRSC-5-REFDR-MAPPROJECTED-V3.0"
DATA_SET_NAME = "MARS EXPRESS HRSC MAP PROJECTED REFDR V3.0"
DETECTOR_ID = MEX_HRSC_S2
EVENT_TYPE = "MARS-REGIONAL-MAPPING-Im-Fl-Pf"
INSTRUMENT_HOST_ID = MEX
INSTRUMENT_HOST_NAME = "MARS EXPRESS"
INSTRUMENT_ID = HRSC
INSTRUMENT_NAME = "HIGH RESOLUTION STEREO CAMERA"
MISSION_NAME = "MARS EXPRESS"
MISSION_PHASE_NAME = ME_Phase_33
PROCESSING_LEVEL_ID = 3
PRODUCT_CREATION_TIME = 2016-10-30T02:40:36.000Z
PRODUCT_ID = "HE766_0000_S23.JP2"
RELEASE_ID = 0129
REVISION_ID = 0000
/* QUALITY DATA ELEMENTS */
DATA_QUALITY_ID = 1
DATA_QUALITY_DESC = "Data calculated based on original SPICE kernels"
/* TIME DATA ELEMENTS */
SPACECRAFT_CLOCK_START_COUNT = "1/0388427649.07334"
SPACECRAFT_CLOCK_STOP_COUNT = "1/0388427805.64826"
START_TIME = 2015-08-23T16:34:15.292Z
STOP_TIME = 2015-08-23T16:35:50.671Z
/* ORBITAL DATA ELEMENTS */
ASCENDING_NODE_LONGITUDE = 296.4
MAXIMUM_RESOLUTION = 28.3
FOOTPRINT_POINT_LATITUDE = (-56.3112,-56.2939,-56.2849,-56.2718, -56.2576,-56.2422,-56.0503,-55.8727, -55.752,-55.5713,-55.4501,-55.3296, -55.2088,-55.0876,-54.9671,-54.7869, -54.6666,-54.5453,-54.4176,-54.2316, -54.1102,-53.9882,-53.8669,-53.7457, -53.6244,-53.505,-53.3309,-53.2107, -53.0885,-52.9667,-52.8447,-52.7229, -52.6039,-52.4821,-52.2988,-52.1782, -52.056,-51.8697,-51.7438,-51.6211, -51.4985,-51.3145,-51.1938,-51.0156, -50.8373,-50.5995,-50.4206,-50.2419, -50.1226,-50.1293,-50.1427,-50.152, -50.1617,-50.1683,-50.1736,-50.2959, -50.415,-50.5348,-50.7144,-50.8932, -51.0124,-51.132,-51.2511,-51.372, -51.5565,-51.6795,-51.864,-51.9871, -52.1716,-52.2934,-52.4161,-52.5386, -52.6612,-52.7835,-52.906,-53.0281, -53.1505,-53.2727,-53.4557,-53.5777, -53.7,-53.8217,-53.9429,-54.0646, -54.2467,-54.3681,-54.4897,-54.6111, -54.7929,-54.9143,-55.0961,-55.217, -55.3983,-55.58,-55.7013,-55.8231, -56.0049,-56.125,-56.2465,-56.3112)
FOOTPRINT_POINT_LONGITUDE = (242.819,242.27,242.017,241.68,241.343, 241.006,240.908,240.937,240.955,240.983 ,241.0,241.018,241.036,241.053,241.07, 241.096,241.113,241.13,241.144,241.167, 241.183,241.199,241.215,241.231,241.247 ,241.263,241.289,241.305,241.319, 241.334,241.349,241.364,241.379,241.394 ,241.415,241.429,241.443,241.463, 241.475,241.488,241.502,241.521,241.534 ,241.553,241.571,241.595,241.613,241.63 ,241.642,241.907,242.278,242.56,242.896 ,243.162,243.374,243.464,243.459, 243.453,243.445,243.437,243.431,243.426 ,243.42,243.414,243.406,243.4,243.391, 243.384,243.375,243.369,243.363,243.357 ,243.35,243.344,243.338,243.331,243.325 ,243.318,243.308,243.301,243.294, 243.288,243.281,243.274,243.264,243.257 ,243.25,243.243,243.232,243.224,243.213 ,243.206,243.195,243.183,243.175, 243.166,243.154,243.146,243.138, 242.819)
ORBIT_NUMBER = 14766
ORBITAL_ECCENTRICITY = 0.578
ORBITAL_INCLINATION = 86.91
ORBITAL_SEMIMAJOR_AXIS = 8805.38
PERIAPSIS_ALTITUDE = 328.72
PERIAPSIS_ARGUMENT_ANGLE = 312.8
PERIAPSIS_TIME = 2015-08-23T16:37:07.000Z
SPACECRAFT_ORIENTATION = (0.0,1.0,0.0)
^MEX_ORIENTATION_DESC = "MEX_ORIENTATION_DESC.TXT"
SPACECRAFT_POINTING_MODE = NADIR
^MEX_POINTING_DESC = "MEX_POINTING_DESC.TXT"
RIGHT_ASCENSION = -1e+32
DECLINATION = -1e+32
OFFSET_ANGLE = -1e+32
SPACECRAFT_SOLAR_DISTANCE = 2.43497e+08
TARGET_NAME = MARS
/* CAMERA DATA ELEMENTS */
DETECTOR_TEMPERATURE = 18.3705
FOCAL_PLANE_TEMPERATURE = 7.9716
INST_CMPRS_NAME = "DISCRETE COSINE TRANSFORMATION (DCT)"
INST_CMPRS_RATIO = 16.0688
INST_CMPRS_QUALITY = 0
INST_CMPRS_QUANTZ_TBL_ID = 0
INSTRUMENT_TEMPERATURE = 11.6418
LENS_TEMPERATURE = 9.3989
MACROPIXEL_SIZE = 2
MISSING_FRAMES = 0
PIXEL_SUBSAMPLING_FLAG = N
SIGNAL_CHAIN_ID = 1
/* RADIOMETRIC DATA ELEMENTS */
BANDWIDTH = 178.0
CENTER_FILTER_WAVELENGTH = 679.0
RADIANCE_OFFSET = 1.16139
RADIANCE_SCALING_FACTOR = 0.00709959
REFLECTANCE_SCALING_FACTOR = 0.00022292
MEX:REFLECTANCE_OFFSET = 0.0364664
/* IMAGE OBJECT DEFINITIONS */
OBJECT = IMAGE
  INTERCHANGE_FORMAT = BINARY
  LINES = 14520
  LINE_SAMPLES = 3650
  SAMPLE_TYPE = UNSIGNED_INTEGER
  SAMPLE_BITS = 8
  BANDS = 1
  BAND_STORAGE_TYPE = BAND_SEQUENTIAL
  MAXIMUM = 255
  MEAN = 100.443
  MINIMUM = 5
  STANDARD_DEVIATION = 32.6606
END_OBJECT = IMAGE
/* MAP OBJECT DEFINITIONS */
OBJECT = IMAGE_MAP_PROJECTION
  ^DATA_SET_MAP_PROJECTION_CATALOG= "DSMAP.CAT"
  A_AXIS_RADIUS = 3396.0
  B_AXIS_RADIUS = 3396.0
  C_AXIS_RADIUS = 3396.0
  CENTER_LATITUDE = 0.0
  CENTER_LONGITUDE = 242.0
  COORDINATE_SYSTEM_NAME = PLANETOGRAPHIC
  COORDINATE_SYSTEM_TYPE = "BODY-FIXED ROTATING"
  EASTERNMOST_LONGITUDE = 243.464
  FIRST_STANDARD_PARALLEL = "N/A"
  LINE_FIRST_PIXEL = 1
  LINE_LAST_PIXEL = 14520
  LINE_PROJECTION_OFFSET = -118774.75
  MAP_PROJECTION_ROTATION = 0.0
  MAP_PROJECTION_TYPE = SINUSOIDAL
  MAP_RESOLUTION = 2370.85521546667
  MAP_SCALE = 0.025
  MAXIMUM_LATITUDE = -50.1226
  MINIMUM_LATITUDE = -56.3112
  POSITIVE_LONGITUDE_DIRECTION = EAST
  REFERENCE_LATITUDE = "N/A"
  REFERENCE_LONGITUDE = "N/A"
  SAMPLE_FIRST_PIXEL = 1
  SAMPLE_LAST_PIXEL = 3650
  SAMPLE_PROJECTION_OFFSET = 1438.25
  SECOND_STANDARD_PARALLEL = "N/A"
  WESTERNMOST_LONGITUDE = 240.908
END_OBJECT = IMAGE_MAP_PROJECTION
/* The JPEG2000 image data file associated with this label. */
OBJECT = COMPRESSED_FILE
  FILE_NAME = "HE766_0000_S23.JP2"
  RECORD_TYPE = UNDEFINED
  FILE_RECORDS = UNK
  ENCODING_TYPE = "JP2"
  INTERCHANGE_FORMAT = BINARY
  UNCOMPRESSED_FILE_NAME = "HE766_0000_S23.IMG"
  REQUIRED_STORAGE_BYTES = "53019900"
  ^DESCRIPTION = "JP2INFO.TXT"
END_OBJECT = COMPRESSED_FILE
END
