PDS_VERSION_ID = PDS3
/* FILE DATA ELEMENTS */
RECORD_TYPE = STREAM
/* POINTERS TO DATA OBJECTS */
^COMPRESSED_FILE = "HE771_0000_S13.JP2"
/* IDENTIFICATION DATA ELEMENTS */
DATA_SET_ID = "MEX-M-HRSC-5-REFDR-MAPPROJECTED-V3.0"
DATA_SET_NAME = "MARS EXPRESS HRSC MAP PROJECTED REFDR V3.0"
DETECTOR_ID = MEX_HRSC_S1
EVENT_TYPE = "MARS-REGIONAL-MAPPING-Vo-Te-Fl"
INSTRUMENT_HOST_ID = MEX
INSTRUMENT_HOST_NAME = "MARS EXPRESS"
INSTRUMENT_ID = HRSC
INSTRUMENT_NAME = "HIGH RESOLUTION STEREO CAMERA"
MISSION_NAME = "MARS EXPRESS"
MISSION_PHASE_NAME = ME_Phase_33
PROCESSING_LEVEL_ID = 3
PRODUCT_CREATION_TIME = 2016-10-30T02:40:36.000Z
PRODUCT_ID = "HE771_0000_S13.JP2"
RELEASE_ID = 0129
REVISION_ID = 0000
/* QUALITY DATA ELEMENTS */
DATA_QUALITY_ID = 1
DATA_QUALITY_DESC = "Data calculated based on original SPICE kernels"
/* TIME DATA ELEMENTS */
SPACECRAFT_CLOCK_START_COUNT = "1/0388553872.08250"
SPACECRAFT_CLOCK_STOP_COUNT = "1/0388554023.13627"
START_TIME = 2015-08-25T03:39:05.056Z
STOP_TIME = 2015-08-25T03:40:27.406Z
/* ORBITAL DATA ELEMENTS */
ASCENDING_NODE_LONGITUDE = 296.3
MAXIMUM_RESOLUTION = 32.4
FOOTPRINT_POINT_LATITUDE = (-33.913,-33.9138,-33.9145,-33.9152, -33.9158,-33.9163,-33.9168,-33.9172, -33.9176,-33.9179,-33.9181,-33.9183, -33.9179,-33.8186,-33.7195,-33.5705, -33.421,-33.3214,-33.172,-33.0727, -32.9234,-32.8242,-32.725,-32.5759, -32.4272,-32.3281,-32.2292,-32.0806, -31.982,-31.8835,-31.7847,-31.6362, -31.5381,-31.4395,-31.2919,-31.1451, -30.9493,-30.7537,-30.6556,-30.5572, -30.3627,-30.1673,-29.9738,-29.7772, -29.6781,-29.5298,-29.4308,-29.3307, -29.1809,-28.9943,-28.9941,-28.9902, -28.9886,-28.9877,-28.9862,-28.9837, -28.9824,-28.9819,-28.9816,-28.9798, -29.1279,-29.2265,-29.3252,-29.4245, -29.524,-29.6246,-29.7247,-29.8742, -30.0689,-30.3607,-30.5561,-30.75, -30.8484,-30.9464,-31.0942,-31.1924, -31.2908,-31.3893,-31.488,-31.5863, -31.6852,-31.7845,-31.9328,-32.0312, -32.1802,-32.2793,-32.3782,-32.477, -32.6262,-32.7255,-32.875,-32.9746, -33.0741,-33.2235,-33.3227,-33.4724, -33.5725,-33.7257,-33.8277,-33.913)
FOOTPRINT_POINT_LONGITUDE = (92.1753,92.0542,91.9329,91.8114, 91.6896,91.5676,91.4454,91.3231,91.2006 ,91.0777,90.9545,90.8311,90.6593, 90.6606,90.6618,90.6639,90.6661,90.6676 ,90.6699,90.6712,90.6734,90.6747,90.676 ,90.6781,90.68,90.6812,90.6824,90.6842, 90.6852,90.6861,90.6872,90.689,90.6897, 90.6908,90.6921,90.6931,90.6944,90.6956 ,90.6964,90.6974,90.6981,90.6993, 90.6996,90.7001,90.7001,90.7,90.7, 90.7006,90.7013,90.7494,90.8646,91.014, 91.1781,91.2927,91.4397,91.6842,91.8144 ,91.9443,92.1552,92.3495,92.3845, 92.3822,92.38,92.3779,92.3759,92.374, 92.3719,92.3688,92.3647,92.3583,92.3541 ,92.3494,92.3474,92.3452,92.3421,92.34, 92.3378,92.3356,92.3335,92.3312,92.3291 ,92.327,92.3236,92.3213,92.318,92.3158, 92.3135,92.3111,92.3077,92.3053,92.3019 ,92.2996,92.2972,92.2936,92.2911, 92.2875,92.2851,92.2821,92.28,92.1753)
ORBIT_NUMBER = 14771
ORBITAL_ECCENTRICITY = 0.578
ORBITAL_INCLINATION = 86.92
ORBITAL_SEMIMAJOR_AXIS = 8805.02
PERIAPSIS_ALTITUDE = 328.45
PERIAPSIS_ARGUMENT_ANGLE = 311.96
PERIAPSIS_TIME = 2015-08-25T03:34:57.000Z
SPACECRAFT_ORIENTATION = (0.0,1.0,0.0)
^MEX_ORIENTATION_DESC = "MEX_ORIENTATION_DESC.TXT"
SPACECRAFT_POINTING_MODE = ACROSSTRACK
^MEX_POINTING_DESC = "MEX_POINTING_DESC.TXT"
RIGHT_ASCENSION = -1e+32
DECLINATION = -1e+32
OFFSET_ANGLE = 0.3
SPACECRAFT_SOLAR_DISTANCE = 2.43677e+08
TARGET_NAME = MARS
/* CAMERA DATA ELEMENTS */
DETECTOR_TEMPERATURE = 17.7588
FOCAL_PLANE_TEMPERATURE = 8.3794
INST_CMPRS_NAME = "DISCRETE COSINE TRANSFORMATION (DCT)"
INST_CMPRS_RATIO = 9.09521
INST_CMPRS_QUALITY = 0
INST_CMPRS_QUANTZ_TBL_ID = 0
INSTRUMENT_TEMPERATURE = 11.6418
LENS_TEMPERATURE = 8.7872
MACROPIXEL_SIZE = 2
MISSING_FRAMES = 0
PIXEL_SUBSAMPLING_FLAG = N
SIGNAL_CHAIN_ID = 1
/* RADIOMETRIC DATA ELEMENTS */
BANDWIDTH = 180.0
CENTER_FILTER_WAVELENGTH = 677.0
RADIANCE_OFFSET = 2.25053
RADIANCE_SCALING_FACTOR = 0.0106836
REFLECTANCE_SCALING_FACTOR = 0.00033097
MEX:REFLECTANCE_OFFSET = 0.0697195
/* IMAGE OBJECT DEFINITIONS */
OBJECT = IMAGE
  INTERCHANGE_FORMAT = BINARY
  LINES = 11829
  LINE_SAMPLES = 3449
  SAMPLE_TYPE = UNSIGNED_INTEGER
  SAMPLE_BITS = 8
  BANDS = 1
  BAND_STORAGE_TYPE = BAND_SEQUENTIAL
  MAXIMUM = 255
  MEAN = 146.786
  MINIMUM = 1
  STANDARD_DEVIATION = 15.4294
END_OBJECT = IMAGE
/* MAP OBJECT DEFINITIONS */
OBJECT = IMAGE_MAP_PROJECTION
  ^DATA_SET_MAP_PROJECTION_CATALOG= "DSMAP.CAT"
  A_AXIS_RADIUS = 3396.0
  B_AXIS_RADIUS = 3396.0
  C_AXIS_RADIUS = 3396.0
  CENTER_LATITUDE = 0.0
  CENTER_LONGITUDE = 92.0
  COORDINATE_SYSTEM_NAME = PLANETOGRAPHIC
  COORDINATE_SYSTEM_TYPE = "BODY-FIXED ROTATING"
  EASTERNMOST_LONGITUDE = 92.3845
  FIRST_STANDARD_PARALLEL = "N/A"
  LINE_FIRST_PIXEL = 1
  LINE_LAST_PIXEL = 11829
  LINE_PROJECTION_OFFSET = -68717.25
  MAP_PROJECTION_ROTATION = 0.0
  MAP_PROJECTION_TYPE = SINUSOIDAL
  MAP_RESOLUTION = 2370.85521546667
  MAP_SCALE = 0.025
  MAXIMUM_LATITUDE = -28.9798
  MINIMUM_LATITUDE = -33.9183
  POSITIVE_LONGITUDE_DIRECTION = EAST
  REFERENCE_LATITUDE = "N/A"
  REFERENCE_LONGITUDE = "N/A"
  SAMPLE_FIRST_PIXEL = 1
  SAMPLE_LAST_PIXEL = 3449
  SAMPLE_PROJECTION_OFFSET = 2705.25
  SECOND_STANDARD_PARALLEL = "N/A"
  WESTERNMOST_LONGITUDE = 90.6593
END_OBJECT = IMAGE_MAP_PROJECTION
/* The JPEG2000 image data file associated with this label. */
OBJECT = COMPRESSED_FILE
  FILE_NAME = "HE771_0000_S13.JP2"
  RECORD_TYPE = UNDEFINED
  FILE_RECORDS = UNK
  ENCODING_TYPE = "JP2"
  INTERCHANGE_FORMAT = BINARY
  UNCOMPRESSED_FILE_NAME = "HE771_0000_S13.IMG"
  REQUIRED_STORAGE_BYTES = "40822364"
  ^DESCRIPTION = "JP2INFO.TXT"
END_OBJECT = COMPRESSED_FILE
END
