PDS_VERSION_ID = PDS3
/* FILE DATA ELEMENTS */
RECORD_TYPE = STREAM
/* POINTERS TO DATA OBJECTS */
^COMPRESSED_FILE = "HE777_0000_ND3.JP2"
/* IDENTIFICATION DATA ELEMENTS */
DATA_SET_ID = "MEX-M-HRSC-5-REFDR-MAPPROJECTED-V3.0"
DATA_SET_NAME = "MARS EXPRESS HRSC MAP PROJECTED REFDR V3.0"
DETECTOR_ID = MEX_HRSC_NADIR
EVENT_TYPE = "MARS-REGIONAL-MAPPING-Im-Fl-Pf"
INSTRUMENT_HOST_ID = MEX
INSTRUMENT_HOST_NAME = "MARS EXPRESS"
INSTRUMENT_ID = HRSC
INSTRUMENT_NAME = "HIGH RESOLUTION STEREO CAMERA"
MISSION_NAME = "MARS EXPRESS"
MISSION_PHASE_NAME = ME_Phase_33
PROCESSING_LEVEL_ID = 3
PRODUCT_CREATION_TIME = 2016-10-30T02:40:36.000Z
PRODUCT_ID = "HE777_0000_ND3.JP2"
RELEASE_ID = 0129
REVISION_ID = 0000
/* QUALITY DATA ELEMENTS */
DATA_QUALITY_ID = 1
DATA_QUALITY_DESC = "Data calculated based on original SPICE kernels"
/* TIME DATA ELEMENTS */
SPACECRAFT_CLOCK_START_COUNT = "1/0388704806.09066"
SPACECRAFT_CLOCK_STOP_COUNT = "1/0388704974.07501"
START_TIME = 2015-08-26T21:34:02.060Z
STOP_TIME = 2015-08-26T21:35:44.060Z
/* ORBITAL DATA ELEMENTS */
ASCENDING_NODE_LONGITUDE = 296.19
MAXIMUM_RESOLUTION = 13.4
FOOTPRINT_POINT_LATITUDE = (-41.91,-41.9045,-41.897,-41.8885, -41.7514,-41.4935,-41.2357,-41.1038, -40.9706,-40.8375,-40.7044,-40.5714, -40.4384,-40.3054,-40.1724,-40.0395, -39.9067,-39.7739,-39.6411,-39.5084, -39.3756,-39.2429,-39.1102,-38.9776, -38.845,-38.7124,-38.5798,-38.4473, -38.3149,-38.1824,-38.05,-37.9177, -37.7854,-37.6532,-37.5209,-37.3888, -37.2566,-37.1245,-36.9925,-36.8605, -36.7285,-36.5967,-36.4648,-36.3329, -36.2011,-35.9377,-35.6746,-35.4115, -35.2716,-35.2747,-35.2783,-35.2826, -35.2849,-35.2865,-35.2881,-35.5515, -35.8151,-35.9469,-36.0788,-36.2108, -36.3428,-36.4749,-36.607,-36.7392, -36.8714,-37.0697,-37.202,-37.3343, -37.4667,-37.5992,-37.7317,-37.8642, -37.9967,-38.1293,-38.262,-38.3947, -38.5274,-38.6601,-38.7929,-38.9258, -39.0586,-39.1915,-39.3245,-39.4575, -39.657,-39.79,-39.9231,-40.0563, -40.1894,-40.3227,-40.4559,-40.5892, -40.7225,-40.8558,-40.9892,-41.1226, -41.2551,-41.4488,-41.7072,-41.91)
FOOTPRINT_POINT_LONGITUDE = (198.686,198.336,197.942,197.562, 197.283,197.294,197.304,197.309,197.313 ,197.318,197.323,197.328,197.332, 197.337,197.342,197.347,197.352,197.357 ,197.362,197.367,197.371,197.375,197.38 ,197.384,197.388,197.391,197.395, 197.399,197.402,197.406,197.409,197.413 ,197.416,197.42,197.423,197.426,197.429 ,197.432,197.435,197.437,197.44,197.444 ,197.447,197.449,197.451,197.456, 197.462,197.466,197.59,197.773,198.016, 198.366,198.594,198.791,199.012,199.007 ,199.001,198.999,198.996,198.993,198.99 ,198.987,198.984,198.981,198.978, 198.975,198.973,198.97,198.967,198.963, 198.96,198.957,198.954,198.951,198.948, 198.945,198.942,198.94,198.937,198.934, 198.931,198.928,198.925,198.922,198.917 ,198.915,198.912,198.909,198.905,198.9, 198.897,198.894,198.891,198.888,198.884 ,198.879,198.875,198.869,198.861, 198.686)
ORBIT_NUMBER = 14777
ORBITAL_ECCENTRICITY = 0.578
ORBITAL_INCLINATION = 86.92
ORBITAL_SEMIMAJOR_AXIS = 8798.61
PERIAPSIS_ALTITUDE = 329.23
PERIAPSIS_ARGUMENT_ANGLE = 310.96
PERIAPSIS_TIME = 2015-08-26T21:32:15.000Z
SPACECRAFT_ORIENTATION = (0.0,1.0,0.0)
^MEX_ORIENTATION_DESC = "MEX_ORIENTATION_DESC.TXT"
SPACECRAFT_POINTING_MODE = NADIR
^MEX_POINTING_DESC = "MEX_POINTING_DESC.TXT"
RIGHT_ASCENSION = -1e+32
DECLINATION = -1e+32
OFFSET_ANGLE = -1e+32
SPACECRAFT_SOLAR_DISTANCE = 2.43889e+08
TARGET_NAME = MARS
/* CAMERA DATA ELEMENTS */
DETECTOR_TEMPERATURE = 18.3705
FOCAL_PLANE_TEMPERATURE = 8.1755
INST_CMPRS_NAME = "DISCRETE COSINE TRANSFORMATION (DCT)"
INST_CMPRS_RATIO = 5.25254
INST_CMPRS_QUALITY = 0
INST_CMPRS_QUANTZ_TBL_ID = 0
INSTRUMENT_TEMPERATURE = 11.4379
LENS_TEMPERATURE = 8.5833
MACROPIXEL_SIZE = 1
MISSING_FRAMES = 0
PIXEL_SUBSAMPLING_FLAG = N
SIGNAL_CHAIN_ID = 0
/* RADIOMETRIC DATA ELEMENTS */
BANDWIDTH = 177.0
CENTER_FILTER_WAVELENGTH = 677.5
RADIANCE_OFFSET = 1.19505
RADIANCE_SCALING_FACTOR = 0.0136689
REFLECTANCE_SCALING_FACTOR = 0.000431921
MEX:REFLECTANCE_OFFSET = 0.0377622
/* IMAGE OBJECT DEFINITIONS */
OBJECT = IMAGE
  INTERCHANGE_FORMAT = BINARY
  LINES = 31495
  LINE_SAMPLES = 6677
  SAMPLE_TYPE = UNSIGNED_INTEGER
  SAMPLE_BITS = 8
  BANDS = 1
  BAND_STORAGE_TYPE = BAND_SEQUENTIAL
  MAXIMUM = 255
  MEAN = 114.127
  MINIMUM = 1
  STANDARD_DEVIATION = 20.1606
END_OBJECT = IMAGE
/* MAP OBJECT DEFINITIONS */
OBJECT = IMAGE_MAP_PROJECTION
  ^DATA_SET_MAP_PROJECTION_CATALOG= "DSMAP.CAT"
  A_AXIS_RADIUS = 3396.0
  B_AXIS_RADIUS = 3396.0
  C_AXIS_RADIUS = 3396.0
  CENTER_LATITUDE = 0.0
  CENTER_LONGITUDE = 198.0
  COORDINATE_SYSTEM_NAME = PLANETOGRAPHIC
  COORDINATE_SYSTEM_TYPE = "BODY-FIXED ROTATING"
  EASTERNMOST_LONGITUDE = 199.012
  FIRST_STANDARD_PARALLEL = "N/A"
  LINE_FIRST_PIXEL = 1
  LINE_LAST_PIXEL = 31495
  LINE_PROJECTION_OFFSET = -167241.0
  MAP_PROJECTION_ROTATION = 0.0
  MAP_PROJECTION_TYPE = SINUSOIDAL
  MAP_RESOLUTION = 4741.71043093333
  MAP_SCALE = 0.0125
  MAXIMUM_LATITUDE = -35.2716
  MINIMUM_LATITUDE = -41.91
  POSITIVE_LONGITUDE_DIRECTION = EAST
  REFERENCE_LATITUDE = "N/A"
  REFERENCE_LONGITUDE = "N/A"
  SAMPLE_FIRST_PIXEL = 1
  SAMPLE_LAST_PIXEL = 6677
  SAMPLE_PROJECTION_OFFSET = 2629.0
  SECOND_STANDARD_PARALLEL = "N/A"
  WESTERNMOST_LONGITUDE = 197.283
END_OBJECT = IMAGE_MAP_PROJECTION
/* The JPEG2000 image data file associated with this label. */
OBJECT = COMPRESSED_FILE
  FILE_NAME = "HE777_0000_ND3.JP2"
  RECORD_TYPE = UNDEFINED
  FILE_RECORDS = UNK
  ENCODING_TYPE = "JP2"
  INTERCHANGE_FORMAT = BINARY
  UNCOMPRESSED_FILE_NAME = "HE777_0000_ND3.IMG"
  REQUIRED_STORAGE_BYTES = "210325500"
  ^DESCRIPTION = "JP2INFO.TXT"
END_OBJECT = COMPRESSED_FILE
END
