PDS_VERSION_ID = PDS3
/* FILE DATA ELEMENTS */
RECORD_TYPE = STREAM
/* POINTERS TO DATA OBJECTS */
^COMPRESSED_FILE = "HE784_0000_ND3.JP2"
/* IDENTIFICATION DATA ELEMENTS */
DATA_SET_ID = "MEX-M-HRSC-5-REFDR-MAPPROJECTED-V3.0"
DATA_SET_NAME = "MARS EXPRESS HRSC MAP PROJECTED REFDR V3.0"
DETECTOR_ID = MEX_HRSC_NADIR
EVENT_TYPE = "MARS-LOCAL-CARTOGRAPHY-Pf-Tc-Ot"
INSTRUMENT_HOST_ID = MEX
INSTRUMENT_HOST_NAME = "MARS EXPRESS"
INSTRUMENT_ID = HRSC
INSTRUMENT_NAME = "HIGH RESOLUTION STEREO CAMERA"
MISSION_NAME = "MARS EXPRESS"
MISSION_PHASE_NAME = ME_Phase_33
PROCESSING_LEVEL_ID = 3
PRODUCT_CREATION_TIME = 2016-10-30T02:40:36.000Z
PRODUCT_ID = "HE784_0000_ND3.JP2"
RELEASE_ID = 0129
REVISION_ID = 0000
/* QUALITY DATA ELEMENTS */
DATA_QUALITY_ID = 1
DATA_QUALITY_DESC = "Data calculated based on original SPICE kernels"
/* TIME DATA ELEMENTS */
SPACECRAFT_CLOCK_START_COUNT = "1/0388880968.08252"
SPACECRAFT_CLOCK_STOP_COUNT = "1/0388881066.58182"
START_TIME = 2015-08-28T22:30:03.564Z
STOP_TIME = 2015-08-28T22:30:40.555Z
/* ORBITAL DATA ELEMENTS */
ASCENDING_NODE_LONGITUDE = 296.06
MAXIMUM_RESOLUTION = 13.1
FOOTPRINT_POINT_LATITUDE = (-46.2745,-46.2721,-46.2702,-46.2675, -46.2647,-46.2621,-46.259,-46.2545, -46.251,-46.2465,-46.2418,-46.2374, -46.2333,-46.1851,-46.137,-46.0888, -46.0407,-45.9925,-45.9203,-45.8721, -45.824,-45.7758,-45.7036,-45.6555, -45.5833,-45.5351,-45.4389,-45.3667, -45.2704,-45.1983,-45.1021,-45.0058, -44.9337,-44.8135,-44.7173,-44.6452, -44.525,-44.4047,-44.3086,-44.2124, -44.1403,-44.0201,-43.924,-43.8519, -43.818,-43.822,-43.8242,-43.8271, -43.8307,-43.8334,-43.8359,-43.8384, -43.842,-43.8442,-43.8466,-43.8482, -43.8501,-43.8514,-43.9242,-44.0205, -44.0687,-44.141,-44.2133,-44.2614, -44.3096,-44.3578,-44.4301,-44.4783, -44.5265,-44.5747,-44.6469,-44.6951, -44.7674,-44.8156,-44.8638,-44.9362, -45.0085,-45.0567,-45.105,-45.1532, -45.2014,-45.2738,-45.322,-45.3703, -45.4426,-45.515,-45.5632,-45.6115, -45.6839,-45.7321,-45.7804,-45.8286, -45.8769,-45.9493,-46.0217,-46.07, -46.1182,-46.1907,-46.2631,-46.2745)
FOOTPRINT_POINT_LONGITUDE = (202.718,202.59,202.495,202.367,202.24, 202.128,202.0,201.825,201.697,201.538, 201.378,201.234,201.139,201.142,201.145 ,201.148,201.151,201.154,201.159, 201.162,201.164,201.167,201.172,201.175 ,201.179,201.182,201.188,201.192, 201.198,201.203,201.209,201.214,201.219 ,201.227,201.233,201.237,201.244,201.25 ,201.255,201.26,201.264,201.27,201.275, 201.279,201.36,201.503,201.582,201.694, 201.836,201.947,202.058,202.169,202.344 ,202.455,202.582,202.677,202.788, 202.867,202.887,202.884,202.882,202.879 ,202.876,202.874,202.873,202.871, 202.869,202.867,202.865,202.864,202.863 ,202.861,202.86,202.858,202.856,202.854 ,202.851,202.849,202.847,202.845, 202.844,202.841,202.839,202.837,202.834 ,202.832,202.83,202.828,202.825,202.823 ,202.821,202.819,202.817,202.814, 202.812,202.81,202.808,202.805,202.802, 202.718)
ORBIT_NUMBER = 14784
ORBITAL_ECCENTRICITY = 0.578
ORBITAL_INCLINATION = 86.92
ORBITAL_SEMIMAJOR_AXIS = 8796.64
PERIAPSIS_ALTITUDE = 329.12
PERIAPSIS_ARGUMENT_ANGLE = 309.77
PERIAPSIS_TIME = 2015-08-28T22:29:05.000Z
SPACECRAFT_ORIENTATION = (0.0,1.0,0.0)
^MEX_ORIENTATION_DESC = "MEX_ORIENTATION_DESC.TXT"
SPACECRAFT_POINTING_MODE = ACROSSTRACK
^MEX_POINTING_DESC = "MEX_POINTING_DESC.TXT"
RIGHT_ASCENSION = -1e+32
DECLINATION = -1e+32
OFFSET_ANGLE = 0.05
SPACECRAFT_SOLAR_DISTANCE = 2.44133e+08
TARGET_NAME = MARS
/* CAMERA DATA ELEMENTS */
DETECTOR_TEMPERATURE = 18.1666
FOCAL_PLANE_TEMPERATURE = 8.1755
INST_CMPRS_NAME = "DISCRETE COSINE TRANSFORMATION (DCT)"
INST_CMPRS_RATIO = 5.26188
INST_CMPRS_QUALITY = 0
INST_CMPRS_QUANTZ_TBL_ID = 0
INSTRUMENT_TEMPERATURE = 11.6418
LENS_TEMPERATURE = 9.195
MACROPIXEL_SIZE = 1
MISSING_FRAMES = 0
PIXEL_SUBSAMPLING_FLAG = N
SIGNAL_CHAIN_ID = 0
/* RADIOMETRIC DATA ELEMENTS */
BANDWIDTH = 177.0
CENTER_FILTER_WAVELENGTH = 677.5
RADIANCE_OFFSET = 0.857558
RADIANCE_SCALING_FACTOR = 0.0146625
REFLECTANCE_SCALING_FACTOR = 0.000464246
MEX:REFLECTANCE_OFFSET = 0.027152
/* IMAGE OBJECT DEFINITIONS */
OBJECT = IMAGE
  INTERCHANGE_FORMAT = BINARY
  LINES = 11659
  LINE_SAMPLES = 6051
  SAMPLE_TYPE = UNSIGNED_INTEGER
  SAMPLE_BITS = 8
  BANDS = 1
  BAND_STORAGE_TYPE = BAND_SEQUENTIAL
  MAXIMUM = 255
  MEAN = 104.85
  MINIMUM = 1
  STANDARD_DEVIATION = 17.6146
END_OBJECT = IMAGE
/* MAP OBJECT DEFINITIONS */
OBJECT = IMAGE_MAP_PROJECTION
  ^DATA_SET_MAP_PROJECTION_CATALOG= "DSMAP.CAT"
  A_AXIS_RADIUS = 3396.0
  B_AXIS_RADIUS = 3396.0
  C_AXIS_RADIUS = 3396.0
  CENTER_LATITUDE = 0.0
  CENTER_LONGITUDE = 202.0
  COORDINATE_SYSTEM_NAME = PLANETOGRAPHIC
  COORDINATE_SYSTEM_TYPE = "BODY-FIXED ROTATING"
  EASTERNMOST_LONGITUDE = 202.887
  FIRST_STANDARD_PARALLEL = "N/A"
  LINE_FIRST_PIXEL = 1
  LINE_LAST_PIXEL = 11659
  LINE_PROJECTION_OFFSET = -207768.0
  MAP_PROJECTION_ROTATION = 0.0
  MAP_PROJECTION_TYPE = SINUSOIDAL
  MAP_RESOLUTION = 4741.71043093333
  MAP_SCALE = 0.0125
  MAXIMUM_LATITUDE = -43.818
  MINIMUM_LATITUDE = -46.2745
  POSITIVE_LONGITUDE_DIRECTION = EAST
  REFERENCE_LATITUDE = "N/A"
  REFERENCE_LONGITUDE = "N/A"
  SAMPLE_FIRST_PIXEL = 1
  SAMPLE_LAST_PIXEL = 6051
  SAMPLE_PROJECTION_OFFSET = 2916.0
  SECOND_STANDARD_PARALLEL = "N/A"
  WESTERNMOST_LONGITUDE = 201.139
END_OBJECT = IMAGE_MAP_PROJECTION
/* The JPEG2000 image data file associated with this label. */
OBJECT = COMPRESSED_FILE
  FILE_NAME = "HE784_0000_ND3.JP2"
  RECORD_TYPE = UNDEFINED
  FILE_RECORDS = UNK
  ENCODING_TYPE = "JP2"
  INTERCHANGE_FORMAT = BINARY
  UNCOMPRESSED_FILE_NAME = "HE784_0000_ND3.IMG"
  REQUIRED_STORAGE_BYTES = "70578864"
  ^DESCRIPTION = "JP2INFO.TXT"
END_OBJECT = COMPRESSED_FILE
END
