PDS_VERSION_ID = PDS3
/* FILE DATA ELEMENTS */
RECORD_TYPE = STREAM
/* POINTERS TO DATA OBJECTS */
^COMPRESSED_FILE = "HE787_0000_ND3.JP2"
/* IDENTIFICATION DATA ELEMENTS */
DATA_SET_ID = "MEX-M-HRSC-5-REFDR-MAPPROJECTED-V3.0"
DATA_SET_NAME = "MARS EXPRESS HRSC MAP PROJECTED REFDR V3.0"
DETECTOR_ID = MEX_HRSC_NADIR
EVENT_TYPE = "MARS-REGIONAL-MAPPING-Vo-Te-Im"
INSTRUMENT_HOST_ID = MEX
INSTRUMENT_HOST_NAME = "MARS EXPRESS"
INSTRUMENT_ID = HRSC
INSTRUMENT_NAME = "HIGH RESOLUTION STEREO CAMERA"
MISSION_NAME = "MARS EXPRESS"
MISSION_PHASE_NAME = ME_Phase_33
PROCESSING_LEVEL_ID = 3
PRODUCT_CREATION_TIME = 2016-10-30T02:40:36.000Z
PRODUCT_ID = "HE787_0000_ND3.JP2"
RELEASE_ID = 0129
REVISION_ID = 0000
/* QUALITY DATA ELEMENTS */
DATA_QUALITY_ID = 1
DATA_QUALITY_DESC = "Data calculated based on original SPICE kernels"
/* TIME DATA ELEMENTS */
SPACECRAFT_CLOCK_START_COUNT = "1/0388956416.08261"
SPACECRAFT_CLOCK_STOP_COUNT = "1/0388956663.16409"
START_TIME = 2015-08-29T19:27:31.819Z
STOP_TIME = 2015-08-29T19:30:34.821Z
/* ORBITAL DATA ELEMENTS */
ASCENDING_NODE_LONGITUDE = 296.01
MAXIMUM_RESOLUTION = 13
FOOTPRINT_POINT_LATITUDE = (-51.5222,-51.5044,-51.4914,-51.2425, -51.0051,-50.7678,-50.5305,-50.1745, -49.9371,-49.581,-49.3436,-49.1062, -48.8688,-48.6314,-48.394,-48.1566, -47.9192,-47.6819,-47.4445,-47.2073, -46.9699,-46.7328,-46.4956,-46.2584, -46.0213,-45.7843,-45.5472,-45.3103, -45.0734,-44.8365,-44.363,-43.8897, -43.4168,-42.9441,-42.7036,-42.4596, -42.2158,-41.972,-41.7284,-41.4848, -41.2413,-40.998,-40.7548,-40.5117, -40.2687,-40.0258,-39.7832,-39.5406, -39.5337,-39.5414,-39.5493,-39.7923, -40.0355,-40.2787,-40.5221,-40.7657, -41.0093,-41.2531,-41.497,-41.741, -41.9851,-42.2294,-42.4737,-42.7182, -42.9596,-43.4332,-43.6702,-43.9072, -44.1442,-44.3814,-44.6186,-44.8559, -45.0933,-45.3307,-45.5682,-45.8057, -46.0433,-46.281,-46.5187,-46.7564, -46.9942,-47.232,-47.4699,-47.7078, -47.9457,-48.1837,-48.4217,-48.6597, -48.8977,-49.1357,-49.4928,-49.7308, -49.9689,-50.207,-50.445,-50.6831, -50.9211,-51.1592,-51.3972,-51.5222)
FOOTPRINT_POINT_LONGITUDE = (255.665,254.997,254.578,254.294, 254.316,254.337,254.358,254.389,254.409 ,254.438,254.456,254.475,254.493,254.51 ,254.527,254.543,254.559,254.575, 254.591,254.606,254.62,254.636,254.65, 254.664,254.677,254.691,254.704,254.717 ,254.729,254.741,254.764,254.786, 254.807,254.827,254.837,254.847,254.856 ,254.865,254.874,254.882,254.891, 254.899,254.906,254.914,254.921,254.928 ,254.935,254.942,255.344,255.825, 256.518,256.513,256.507,256.502,256.497 ,256.491,256.485,256.479,256.472, 256.466,256.459,256.453,256.446,256.439 ,256.432,256.418,256.411,256.404, 256.397,256.39,256.382,256.374,256.367, 256.359,256.351,256.343,256.335,256.326 ,256.318,256.309,256.301,256.292, 256.283,256.274,256.265,256.255,256.245 ,256.235,256.225,256.215,256.2,256.19, 256.18,256.169,256.158,256.147,256.136, 256.124,256.113,255.665)
ORBIT_NUMBER = 14787
ORBITAL_ECCENTRICITY = 0.578
ORBITAL_INCLINATION = 86.91
ORBITAL_SEMIMAJOR_AXIS = 8799.23
PERIAPSIS_ALTITUDE = 328.72
PERIAPSIS_ARGUMENT_ANGLE = 309.24
PERIAPSIS_TIME = 2015-08-29T19:27:45.000Z
SPACECRAFT_ORIENTATION = (0.0,1.0,0.0)
^MEX_ORIENTATION_DESC = "MEX_ORIENTATION_DESC.TXT"
SPACECRAFT_POINTING_MODE = ACROSSTRACK
^MEX_POINTING_DESC = "MEX_POINTING_DESC.TXT"
RIGHT_ASCENSION = -1e+32
DECLINATION = -1e+32
OFFSET_ANGLE = -0.17
SPACECRAFT_SOLAR_DISTANCE = 2.44236e+08
TARGET_NAME = MARS
/* CAMERA DATA ELEMENTS */
DETECTOR_TEMPERATURE = 18.3705
FOCAL_PLANE_TEMPERATURE = 7.9716
INST_CMPRS_NAME = "DISCRETE COSINE TRANSFORMATION (DCT)"
INST_CMPRS_RATIO = 6.77159
INST_CMPRS_QUALITY = 0
INST_CMPRS_QUANTZ_TBL_ID = 0
INSTRUMENT_TEMPERATURE = 11.4379
LENS_TEMPERATURE = 8.3794
MACROPIXEL_SIZE = 1
MISSING_FRAMES = 0
PIXEL_SUBSAMPLING_FLAG = N
SIGNAL_CHAIN_ID = 0
/* RADIOMETRIC DATA ELEMENTS */
BANDWIDTH = 177.0
CENTER_FILTER_WAVELENGTH = 677.5
RADIANCE_OFFSET = 0.796702
RADIANCE_SCALING_FACTOR = 0.010154
REFLECTANCE_SCALING_FACTOR = 0.000321767
MEX:REFLECTANCE_OFFSET = 0.0252463
/* IMAGE OBJECT DEFINITIONS */
OBJECT = IMAGE
  INTERCHANGE_FORMAT = BINARY
  LINES = 56932
  LINE_SAMPLES = 7145
  SAMPLE_TYPE = UNSIGNED_INTEGER
  SAMPLE_BITS = 8
  BANDS = 1
  BAND_STORAGE_TYPE = BAND_SEQUENTIAL
  MAXIMUM = 255
  MEAN = 108.21
  MINIMUM = 1
  STANDARD_DEVIATION = 30.321
END_OBJECT = IMAGE
/* MAP OBJECT DEFINITIONS */
OBJECT = IMAGE_MAP_PROJECTION
  ^DATA_SET_MAP_PROJECTION_CATALOG= "DSMAP.CAT"
  A_AXIS_RADIUS = 3396.0
  B_AXIS_RADIUS = 3396.0
  C_AXIS_RADIUS = 3396.0
  CENTER_LATITUDE = 0.0
  CENTER_LONGITUDE = 256.0
  COORDINATE_SYSTEM_NAME = PLANETOGRAPHIC
  COORDINATE_SYSTEM_TYPE = "BODY-FIXED ROTATING"
  EASTERNMOST_LONGITUDE = 256.518
  FIRST_STANDARD_PARALLEL = "N/A"
  LINE_FIRST_PIXEL = 1
  LINE_LAST_PIXEL = 56932
  LINE_PROJECTION_OFFSET = -187414.0
  MAP_PROJECTION_ROTATION = 0.0
  MAP_PROJECTION_TYPE = SINUSOIDAL
  MAP_RESOLUTION = 4741.71043093333
  MAP_SCALE = 0.0125
  MAXIMUM_LATITUDE = -39.5337
  MINIMUM_LATITUDE = -51.5222
  POSITIVE_LONGITUDE_DIRECTION = EAST
  REFERENCE_LATITUDE = "N/A"
  REFERENCE_LONGITUDE = "N/A"
  SAMPLE_FIRST_PIXEL = 1
  SAMPLE_LAST_PIXEL = 7145
  SAMPLE_PROJECTION_OFFSET = 5122.0
  SECOND_STANDARD_PARALLEL = "N/A"
  WESTERNMOST_LONGITUDE = 254.294
END_OBJECT = IMAGE_MAP_PROJECTION
/* The JPEG2000 image data file associated with this label. */
OBJECT = COMPRESSED_FILE
  FILE_NAME = "HE787_0000_ND3.JP2"
  RECORD_TYPE = UNDEFINED
  FILE_RECORDS = UNK
  ENCODING_TYPE = "JP2"
  INTERCHANGE_FORMAT = BINARY
  UNCOMPRESSED_FILE_NAME = "HE787_0000_ND3.IMG"
  REQUIRED_STORAGE_BYTES = "406807720"
  ^DESCRIPTION = "JP2INFO.TXT"
END_OBJECT = COMPRESSED_FILE
END
