PDS_VERSION_ID = PDS3
/* FILE DATA ELEMENTS */
RECORD_TYPE = STREAM
/* POINTERS TO DATA OBJECTS */
^COMPRESSED_FILE = "HE788_0000_ND3.JP2"
/* IDENTIFICATION DATA ELEMENTS */
DATA_SET_ID = "MEX-M-HRSC-5-REFDR-MAPPROJECTED-V3.0"
DATA_SET_NAME = "MARS EXPRESS HRSC MAP PROJECTED REFDR V3.0"
DETECTOR_ID = MEX_HRSC_NADIR
EVENT_TYPE = "MARS-REGIONAL-MAPPING-Im-Fl-Pf"
INSTRUMENT_HOST_ID = MEX
INSTRUMENT_HOST_NAME = "MARS EXPRESS"
INSTRUMENT_ID = HRSC
INSTRUMENT_NAME = "HIGH RESOLUTION STEREO CAMERA"
MISSION_NAME = "MARS EXPRESS"
MISSION_PHASE_NAME = ME_Phase_33
PROCESSING_LEVEL_ID = 3
PRODUCT_CREATION_TIME = 2016-10-30T02:40:36.000Z
PRODUCT_ID = "HE788_0000_ND3.JP2"
RELEASE_ID = 0129
REVISION_ID = 0000
/* QUALITY DATA ELEMENTS */
DATA_QUALITY_ID = 1
DATA_QUALITY_DESC = "Data calculated based on original SPICE kernels"
/* TIME DATA ELEMENTS */
SPACECRAFT_CLOCK_START_COUNT = "1/0388981833.07300"
SPACECRAFT_CLOCK_STOP_COUNT = "1/0388981975.37633"
START_TIME = 2015-08-30T02:31:12.301Z
STOP_TIME = 2015-08-30T02:32:20.308Z
/* ORBITAL DATA ELEMENTS */
ASCENDING_NODE_LONGITUDE = 295.98
MAXIMUM_RESOLUTION = 14.8
FOOTPRINT_POINT_LATITUDE = (-35.6112,-35.6108,-35.6102,-35.6095, -35.6088,-35.6079,-35.6068,-35.6057, -35.6044,-35.6026,-35.601,-35.5981, -35.4661,-35.3792,-35.2924,-35.2056, -35.1188,-35.032,-34.9453,-34.8586, -34.7719,-34.6419,-34.5553,-34.4687, -34.3821,-34.2955,-34.209,-34.1225, -34.0361,-33.9496,-33.8632,-33.7768, -33.6905,-33.6042,-33.5179,-33.4316, -33.3454,-33.173,-33.0007,-32.8285, -32.6564,-32.4845,-32.2698,-32.0982, -31.9265,-31.755,-31.5837,-31.4127, -31.2775,-31.2787,-31.2796,-31.2806, -31.2815,-31.2822,-31.2828,-31.2835, -31.2837,-31.2839,-31.2839,-31.3267, -31.4981,-31.6697,-31.8413,-32.0131, -32.1849,-32.357,-32.5291,-32.7013, -32.8737,-32.96,-33.0462,-33.1325, -33.2188,-33.3052,-33.3915,-33.4779, -33.5644,-33.6508,-33.7373,-33.8238, -33.9104,-33.997,-34.0835,-34.1702, -34.2568,-34.3435,-34.4302,-34.517, -34.6037,-34.6905,-34.7773,-34.8641, -34.951,-35.0379,-35.1248,-35.2117, -35.2987,-35.3857,-35.4727,-35.6112)
FOOTPRINT_POINT_LONGITUDE = (154.426,154.3,154.175,154.049,153.94, 153.815,153.691,153.566,153.442,153.288 ,153.164,152.963,152.905,152.906, 152.907,152.908,152.909,152.909,152.91, 152.911,152.912,152.912,152.913,152.913 ,152.914,152.915,152.915,152.916, 152.916,152.917,152.917,152.917,152.917 ,152.918,152.918,152.919,152.919,152.92 ,152.92,152.921,152.92,152.92,152.922, 152.922,152.92,152.92,152.92,152.921, 152.969,153.097,153.21,153.34,153.469, 153.582,153.729,153.908,154.022,154.153 ,154.364,154.568,154.565,154.563, 154.562,154.56,154.558,154.556,154.554, 154.551,154.549,154.548,154.546,154.545 ,154.544,154.543,154.541,154.54,154.539 ,154.537,154.536,154.535,154.534, 154.532,154.531,154.529,154.528,154.527 ,154.525,154.524,154.522,154.521,154.52 ,154.518,154.517,154.516,154.514, 154.513,154.512,154.51,154.509,154.426)
ORBIT_NUMBER = 14788
ORBITAL_ECCENTRICITY = 0.578
ORBITAL_INCLINATION = 86.91
ORBITAL_SEMIMAJOR_AXIS = 8798.27
PERIAPSIS_ALTITUDE = 329.92
PERIAPSIS_ARGUMENT_ANGLE = 309.11
PERIAPSIS_TIME = 2015-08-30T02:27:19.000Z
SPACECRAFT_ORIENTATION = (0.0,1.0,0.0)
^MEX_ORIENTATION_DESC = "MEX_ORIENTATION_DESC.TXT"
SPACECRAFT_POINTING_MODE = ACROSSTRACK
^MEX_POINTING_DESC = "MEX_POINTING_DESC.TXT"
RIGHT_ASCENSION = -1e+32
DECLINATION = -1e+32
OFFSET_ANGLE = -0.3
SPACECRAFT_SOLAR_DISTANCE = 2.4427e+08
TARGET_NAME = MARS
/* CAMERA DATA ELEMENTS */
DETECTOR_TEMPERATURE = 18.3705
FOCAL_PLANE_TEMPERATURE = 7.9716
INST_CMPRS_NAME = "DISCRETE COSINE TRANSFORMATION (DCT)"
INST_CMPRS_RATIO = 5.6462
INST_CMPRS_QUALITY = 0
INST_CMPRS_QUANTZ_TBL_ID = 0
INSTRUMENT_TEMPERATURE = 11.234
LENS_TEMPERATURE = 9.3989
MACROPIXEL_SIZE = 1
MISSING_FRAMES = 0
PIXEL_SUBSAMPLING_FLAG = N
SIGNAL_CHAIN_ID = 0
/* RADIOMETRIC DATA ELEMENTS */
BANDWIDTH = 177.0
CENTER_FILTER_WAVELENGTH = 677.5
RADIANCE_OFFSET = 1.09381
RADIANCE_SCALING_FACTOR = 0.0115974
REFLECTANCE_SCALING_FACTOR = 0.000367608
MEX:REFLECTANCE_OFFSET = 0.034671
/* IMAGE OBJECT DEFINITIONS */
OBJECT = IMAGE
  INTERCHANGE_FORMAT = BINARY
  LINES = 20550
  LINE_SAMPLES = 6975
  SAMPLE_TYPE = UNSIGNED_INTEGER
  SAMPLE_BITS = 8
  BANDS = 1
  BAND_STORAGE_TYPE = BAND_SEQUENTIAL
  MAXIMUM = 255
  MEAN = 119.114
  MINIMUM = 1
  STANDARD_DEVIATION = 19.2272
END_OBJECT = IMAGE
/* MAP OBJECT DEFINITIONS */
OBJECT = IMAGE_MAP_PROJECTION
  ^DATA_SET_MAP_PROJECTION_CATALOG= "DSMAP.CAT"
  A_AXIS_RADIUS = 3396.0
  B_AXIS_RADIUS = 3396.0
  C_AXIS_RADIUS = 3396.0
  CENTER_LATITUDE = 0.0
  CENTER_LONGITUDE = 154.0
  COORDINATE_SYSTEM_NAME = PLANETOGRAPHIC
  COORDINATE_SYSTEM_TYPE = "BODY-FIXED ROTATING"
  EASTERNMOST_LONGITUDE = 154.568
  FIRST_STANDARD_PARALLEL = "N/A"
  LINE_FIRST_PIXEL = 1
  LINE_LAST_PIXEL = 20550
  LINE_PROJECTION_OFFSET = -148310.0
  MAP_PROJECTION_ROTATION = 0.0
  MAP_PROJECTION_TYPE = SINUSOIDAL
  MAP_RESOLUTION = 4741.71043093333
  MAP_SCALE = 0.0125
  MAXIMUM_LATITUDE = -31.2775
  MINIMUM_LATITUDE = -35.6112
  POSITIVE_LONGITUDE_DIRECTION = EAST
  REFERENCE_LATITUDE = "N/A"
  REFERENCE_LONGITUDE = "N/A"
  SAMPLE_FIRST_PIXEL = 1
  SAMPLE_LAST_PIXEL = 6975
  SAMPLE_PROJECTION_OFFSET = 4453.0
  SECOND_STANDARD_PARALLEL = "N/A"
  WESTERNMOST_LONGITUDE = 152.905
END_OBJECT = IMAGE_MAP_PROJECTION
/* The JPEG2000 image data file associated with this label. */
OBJECT = COMPRESSED_FILE
  FILE_NAME = "HE788_0000_ND3.JP2"
  RECORD_TYPE = UNDEFINED
  FILE_RECORDS = UNK
  ENCODING_TYPE = "JP2"
  INTERCHANGE_FORMAT = BINARY
  UNCOMPRESSED_FILE_NAME = "HE788_0000_ND3.IMG"
  REQUIRED_STORAGE_BYTES = "143371125"
  ^DESCRIPTION = "JP2INFO.TXT"
END_OBJECT = COMPRESSED_FILE
END
