PDS_VERSION_ID = PDS3
/* FILE DATA ELEMENTS */
RECORD_TYPE = STREAM
/* POINTERS TO DATA OBJECTS */
^COMPRESSED_FILE = "HE789_0000_S13.JP2"
/* IDENTIFICATION DATA ELEMENTS */
DATA_SET_ID = "MEX-M-HRSC-5-REFDR-MAPPROJECTED-V3.0"
DATA_SET_NAME = "MARS EXPRESS HRSC MAP PROJECTED REFDR V3.0"
DETECTOR_ID = MEX_HRSC_S1
EVENT_TYPE = "MARS-REGIONAL-MAPPING-Im-Gl-Pf"
INSTRUMENT_HOST_ID = MEX
INSTRUMENT_HOST_NAME = "MARS EXPRESS"
INSTRUMENT_ID = HRSC
INSTRUMENT_NAME = "HIGH RESOLUTION STEREO CAMERA"
MISSION_NAME = "MARS EXPRESS"
MISSION_PHASE_NAME = ME_Phase_33
PROCESSING_LEVEL_ID = 3
PRODUCT_CREATION_TIME = 2016-10-30T02:40:36.000Z
PRODUCT_ID = "HE789_0000_S13.JP2"
RELEASE_ID = 0129
REVISION_ID = 0000
/* QUALITY DATA ELEMENTS */
DATA_QUALITY_ID = 1
DATA_QUALITY_DESC = "Data calculated based on original SPICE kernels"
/* TIME DATA ELEMENTS */
SPACECRAFT_CLOCK_START_COUNT = "1/0389006902.09041"
SPACECRAFT_CLOCK_STOP_COUNT = "1/0389007153.14844"
START_TIME = 2015-08-30T09:29:29.834Z
STOP_TIME = 2015-08-30T09:32:37.385Z
/* ORBITAL DATA ELEMENTS */
ASCENDING_NODE_LONGITUDE = 295.97
MAXIMUM_RESOLUTION = 30.2
FOOTPRINT_POINT_LATITUDE = (-42.5033,-42.4983,-42.4888,-42.4788, -42.5657,-42.3555,-42.1446,-41.9347, -41.7243,-41.5153,-41.3056,-41.0965, -40.8871,-40.5733,-40.3642,-40.156, -39.9476,-39.7397,-39.4281,-39.2213, -39.014,-38.8072,-38.5995,-38.2496, -38.0026,-37.6323,-37.3886,-37.1458, -36.8996,-36.657,-36.4148,-36.1715, -35.9287,-35.6848,-35.4345,-35.1841, -34.9482,-34.7094,-34.4676,-34.1013, -33.8607,-33.6219,-33.38,-33.1427, -32.8998,-32.657,-32.2931,-31.9315, -31.5587,-31.3099,-31.0618,-31.0559, -31.0627,-31.058,-31.0626,-31.0639, -31.3178,-31.5712,-31.8215,-32.1928, -32.4364,-32.6791,-32.9265,-33.1707, -33.4118,-33.6506,-33.8929,-34.2545, -34.4953,-34.7378,-34.9809,-35.3461, -35.5879,-35.8305,-36.0722,-36.4381, -36.6818,-37.0488,-37.4163,-37.6615, -37.9072,-38.1533,-38.5177,-38.7242, -38.9324,-39.1397,-39.3478,-39.5555, -39.7637,-39.9721,-40.2838,-40.4892, -40.6992,-40.9088,-41.1176,-41.3283, -41.6428,-41.9606,-42.1733,-42.5033)
FOOTPRINT_POINT_LONGITUDE = (51.7023,51.3581,50.8108,50.3106, 50.0435,50.0518,50.0602,50.0681,50.0761 ,50.0834,50.0909,50.098,50.1051,50.1155 ,50.1223,50.1286,50.1349,50.1409, 50.1496,50.1549,50.1604,50.1656,50.1711 ,50.1813,50.1872,50.1959,50.2003, 50.2042,50.2094,50.2131,50.2166,50.2205 ,50.2241,50.2281,50.2346,50.2411, 50.2417,50.2435,50.2464,50.2522,50.2545 ,50.2561,50.2589,50.2599,50.2619, 50.2625,50.2633,50.2632,50.2639,50.2644 ,50.2646,50.5037,50.7919,51.1491, 51.4383,51.7955,52.02,52.017,52.0127, 52.0068,52.0019,51.9965,51.9926,51.9885 ,51.9843,51.9791,51.975,51.9676,51.9624 ,51.9576,51.9528,51.9454,51.9395, 51.9337,51.9274,51.9187,51.9126,51.9035 ,51.8942,51.8877,51.8812,51.8746, 51.8643,51.8584,51.853,51.8471,51.8414, 51.8354,51.8293,51.8232,51.8134,51.8057 ,51.7996,51.7932,51.7864,51.78,51.7696, 51.7602,51.7539,51.7023)
ORBIT_NUMBER = 14789
ORBITAL_ECCENTRICITY = 0.578
ORBITAL_INCLINATION = 86.92
ORBITAL_SEMIMAJOR_AXIS = 8799.0
PERIAPSIS_ALTITUDE = 329.11
PERIAPSIS_ARGUMENT_ANGLE = 308.93
PERIAPSIS_TIME = 2015-08-30T09:26:50.000Z
SPACECRAFT_ORIENTATION = (0.0,1.0,0.0)
^MEX_ORIENTATION_DESC = "MEX_ORIENTATION_DESC.TXT"
SPACECRAFT_POINTING_MODE = NADIR
^MEX_POINTING_DESC = "MEX_POINTING_DESC.TXT"
RIGHT_ASCENSION = -1e+32
DECLINATION = -1e+32
OFFSET_ANGLE = -1e+32
SPACECRAFT_SOLAR_DISTANCE = 2.44304e+08
TARGET_NAME = MARS
/* CAMERA DATA ELEMENTS */
DETECTOR_TEMPERATURE = 17.351
FOCAL_PLANE_TEMPERATURE = 8.1755
INST_CMPRS_NAME = "DISCRETE COSINE TRANSFORMATION (DCT)"
INST_CMPRS_RATIO = 14.9572
INST_CMPRS_QUALITY = 0
INST_CMPRS_QUANTZ_TBL_ID = 0
INSTRUMENT_TEMPERATURE = 11.4379
LENS_TEMPERATURE = 8.5833
MACROPIXEL_SIZE = 2
MISSING_FRAMES = 0
PIXEL_SUBSAMPLING_FLAG = N
SIGNAL_CHAIN_ID = 1
/* RADIOMETRIC DATA ELEMENTS */
BANDWIDTH = 180.0
CENTER_FILTER_WAVELENGTH = 677.0
RADIANCE_OFFSET = 2.35618
RADIANCE_SCALING_FACTOR = 0.0114575
REFLECTANCE_SCALING_FACTOR = 0.000356775
MEX:REFLECTANCE_OFFSET = 0.073369
/* IMAGE OBJECT DEFINITIONS */
OBJECT = IMAGE
  INTERCHANGE_FORMAT = BINARY
  LINES = 27294
  LINE_SAMPLES = 3669
  SAMPLE_TYPE = UNSIGNED_INTEGER
  SAMPLE_BITS = 8
  BANDS = 1
  BAND_STORAGE_TYPE = BAND_SEQUENTIAL
  MAXIMUM = 255
  MEAN = 157.106
  MINIMUM = 1
  STANDARD_DEVIATION = 31.3476
END_OBJECT = IMAGE
/* MAP OBJECT DEFINITIONS */
OBJECT = IMAGE_MAP_PROJECTION
  ^DATA_SET_MAP_PROJECTION_CATALOG= "DSMAP.CAT"
  A_AXIS_RADIUS = 3396.0
  B_AXIS_RADIUS = 3396.0
  C_AXIS_RADIUS = 3396.0
  CENTER_LATITUDE = 0.0
  CENTER_LONGITUDE = 51.0
  COORDINATE_SYSTEM_NAME = PLANETOGRAPHIC
  COORDINATE_SYSTEM_TYPE = "BODY-FIXED ROTATING"
  EASTERNMOST_LONGITUDE = 52.02
  FIRST_STANDARD_PARALLEL = "N/A"
  LINE_FIRST_PIXEL = 1
  LINE_LAST_PIXEL = 27294
  LINE_PROJECTION_OFFSET = -73630.25
  MAP_PROJECTION_ROTATION = 0.0
  MAP_PROJECTION_TYPE = SINUSOIDAL
  MAP_RESOLUTION = 2370.85521546667
  MAP_SCALE = 0.025
  MAXIMUM_LATITUDE = -31.0559
  MINIMUM_LATITUDE = -42.5657
  POSITIVE_LONGITUDE_DIRECTION = EAST
  REFERENCE_LATITUDE = "N/A"
  REFERENCE_LONGITUDE = "N/A"
  SAMPLE_FIRST_PIXEL = 1
  SAMPLE_LAST_PIXEL = 3669
  SAMPLE_PROJECTION_OFFSET = 1662.25
  SECOND_STANDARD_PARALLEL = "N/A"
  WESTERNMOST_LONGITUDE = 50.0435
END_OBJECT = IMAGE_MAP_PROJECTION
/* The JPEG2000 image data file associated with this label. */
OBJECT = COMPRESSED_FILE
  FILE_NAME = "HE789_0000_S13.JP2"
  RECORD_TYPE = UNDEFINED
  FILE_RECORDS = UNK
  ENCODING_TYPE = "JP2"
  INTERCHANGE_FORMAT = BINARY
  UNCOMPRESSED_FILE_NAME = "HE789_0000_S13.IMG"
  REQUIRED_STORAGE_BYTES = "100163700"
  ^DESCRIPTION = "JP2INFO.TXT"
END_OBJECT = COMPRESSED_FILE
END
