PDS_VERSION_ID = PDS3
/* FILE DATA ELEMENTS */
RECORD_TYPE = STREAM
/* POINTERS TO DATA OBJECTS */
^COMPRESSED_FILE = "HE803_0000_GR3.JP2"
/* IDENTIFICATION DATA ELEMENTS */
DATA_SET_ID = "MEX-M-HRSC-5-REFDR-MAPPROJECTED-V3.0"
DATA_SET_NAME = "MARS EXPRESS HRSC MAP PROJECTED REFDR V3.0"
DETECTOR_ID = MEX_HRSC_GREEN
EVENT_TYPE = "MARS-REGIONAL-MAPPING-Im-Gl-Pf"
INSTRUMENT_HOST_ID = MEX
INSTRUMENT_HOST_NAME = "MARS EXPRESS"
INSTRUMENT_ID = HRSC
INSTRUMENT_NAME = "HIGH RESOLUTION STEREO CAMERA"
MISSION_NAME = "MARS EXPRESS"
MISSION_PHASE_NAME = ME_Phase_33
PROCESSING_LEVEL_ID = 3
PRODUCT_CREATION_TIME = 2016-10-30T10:43:13.000Z
PRODUCT_ID = "HE803_0000_GR3.JP2"
RELEASE_ID = 0130
REVISION_ID = 0000
/* QUALITY DATA ELEMENTS */
DATA_QUALITY_ID = 1
DATA_QUALITY_DESC = "Data calculated based on original SPICE kernels"
/* TIME DATA ELEMENTS */
SPACECRAFT_CLOCK_START_COUNT = "1/0389359344.08268"
SPACECRAFT_CLOCK_STOP_COUNT = "1/0389359537.31195"
START_TIME = 2015-09-03T11:23:06.748Z
STOP_TIME = 2015-09-03T11:25:09.525Z
/* ORBITAL DATA ELEMENTS */
ASCENDING_NODE_LONGITUDE = 295.7
MAXIMUM_RESOLUTION = 114.5
FOOTPRINT_POINT_LATITUDE = (-42.3786,-42.375,-42.3708,-42.366, -42.3615,-42.3558,-42.2896,-42.1464, -42.0032,-41.8602,-41.6458,-41.5029, -41.36,-41.1459,-41.0032,-40.8606, -40.7179,-40.5754,-40.433,-40.2907, -40.0772,-39.7929,-39.5092,-39.2259, -38.9425,-38.6353,-38.4665,-38.2978, -38.1293,-37.8766,-37.7081,-37.5399, -37.2878,-37.0358,-36.7841,-36.6166, -36.3655,-36.1987,-35.9482,-35.781, -35.6141,-35.4474,-35.2808,-35.1143, -34.9479,-34.6986,-34.5563,-34.5595, -34.5635,-34.5657,-34.5678,-34.5705, -34.5719,-34.5735,-34.5764,-34.7427, -34.9091,-35.0755,-35.2422,-35.4089, -35.576,-35.7431,-35.9102,-36.0777, -36.2452,-36.4131,-36.5807,-36.7484, -36.9165,-37.0846,-37.2528,-37.5052, -37.7581,-37.9268,-38.0958,-38.2646, -38.4337,-38.6028,-38.8487,-39.1327, -39.4169,-39.7014,-39.8437,-39.9862, -40.1286,-40.2711,-40.4136,-40.6276, -40.7704,-40.9132,-41.056,-41.1991, -41.4138,-41.5569,-41.7001,-41.8432, -41.9865,-42.1299,-42.2734,-42.3786)
FOOTPRINT_POINT_LONGITUDE = (59.919,59.6938,59.4534,59.2132,59.0031 ,58.7629,58.464,58.4697,58.4751,58.4805 ,58.4881,58.4934,58.4985,58.5056, 58.5104,58.5153,58.5201,58.5247,58.5291 ,58.5333,58.5399,58.548,58.5552,58.5613 ,58.5684,58.5766,58.5806,58.5843, 58.5877,58.5931,58.5969,58.6002,58.6048 ,58.6097,58.6143,58.6167,58.6204, 58.6217,58.6246,58.6272,58.6296,58.6314 ,58.6333,58.6351,58.6369,58.6394, 58.6406,58.8307,59.1037,59.2802,59.4566 ,59.7455,59.9381,60.1628,60.3504, 60.3465,60.3425,60.3382,60.3343,60.3302 ,60.3264,60.3226,60.3182,60.3145, 60.3105,60.3071,60.3026,60.2983,60.2943 ,60.2901,60.2861,60.2792,60.2731, 60.2688,60.2648,60.2603,60.2559,60.2514 ,60.2447,60.2371,60.2294,60.2213, 60.2172,60.2133,60.2091,60.2049,60.2003 ,60.1939,60.1895,60.185,60.1804,60.1763 ,60.1699,60.1654,60.161,60.1559,60.1512 ,60.1467,60.1421,59.919)
ORBIT_NUMBER = 14803
ORBITAL_ECCENTRICITY = 0.578
ORBITAL_INCLINATION = 86.93
ORBITAL_SEMIMAJOR_AXIS = 8794.61
PERIAPSIS_ALTITUDE = 328.58
PERIAPSIS_ARGUMENT_ANGLE = 306.54
PERIAPSIS_TIME = 2015-09-03T11:20:14.000Z
SPACECRAFT_ORIENTATION = (0.0,1.0,0.0)
^MEX_ORIENTATION_DESC = "MEX_ORIENTATION_DESC.TXT"
SPACECRAFT_POINTING_MODE = NADIR
^MEX_POINTING_DESC = "MEX_POINTING_DESC.TXT"
RIGHT_ASCENSION = -1e+32
DECLINATION = -1e+32
OFFSET_ANGLE = -1e+32
SPACECRAFT_SOLAR_DISTANCE = 2.44767e+08
TARGET_NAME = MARS
/* CAMERA DATA ELEMENTS */
DETECTOR_TEMPERATURE = 18.3705
FOCAL_PLANE_TEMPERATURE = 8.5833
INST_CMPRS_NAME = "DISCRETE COSINE TRANSFORMATION (DCT)"
INST_CMPRS_RATIO = 23.7233
INST_CMPRS_QUALITY = 0
INST_CMPRS_QUANTZ_TBL_ID = 0
INSTRUMENT_TEMPERATURE = 11.8457
LENS_TEMPERATURE = 8.5833
MACROPIXEL_SIZE = 8
MISSING_FRAMES = 0
PIXEL_SUBSAMPLING_FLAG = N
SIGNAL_CHAIN_ID = 2
/* RADIOMETRIC DATA ELEMENTS */
BANDWIDTH = 88.0
CENTER_FILTER_WAVELENGTH = 538.0
RADIANCE_OFFSET = 1.25205
RADIANCE_SCALING_FACTOR = 0.00223623
REFLECTANCE_SCALING_FACTOR = 0.000115349
MEX:REFLECTANCE_OFFSET = 0.0645827
/* IMAGE OBJECT DEFINITIONS */
OBJECT = IMAGE
  INTERCHANGE_FORMAT = BINARY
  LINES = 4652
  LINE_SAMPLES = 901
  SAMPLE_TYPE = UNSIGNED_INTEGER
  SAMPLE_BITS = 8
  BANDS = 1
  BAND_STORAGE_TYPE = BAND_SEQUENTIAL
  MAXIMUM = 255
  MEAN = 139.017
  MINIMUM = 3
  STANDARD_DEVIATION = 49.2005
END_OBJECT = IMAGE
/* MAP OBJECT DEFINITIONS */
OBJECT = IMAGE_MAP_PROJECTION
  ^DATA_SET_MAP_PROJECTION_CATALOG= "DSMAP.CAT"
  A_AXIS_RADIUS = 3396.0
  B_AXIS_RADIUS = 3396.0
  C_AXIS_RADIUS = 3396.0
  CENTER_LATITUDE = 0.0
  CENTER_LONGITUDE = 59.0
  COORDINATE_SYSTEM_NAME = PLANETOGRAPHIC
  COORDINATE_SYSTEM_TYPE = "BODY-FIXED ROTATING"
  EASTERNMOST_LONGITUDE = 60.3504
  FIRST_STANDARD_PARALLEL = "N/A"
  LINE_FIRST_PIXEL = 1
  LINE_LAST_PIXEL = 4652
  LINE_PROJECTION_OFFSET = -20481.1875
  MAP_PROJECTION_ROTATION = 0.0
  MAP_PROJECTION_TYPE = SINUSOIDAL
  MAP_RESOLUTION = 592.713803866667
  MAP_SCALE = 0.1
  MAXIMUM_LATITUDE = -34.5563
  MINIMUM_LATITUDE = -42.3786
  POSITIVE_LONGITUDE_DIRECTION = EAST
  REFERENCE_LATITUDE = "N/A"
  REFERENCE_LONGITUDE = "N/A"
  SAMPLE_FIRST_PIXEL = 1
  SAMPLE_LAST_PIXEL = 901
  SAMPLE_PROJECTION_OFFSET = 244.0625
  SECOND_STANDARD_PARALLEL = "N/A"
  WESTERNMOST_LONGITUDE = 58.464
END_OBJECT = IMAGE_MAP_PROJECTION
/* The JPEG2000 image data file associated with this label. */
OBJECT = COMPRESSED_FILE
  FILE_NAME = "HE803_0000_GR3.JP2"
  RECORD_TYPE = UNDEFINED
  FILE_RECORDS = UNK
  ENCODING_TYPE = "JP2"
  INTERCHANGE_FORMAT = BINARY
  UNCOMPRESSED_FILE_NAME = "HE803_0000_GR3.IMG"
  REQUIRED_STORAGE_BYTES = "4209472"
  ^DESCRIPTION = "JP2INFO.TXT"
END_OBJECT = COMPRESSED_FILE
END
