PDS_VERSION_ID = PDS3
/* FILE DATA ELEMENTS */
RECORD_TYPE = STREAM
/* POINTERS TO DATA OBJECTS */
^COMPRESSED_FILE = "HE810_0000_P23.JP2"
/* IDENTIFICATION DATA ELEMENTS */
DATA_SET_ID = "MEX-M-HRSC-5-REFDR-MAPPROJECTED-V3.0"
DATA_SET_NAME = "MARS EXPRESS HRSC MAP PROJECTED REFDR V3.0"
DETECTOR_ID = MEX_HRSC_P2
EVENT_TYPE = "MARS-REGIONAL-MAPPING-Im-Gl-Pf"
INSTRUMENT_HOST_ID = MEX
INSTRUMENT_HOST_NAME = "MARS EXPRESS"
INSTRUMENT_ID = HRSC
INSTRUMENT_NAME = "HIGH RESOLUTION STEREO CAMERA"
MISSION_NAME = "MARS EXPRESS"
MISSION_PHASE_NAME = ME_Phase_33
PROCESSING_LEVEL_ID = 3
PRODUCT_CREATION_TIME = 2016-10-30T10:43:13.000Z
PRODUCT_ID = "HE810_0000_P23.JP2"
RELEASE_ID = 0130
REVISION_ID = 0000
/* QUALITY DATA ELEMENTS */
DATA_QUALITY_ID = 1
DATA_QUALITY_DESC = "Data calculated based on original SPICE kernels"
/* TIME DATA ELEMENTS */
SPACECRAFT_CLOCK_START_COUNT = "1/0389535558.09060"
SPACECRAFT_CLOCK_STOP_COUNT = "1/0389535740.15871"
START_TIME = 2015-09-05T12:19:34.869Z
STOP_TIME = 2015-09-05T12:21:21.970Z
/* ORBITAL DATA ELEMENTS */
ASCENDING_NODE_LONGITUDE = 295.57
MAXIMUM_RESOLUTION = 29.2
FOOTPRINT_POINT_LATITUDE = (-42.4941,-42.4895,-42.4861,-42.4809, -42.4753,-42.4688,-42.3971,-42.2659, -42.1348,-42.0034,-41.8717,-41.6747, -41.5435,-41.4119,-41.2152,-41.084, -40.9511,-40.819,-40.6875,-40.4903, -40.2936,-40.1614,-39.8985,-39.7029, -39.4403,-39.1785,-39.0469,-38.7853, -38.5895,-38.4579,-38.3265,-38.1173, -37.9603,-37.8039,-37.6474,-37.4911, -37.3352,-37.1801,-37.0241,-36.8678, -36.7121,-36.556,-36.3219,-36.1661, -35.9331,-35.6996,-35.5433,-35.3876, -35.377,-35.381,-35.3849,-35.387, -35.3895,-35.3911,-35.5482,-35.7825, -35.9387,-36.0942,-36.2505,-36.4063, -36.5624,-36.7186,-36.8752,-37.0318, -37.1884,-37.3448,-37.5016,-37.6582, -37.8154,-37.971,-38.126,-38.2723, -38.5346,-38.6657,-38.7973,-38.929, -39.0605,-39.1919,-39.3235,-39.4551, -39.5865,-39.7183,-39.9157,-40.0472, -40.1786,-40.3103,-40.4421,-40.5742, -40.7724,-40.9696,-41.1665,-41.2981, -41.4952,-41.6265,-41.8241,-41.9557, -42.0876,-42.2193,-42.3512,-42.4941)
FOOTPRINT_POINT_LONGITUDE = (64.1386,63.8421,63.6549,63.4052, 63.1714,62.9217,62.6627,62.6681,62.6735 ,62.6786,62.6834,62.6908,62.6958, 62.7004,62.7075,62.7121,62.7157,62.7197 ,62.7239,62.7301,62.7364,62.7399, 62.7474,62.7537,62.7609,62.7681,62.7712 ,62.7781,62.7832,62.786,62.7888,62.7935 ,62.7965,62.7997,62.8027,62.8057, 62.8089,62.8123,62.8152,62.8177,62.8205 ,62.823,62.8266,62.8289,62.8326,62.8358 ,62.8375,62.8393,63.1842,63.3978,63.644 ,63.8906,64.1369,64.4494,64.5341, 64.5288,64.5253,64.5221,64.5185,64.5152 ,64.5116,64.5081,64.5042,64.5005, 64.4966,64.4929,64.4889,64.485,64.4808, 64.4775,64.4745,64.4711,64.4645,64.4613 ,64.4577,64.4541,64.4505,64.447,64.4434 ,64.4398,64.4362,64.4324,64.4269, 64.4232,64.4196,64.4158,64.4119,64.4078 ,64.4016,64.3959,64.3904,64.3866, 64.3809,64.3771,64.371,64.3669,64.3627, 64.3585,64.3543,64.1386)
ORBIT_NUMBER = 14810
ORBITAL_ECCENTRICITY = 0.578
ORBITAL_INCLINATION = 86.93
ORBITAL_SEMIMAJOR_AXIS = 8792.54
PERIAPSIS_ALTITUDE = 328.28
PERIAPSIS_ARGUMENT_ANGLE = 305.34
PERIAPSIS_TIME = 2015-09-05T12:16:51.000Z
SPACECRAFT_ORIENTATION = (0.0,1.0,0.0)
^MEX_ORIENTATION_DESC = "MEX_ORIENTATION_DESC.TXT"
SPACECRAFT_POINTING_MODE = NADIR
^MEX_POINTING_DESC = "MEX_POINTING_DESC.TXT"
RIGHT_ASCENSION = -1e+32
DECLINATION = -1e+32
OFFSET_ANGLE = -1e+32
SPACECRAFT_SOLAR_DISTANCE = 2.44991e+08
TARGET_NAME = MARS
/* CAMERA DATA ELEMENTS */
DETECTOR_TEMPERATURE = 18.7783
FOCAL_PLANE_TEMPERATURE = 7.7677
INST_CMPRS_NAME = "DISCRETE COSINE TRANSFORMATION (DCT)"
INST_CMPRS_RATIO = 7.84285
INST_CMPRS_QUALITY = 0
INST_CMPRS_QUANTZ_TBL_ID = 0
INSTRUMENT_TEMPERATURE = 11.0301
LENS_TEMPERATURE = 8.7872
MACROPIXEL_SIZE = 2
MISSING_FRAMES = 0
PIXEL_SUBSAMPLING_FLAG = N
SIGNAL_CHAIN_ID = 3
/* RADIOMETRIC DATA ELEMENTS */
BANDWIDTH = 177.0
CENTER_FILTER_WAVELENGTH = 676.5
RADIANCE_OFFSET = 3.38797
RADIANCE_SCALING_FACTOR = 0.00828741
REFLECTANCE_SCALING_FACTOR = 0.000263743
MEX:REFLECTANCE_OFFSET = 0.107821
/* IMAGE OBJECT DEFINITIONS */
OBJECT = IMAGE
  INTERCHANGE_FORMAT = BINARY
  LINES = 16744
  LINE_SAMPLES = 3484
  SAMPLE_TYPE = UNSIGNED_INTEGER
  SAMPLE_BITS = 8
  BANDS = 1
  BAND_STORAGE_TYPE = BAND_SEQUENTIAL
  MAXIMUM = 255
  MEAN = 154.256
  MINIMUM = 1
  STANDARD_DEVIATION = 36.2565
END_OBJECT = IMAGE
/* MAP OBJECT DEFINITIONS */
OBJECT = IMAGE_MAP_PROJECTION
  ^DATA_SET_MAP_PROJECTION_CATALOG= "DSMAP.CAT"
  A_AXIS_RADIUS = 3396.0
  B_AXIS_RADIUS = 3396.0
  C_AXIS_RADIUS = 3396.0
  CENTER_LATITUDE = 0.0
  CENTER_LONGITUDE = 64.0
  COORDINATE_SYSTEM_NAME = PLANETOGRAPHIC
  COORDINATE_SYSTEM_TYPE = "BODY-FIXED ROTATING"
  EASTERNMOST_LONGITUDE = 64.5341
  FIRST_STANDARD_PARALLEL = "N/A"
  LINE_FIRST_PIXEL = 1
  LINE_LAST_PIXEL = 16744
  LINE_PROJECTION_OFFSET = -83924.25
  MAP_PROJECTION_ROTATION = 0.0
  MAP_PROJECTION_TYPE = SINUSOIDAL
  MAP_RESOLUTION = 2370.85521546667
  MAP_SCALE = 0.025
  MAXIMUM_LATITUDE = -35.377
  MINIMUM_LATITUDE = -42.4941
  POSITIVE_LONGITUDE_DIRECTION = EAST
  REFERENCE_LATITUDE = "N/A"
  REFERENCE_LONGITUDE = "N/A"
  SAMPLE_FIRST_PIXEL = 1
  SAMPLE_LAST_PIXEL = 3484
  SAMPLE_PROJECTION_OFFSET = 2374.75
  SECOND_STANDARD_PARALLEL = "N/A"
  WESTERNMOST_LONGITUDE = 62.6627
END_OBJECT = IMAGE_MAP_PROJECTION
/* The JPEG2000 image data file associated with this label. */
OBJECT = COMPRESSED_FILE
  FILE_NAME = "HE810_0000_P23.JP2"
  RECORD_TYPE = UNDEFINED
  FILE_RECORDS = UNK
  ENCODING_TYPE = "JP2"
  INTERCHANGE_FORMAT = BINARY
  UNCOMPRESSED_FILE_NAME = "HE810_0000_P23.IMG"
  REQUIRED_STORAGE_BYTES = "58360484"
  ^DESCRIPTION = "JP2INFO.TXT"
END_OBJECT = COMPRESSED_FILE
END
