PDS_VERSION_ID = PDS3
/* FILE DATA ELEMENTS */
RECORD_TYPE = STREAM
/* POINTERS TO DATA OBJECTS */
^COMPRESSED_FILE = "HE811_0009_GR3.JP2"
/* IDENTIFICATION DATA ELEMENTS */
DATA_SET_ID = "MEX-M-HRSC-5-REFDR-MAPPROJECTED-V3.0"
DATA_SET_NAME = "MARS EXPRESS HRSC MAP PROJECTED REFDR V3.0"
DETECTOR_ID = MEX_HRSC_GREEN
EVENT_TYPE = "MARS-REGIONAL-MAPPING-Im-Gl-Pf"
INSTRUMENT_HOST_ID = MEX
INSTRUMENT_HOST_NAME = "MARS EXPRESS"
INSTRUMENT_ID = HRSC
INSTRUMENT_NAME = "HIGH RESOLUTION STEREO CAMERA"
MISSION_NAME = "MARS EXPRESS"
MISSION_PHASE_NAME = ME_Phase_33
PROCESSING_LEVEL_ID = 3
PRODUCT_CREATION_TIME = 2016-10-30T10:43:13.000Z
PRODUCT_ID = "HE811_0009_GR3.JP2"
RELEASE_ID = 0130
REVISION_ID = 0000
/* QUALITY DATA ELEMENTS */
DATA_QUALITY_ID = 1
DATA_QUALITY_DESC = "Data calculated based on original SPICE kernels"
/* TIME DATA ELEMENTS */
SPACECRAFT_CLOCK_START_COUNT = "1/0389560654.09057"
SPACECRAFT_CLOCK_STOP_COUNT = "1/0389560809.39446"
START_TIME = 2015-09-05T19:18:15.263Z
STOP_TIME = 2015-09-05T19:19:45.715Z
/* ORBITAL DATA ELEMENTS */
ASCENDING_NODE_LONGITUDE = 295.56
MAXIMUM_RESOLUTION = 109
FOOTPRINT_POINT_LATITUDE = (-47.5136,-47.5085,-47.5027,-47.4963, -47.4903,-47.4829,-47.477,-47.3714, -47.1987,-47.0235,-46.9067,-46.7899, -46.6732,-46.4981,-46.3816,-46.2649, -46.1483,-46.0317,-45.9151,-45.7403, -45.6238,-45.5074,-45.3909,-45.2163, -45.1,-44.9837,-44.8093,-44.693, -44.5768,-44.4025,-44.2283,-44.1121, -43.9962,-43.8802,-43.764,-43.648, -43.5321,-43.4162,-43.3003,-43.1845, -43.0688,-42.9531,-42.8375,-42.7214, -42.6049,-42.4898,-42.3169,-42.2012, -42.0283,-41.8556,-41.6504,-41.6552, -41.66,-41.6632,-41.6664,-41.6695, -41.6742,-41.7356,-41.8508,-41.9666, -42.1395,-42.2549,-42.3703,-42.4868, -42.6028,-42.7765,-42.9508,-43.067, -43.1831,-43.3572,-43.5309,-43.6475, -43.8221,-44.0548,-44.2294,-44.3459, -44.5206,-44.6953,-44.8118,-44.9284, -45.1032,-45.2198,-45.3364,-45.5113, -45.6281,-45.7448,-45.8616,-46.0368, -46.1537,-46.2706,-46.3875,-46.5045, -46.6214,-46.7384,-46.8554,-46.9725, -47.0896,-47.2653,-47.494,-47.5136)
FOOTPRINT_POINT_LONGITUDE = (321.685,321.45,321.198,320.947,320.728 ,320.477,320.289,320.172,320.183, 320.194,320.201,320.209,320.216,320.226 ,320.232,320.239,320.246,320.253, 320.259,320.269,320.275,320.281,320.288 ,320.297,320.303,320.309,320.318, 320.323,320.329,320.338,320.346,320.352 ,320.357,320.362,320.368,320.373, 320.379,320.384,320.389,320.394,320.399 ,320.403,320.408,320.414,320.421, 320.424,320.43,320.435,320.441,320.447, 320.641,320.846,321.067,321.225,321.43, 321.651,321.981,322.132,322.127,322.124 ,322.117,322.113,322.108,322.106, 322.103,322.097,322.092,322.089,322.085 ,322.079,322.071,322.068,322.063, 322.055,322.049,322.045,322.038,322.032 ,322.027,322.023,322.016,322.011, 322.006,321.999,321.994,321.989,321.984 ,321.977,321.972,321.967,321.962, 321.957,321.951,321.946,321.941,321.936 ,321.93,321.922,321.911,321.685)
ORBIT_NUMBER = 14811
ORBITAL_ECCENTRICITY = 0.578
ORBITAL_INCLINATION = 86.93
ORBITAL_SEMIMAJOR_AXIS = 8788.43
PERIAPSIS_ALTITUDE = 328.79
PERIAPSIS_ARGUMENT_ANGLE = 305.18
PERIAPSIS_TIME = 2015-09-05T19:16:21.000Z
SPACECRAFT_ORIENTATION = (0.0,1.0,0.0)
^MEX_ORIENTATION_DESC = "MEX_ORIENTATION_DESC.TXT"
SPACECRAFT_POINTING_MODE = NADIR
^MEX_POINTING_DESC = "MEX_POINTING_DESC.TXT"
RIGHT_ASCENSION = -1e+32
DECLINATION = -1e+32
OFFSET_ANGLE = -1e+32
SPACECRAFT_SOLAR_DISTANCE = 2.45023e+08
TARGET_NAME = MARS
/* CAMERA DATA ELEMENTS */
DETECTOR_TEMPERATURE = 18.3705
FOCAL_PLANE_TEMPERATURE = 7.9716
INST_CMPRS_NAME = "DISCRETE COSINE TRANSFORMATION (DCT)"
INST_CMPRS_RATIO = 20.2812
INST_CMPRS_QUALITY = 0
INST_CMPRS_QUANTZ_TBL_ID = 0
INSTRUMENT_TEMPERATURE = 11.6418
LENS_TEMPERATURE = 8.5833
MACROPIXEL_SIZE = 8
MISSING_FRAMES = 0
PIXEL_SUBSAMPLING_FLAG = N
SIGNAL_CHAIN_ID = 2
/* RADIOMETRIC DATA ELEMENTS */
BANDWIDTH = 88.0
CENTER_FILTER_WAVELENGTH = 538.0
RADIANCE_OFFSET = 0.863615
RADIANCE_SCALING_FACTOR = 0.00224422
REFLECTANCE_SCALING_FACTOR = 0.000116003
MEX:REFLECTANCE_OFFSET = 0.0446401
/* IMAGE OBJECT DEFINITIONS */
OBJECT = IMAGE
  INTERCHANGE_FORMAT = BINARY
  LINES = 3487
  LINE_SAMPLES = 854
  SAMPLE_TYPE = UNSIGNED_INTEGER
  SAMPLE_BITS = 8
  BANDS = 1
  BAND_STORAGE_TYPE = BAND_SEQUENTIAL
  MAXIMUM = 255
  MEAN = 172.722
  MINIMUM = 1
  STANDARD_DEVIATION = 25.9681
END_OBJECT = IMAGE
/* MAP OBJECT DEFINITIONS */
OBJECT = IMAGE_MAP_PROJECTION
  ^DATA_SET_MAP_PROJECTION_CATALOG= "DSMAP.CAT"
  A_AXIS_RADIUS = 3396.0
  B_AXIS_RADIUS = 3396.0
  C_AXIS_RADIUS = 3396.0
  CENTER_LATITUDE = 0.0
  CENTER_LONGITUDE = 321.0
  COORDINATE_SYSTEM_NAME = PLANETOGRAPHIC
  COORDINATE_SYSTEM_TYPE = "BODY-FIXED ROTATING"
  EASTERNMOST_LONGITUDE = 322.132
  FIRST_STANDARD_PARALLEL = "N/A"
  LINE_FIRST_PIXEL = 1
  LINE_LAST_PIXEL = 3487
  LINE_PROJECTION_OFFSET = -24691.4375
  MAP_PROJECTION_ROTATION = 0.0
  MAP_PROJECTION_TYPE = SINUSOIDAL
  MAP_RESOLUTION = 592.713803866667
  MAP_SCALE = 0.1
  MAXIMUM_LATITUDE = -41.6504
  MINIMUM_LATITUDE = -47.5136
  POSITIVE_LONGITUDE_DIRECTION = EAST
  REFERENCE_LATITUDE = "N/A"
  REFERENCE_LONGITUDE = "N/A"
  SAMPLE_FIRST_PIXEL = 1
  SAMPLE_LAST_PIXEL = 854
  SAMPLE_PROJECTION_OFFSET = 346.6875
  SECOND_STANDARD_PARALLEL = "N/A"
  WESTERNMOST_LONGITUDE = 320.172
END_OBJECT = IMAGE_MAP_PROJECTION
/* The JPEG2000 image data file associated with this label. */
OBJECT = COMPRESSED_FILE
  FILE_NAME = "HE811_0009_GR3.JP2"
  RECORD_TYPE = UNDEFINED
  FILE_RECORDS = UNK
  ENCODING_TYPE = "JP2"
  INTERCHANGE_FORMAT = BINARY
  UNCOMPRESSED_FILE_NAME = "HE811_0009_GR3.IMG"
  REQUIRED_STORAGE_BYTES = "2996686"
  ^DESCRIPTION = "JP2INFO.TXT"
END_OBJECT = COMPRESSED_FILE
END
