PDS_VERSION_ID = PDS3
/* FILE DATA ELEMENTS */
RECORD_TYPE = STREAM
/* POINTERS TO DATA OBJECTS */
^COMPRESSED_FILE = "HE811_0009_S13.JP2"
/* IDENTIFICATION DATA ELEMENTS */
DATA_SET_ID = "MEX-M-HRSC-5-REFDR-MAPPROJECTED-V3.0"
DATA_SET_NAME = "MARS EXPRESS HRSC MAP PROJECTED REFDR V3.0"
DETECTOR_ID = MEX_HRSC_S1
EVENT_TYPE = "MARS-REGIONAL-MAPPING-Im-Gl-Pf"
INSTRUMENT_HOST_ID = MEX
INSTRUMENT_HOST_NAME = "MARS EXPRESS"
INSTRUMENT_ID = HRSC
INSTRUMENT_NAME = "HIGH RESOLUTION STEREO CAMERA"
MISSION_NAME = "MARS EXPRESS"
MISSION_PHASE_NAME = ME_Phase_33
PROCESSING_LEVEL_ID = 3
PRODUCT_CREATION_TIME = 2016-10-30T10:43:13.000Z
PRODUCT_ID = "HE811_0009_S13.JP2"
RELEASE_ID = 0130
REVISION_ID = 0000
/* QUALITY DATA ELEMENTS */
DATA_QUALITY_ID = 1
DATA_QUALITY_DESC = "Data calculated based on original SPICE kernels"
/* TIME DATA ELEMENTS */
SPACECRAFT_CLOCK_START_COUNT = "1/0389560654.09057"
SPACECRAFT_CLOCK_STOP_COUNT = "1/0389560809.39446"
START_TIME = 2015-09-05T19:18:40.725Z
STOP_TIME = 2015-09-05T19:20:13.854Z
/* ORBITAL DATA ELEMENTS */
ASCENDING_NODE_LONGITUDE = 295.56
MAXIMUM_RESOLUTION = 29.4
FOOTPRINT_POINT_LATITUDE = (-47.4711,-47.464,-47.4587,-47.4509, -47.4443,-47.4372,-47.5125,-47.3955, -47.2783,-47.1614,-47.0451,-46.9283, -46.7532,-46.5784,-46.463,-46.2888, -46.1726,-45.9983,-45.824,-45.7078, -45.5919,-45.4759,-45.3595,-45.1861, -45.0705,-44.9552,-44.8394,-44.7241, -44.6082,-44.4928,-44.3196,-44.146, -43.9735,-43.8583,-43.7419,-43.6265, -43.5112,-43.3965,-43.2819,-43.1672, -43.0529,-42.8809,-42.7035,-42.586, -42.3624,-42.1907,-42.0742,-41.9402, -41.8055,-41.6705,-41.6706,-41.6751, -41.6791,-41.6817,-41.677,-41.6819, -41.6819,-41.6857,-41.8881,-42.0231, -42.2095,-42.4358,-42.6122,-42.7843, -42.8997,-43.0173,-43.1328,-43.3623, -43.5334,-43.6492,-43.7685,-43.8844, -44.0584,-44.174,-44.2908,-44.4068, -44.5807,-44.697,-44.8129,-44.9287, -45.0447,-45.1603,-45.2762,-45.3924, -45.5079,-45.6243,-45.7404,-45.8567, -45.9734,-46.0897,-46.206,-46.3227, -46.4976,-46.6728,-46.7896,-46.9062, -47.0231,-47.1402,-47.3152,-47.4711)
FOOTPRINT_POINT_LONGITUDE = (321.9,321.532,321.281,320.947,320.679, 320.412,320.129,320.137,320.144,320.151 ,320.158,320.165,320.176,320.186, 320.192,320.202,320.209,320.218,320.228 ,320.234,320.24,320.246,320.252,320.261 ,320.267,320.272,320.278,320.283, 320.289,320.294,320.303,320.311,320.318 ,320.324,320.329,320.334,320.339, 320.344,320.349,320.353,320.358,320.365 ,320.374,320.38,320.386,320.392,320.396 ,320.4,320.404,320.409,320.647,320.904, 321.108,321.398,321.551,321.721,321.874 ,322.169,322.162,322.156,322.15,322.141 ,322.137,322.131,322.127,322.124,322.12 ,322.111,322.104,322.1,322.097,322.093, 322.086,322.082,322.078,322.073,322.067 ,322.062,322.057,322.053,322.048, 322.043,322.038,322.033,322.028,322.023 ,322.018,322.013,322.008,322.002, 321.997,321.992,321.984,321.976,321.971 ,321.965,321.96,321.954,321.945,321.9)
ORBIT_NUMBER = 14811
ORBITAL_ECCENTRICITY = 0.578
ORBITAL_INCLINATION = 86.93
ORBITAL_SEMIMAJOR_AXIS = 8788.43
PERIAPSIS_ALTITUDE = 328.79
PERIAPSIS_ARGUMENT_ANGLE = 305.18
PERIAPSIS_TIME = 2015-09-05T19:16:21.000Z
SPACECRAFT_ORIENTATION = (0.0,1.0,0.0)
^MEX_ORIENTATION_DESC = "MEX_ORIENTATION_DESC.TXT"
SPACECRAFT_POINTING_MODE = NADIR
^MEX_POINTING_DESC = "MEX_POINTING_DESC.TXT"
RIGHT_ASCENSION = -1e+32
DECLINATION = -1e+32
OFFSET_ANGLE = -1e+32
SPACECRAFT_SOLAR_DISTANCE = 2.45023e+08
TARGET_NAME = MARS
/* CAMERA DATA ELEMENTS */
DETECTOR_TEMPERATURE = 17.9627
FOCAL_PLANE_TEMPERATURE = 7.9716
INST_CMPRS_NAME = "DISCRETE COSINE TRANSFORMATION (DCT)"
INST_CMPRS_RATIO = 13.8165
INST_CMPRS_QUALITY = 0
INST_CMPRS_QUANTZ_TBL_ID = 0
INSTRUMENT_TEMPERATURE = 11.6418
LENS_TEMPERATURE = 8.5833
MACROPIXEL_SIZE = 2
MISSING_FRAMES = 0
PIXEL_SUBSAMPLING_FLAG = N
SIGNAL_CHAIN_ID = 1
/* RADIOMETRIC DATA ELEMENTS */
BANDWIDTH = 180.0
CENTER_FILTER_WAVELENGTH = 677.0
RADIANCE_OFFSET = 2.28749
RADIANCE_SCALING_FACTOR = 0.00715043
REFLECTANCE_SCALING_FACTOR = 0.000223969
MEX:REFLECTANCE_OFFSET = 0.0716496
/* IMAGE OBJECT DEFINITIONS */
OBJECT = IMAGE
  INTERCHANGE_FORMAT = BINARY
  LINES = 13946
  LINE_SAMPLES = 3413
  SAMPLE_TYPE = UNSIGNED_INTEGER
  SAMPLE_BITS = 8
  BANDS = 1
  BAND_STORAGE_TYPE = BAND_SEQUENTIAL
  MAXIMUM = 255
  MEAN = 143.516
  MINIMUM = 1
  STANDARD_DEVIATION = 23.9974
END_OBJECT = IMAGE
/* MAP OBJECT DEFINITIONS */
OBJECT = IMAGE_MAP_PROJECTION
  ^DATA_SET_MAP_PROJECTION_CATALOG= "DSMAP.CAT"
  A_AXIS_RADIUS = 3396.0
  B_AXIS_RADIUS = 3396.0
  C_AXIS_RADIUS = 3396.0
  CENTER_LATITUDE = 0.0
  CENTER_LONGITUDE = 321.0
  COORDINATE_SYSTEM_NAME = PLANETOGRAPHIC
  COORDINATE_SYSTEM_TYPE = "BODY-FIXED ROTATING"
  EASTERNMOST_LONGITUDE = 322.169
  FIRST_STANDARD_PARALLEL = "N/A"
  LINE_FIRST_PIXEL = 1
  LINE_LAST_PIXEL = 13946
  LINE_PROJECTION_OFFSET = -98764.25
  MAP_PROJECTION_ROTATION = 0.0
  MAP_PROJECTION_TYPE = SINUSOIDAL
  MAP_RESOLUTION = 2370.85521546667
  MAP_SCALE = 0.025
  MAXIMUM_LATITUDE = -41.6705
  MINIMUM_LATITUDE = -47.5125
  POSITIVE_LONGITUDE_DIRECTION = EAST
  REFERENCE_LATITUDE = "N/A"
  REFERENCE_LONGITUDE = "N/A"
  SAMPLE_FIRST_PIXEL = 1
  SAMPLE_LAST_PIXEL = 3413
  SAMPLE_PROJECTION_OFFSET = 1388.25
  SECOND_STANDARD_PARALLEL = "N/A"
  WESTERNMOST_LONGITUDE = 320.129
END_OBJECT = IMAGE_MAP_PROJECTION
/* The JPEG2000 image data file associated with this label. */
OBJECT = COMPRESSED_FILE
  FILE_NAME = "HE811_0009_S13.JP2"
  RECORD_TYPE = UNDEFINED
  FILE_RECORDS = UNK
  ENCODING_TYPE = "JP2"
  INTERCHANGE_FORMAT = BINARY
  UNCOMPRESSED_FILE_NAME = "HE811_0009_S13.IMG"
  REQUIRED_STORAGE_BYTES = "47621589"
  ^DESCRIPTION = "JP2INFO.TXT"
END_OBJECT = COMPRESSED_FILE
END
