PDS_VERSION_ID = PDS3
/* FILE DATA ELEMENTS */
RECORD_TYPE = STREAM
/* POINTERS TO DATA OBJECTS */
^COMPRESSED_FILE = "HE816_0000_S13.JP2"
/* IDENTIFICATION DATA ELEMENTS */
DATA_SET_ID = "MEX-M-HRSC-5-REFDR-MAPPROJECTED-V3.0"
DATA_SET_NAME = "MARS EXPRESS HRSC MAP PROJECTED REFDR V3.0"
DETECTOR_ID = MEX_HRSC_S1
EVENT_TYPE = "MARS-REGIONAL-MAPPING-Im-Pf-Mw"
INSTRUMENT_HOST_ID = MEX
INSTRUMENT_HOST_NAME = "MARS EXPRESS"
INSTRUMENT_ID = HRSC
INSTRUMENT_NAME = "HIGH RESOLUTION STEREO CAMERA"
MISSION_NAME = "MARS EXPRESS"
MISSION_PHASE_NAME = ME_Phase_33
PROCESSING_LEVEL_ID = 3
PRODUCT_CREATION_TIME = 2016-10-30T10:43:13.000Z
PRODUCT_ID = "HE816_0000_S13.JP2"
RELEASE_ID = 0130
REVISION_ID = 0000
/* QUALITY DATA ELEMENTS */
DATA_QUALITY_ID = 1
DATA_QUALITY_DESC = "Data calculated based on original SPICE kernels"
/* TIME DATA ELEMENTS */
SPACECRAFT_CLOCK_START_COUNT = "1/0389686410.09066"
SPACECRAFT_CLOCK_STOP_COUNT = "1/0389686581.33460"
START_TIME = 2015-09-07T06:14:35.248Z
STOP_TIME = 2015-09-07T06:16:25.709Z
/* ORBITAL DATA ELEMENTS */
ASCENDING_NODE_LONGITUDE = 295.46
MAXIMUM_RESOLUTION = 27.8
FOOTPRINT_POINT_LATITUDE = (-54.868,-54.8591,-54.8428,-54.8291, -54.8794,-54.7377,-54.5954,-54.4534, -54.3112,-54.1696,-53.9579,-53.8167, -53.6048,-53.464,-53.3231,-53.181, -53.04,-52.8993,-52.7586,-52.6177, -52.4773,-52.2667,-52.056,-51.8459, -51.7057,-51.5653,-51.3549,-51.2147, -51.0747,-50.9348,-50.795,-50.6548, -50.515,-50.3748,-50.1025,-49.8244, -49.6781,-49.4558,-49.3133,-49.1706, -49.0257,-48.8101,-48.6664,-48.5228, -48.3793,-48.2369,-48.0945,-47.9525, -47.8102,-47.7771,-47.7888,-47.7952, -47.8047,-47.813,-48.0274,-48.1704, -48.3132,-48.4563,-48.5996,-48.7432, -48.8869,-49.0317,-49.2467,-49.3906, -49.5353,-49.6801,-49.8967,-50.0369, -50.1774,-50.3174,-50.5283,-50.669, -50.8093,-50.9498,-51.1607,-51.3015, -51.4421,-51.5825,-51.7937,-51.9349, -52.0757,-52.2872,-52.4282,-52.5694, -52.7108,-52.9228,-53.0645,-53.2058, -53.4174,-53.5588,-53.7001,-53.8409, -53.983,-54.1245,-54.2659,-54.4078, -54.5492,-54.6908,-54.8331,-54.868)
FOOTPRINT_POINT_LONGITUDE = (169.672,169.373,168.87,168.479,168.171 ,168.189,168.207,168.224,168.241, 168.258,168.282,168.298,168.322,168.337 ,168.353,168.368,168.383,168.398, 168.413,168.427,168.441,168.462,168.482 ,168.502,168.515,168.529,168.548, 168.561,168.573,168.585,168.597,168.61, 168.621,168.633,168.652,168.674,168.687 ,168.707,168.717,168.727,168.739, 168.754,168.765,168.775,168.785,168.794 ,168.804,168.813,168.822,169.067, 169.502,169.849,170.231,170.62,170.609, 170.602,170.594,170.586,170.579,170.571 ,170.563,170.556,170.544,170.536, 170.528,170.52,170.508,170.5,170.492, 170.484,170.472,170.464,170.455,170.447 ,170.434,170.426,170.417,170.408, 170.394,170.385,170.376,170.362,170.353 ,170.343,170.334,170.319,170.309, 170.299,170.284,170.274,170.263,170.253 ,170.242,170.231,170.22,170.21,170.198, 170.187,170.176,169.672)
ORBIT_NUMBER = 14816
ORBITAL_ECCENTRICITY = 0.578
ORBITAL_INCLINATION = 86.92
ORBITAL_SEMIMAJOR_AXIS = 8788.94
PERIAPSIS_ALTITUDE = 329.25
PERIAPSIS_ARGUMENT_ANGLE = 304.33
PERIAPSIS_TIME = 2015-09-07T06:13:57.000Z
SPACECRAFT_ORIENTATION = (0.0,1.0,0.0)
^MEX_ORIENTATION_DESC = "MEX_ORIENTATION_DESC.TXT"
SPACECRAFT_POINTING_MODE = NADIR
^MEX_POINTING_DESC = "MEX_POINTING_DESC.TXT"
RIGHT_ASCENSION = -1e+32
DECLINATION = -1e+32
OFFSET_ANGLE = -1e+32
SPACECRAFT_SOLAR_DISTANCE = 2.45179e+08
TARGET_NAME = MARS
/* CAMERA DATA ELEMENTS */
DETECTOR_TEMPERATURE = 17.7588
FOCAL_PLANE_TEMPERATURE = 8.5833
INST_CMPRS_NAME = "DISCRETE COSINE TRANSFORMATION (DCT)"
INST_CMPRS_RATIO = 8.89053
INST_CMPRS_QUALITY = 0
INST_CMPRS_QUANTZ_TBL_ID = 0
INSTRUMENT_TEMPERATURE = 11.8457
LENS_TEMPERATURE = 8.9911
MACROPIXEL_SIZE = 2
MISSING_FRAMES = 0
PIXEL_SUBSAMPLING_FLAG = N
SIGNAL_CHAIN_ID = 1
/* RADIOMETRIC DATA ELEMENTS */
BANDWIDTH = 180.0
CENTER_FILTER_WAVELENGTH = 677.0
RADIANCE_OFFSET = 1.45869
RADIANCE_SCALING_FACTOR = 0.00962058
REFLECTANCE_SCALING_FACTOR = 0.000301723
MEX:REFLECTANCE_OFFSET = 0.0457477
/* IMAGE OBJECT DEFINITIONS */
OBJECT = IMAGE
  INTERCHANGE_FORMAT = BINARY
  LINES = 17047
  LINE_SAMPLES = 3691
  SAMPLE_TYPE = UNSIGNED_INTEGER
  SAMPLE_BITS = 8
  BANDS = 1
  BAND_STORAGE_TYPE = BAND_SEQUENTIAL
  MAXIMUM = 255
  MEAN = 82.8976
  MINIMUM = 1
  STANDARD_DEVIATION = 29.6065
END_OBJECT = IMAGE
/* MAP OBJECT DEFINITIONS */
OBJECT = IMAGE_MAP_PROJECTION
  ^DATA_SET_MAP_PROJECTION_CATALOG= "DSMAP.CAT"
  A_AXIS_RADIUS = 3396.0
  B_AXIS_RADIUS = 3396.0
  C_AXIS_RADIUS = 3396.0
  CENTER_LATITUDE = 0.0
  CENTER_LONGITUDE = 169.0
  COORDINATE_SYSTEM_NAME = PLANETOGRAPHIC
  COORDINATE_SYSTEM_TYPE = "BODY-FIXED ROTATING"
  EASTERNMOST_LONGITUDE = 170.62
  FIRST_STANDARD_PARALLEL = "N/A"
  LINE_FIRST_PIXEL = 1
  LINE_LAST_PIXEL = 17047
  LINE_PROJECTION_OFFSET = -113295.25
  MAP_PROJECTION_ROTATION = 0.0
  MAP_PROJECTION_TYPE = SINUSOIDAL
  MAP_RESOLUTION = 2370.85521546667
  MAP_SCALE = 0.025
  MAXIMUM_LATITUDE = -47.7771
  MINIMUM_LATITUDE = -54.8794
  POSITIVE_LONGITUDE_DIRECTION = EAST
  REFERENCE_LATITUDE = "N/A"
  REFERENCE_LONGITUDE = "N/A"
  SAMPLE_FIRST_PIXEL = 1
  SAMPLE_LAST_PIXEL = 3691
  SAMPLE_PROJECTION_OFFSET = 1124.25
  SECOND_STANDARD_PARALLEL = "N/A"
  WESTERNMOST_LONGITUDE = 168.171
END_OBJECT = IMAGE_MAP_PROJECTION
/* The JPEG2000 image data file associated with this label. */
OBJECT = COMPRESSED_FILE
  FILE_NAME = "HE816_0000_S13.JP2"
  RECORD_TYPE = UNDEFINED
  FILE_RECORDS = UNK
  ENCODING_TYPE = "JP2"
  INTERCHANGE_FORMAT = BINARY
  UNCOMPRESSED_FILE_NAME = "HE816_0000_S13.IMG"
  REQUIRED_STORAGE_BYTES = "62942623"
  ^DESCRIPTION = "JP2INFO.TXT"
END_OBJECT = COMPRESSED_FILE
END
