PDS_VERSION_ID = PDS3
/* FILE DATA ELEMENTS */
RECORD_TYPE = STREAM
/* POINTERS TO DATA OBJECTS */
^COMPRESSED_FILE = "HE817_0000_P23.JP2"
/* IDENTIFICATION DATA ELEMENTS */
DATA_SET_ID = "MEX-M-HRSC-5-REFDR-MAPPROJECTED-V3.0"
DATA_SET_NAME = "MARS EXPRESS HRSC MAP PROJECTED REFDR V3.0"
DETECTOR_ID = MEX_HRSC_P2
EVENT_TYPE = "MARS-REGIONAL-MAPPING-Im-Gl-Pf"
INSTRUMENT_HOST_ID = MEX
INSTRUMENT_HOST_NAME = "MARS EXPRESS"
INSTRUMENT_ID = HRSC
INSTRUMENT_NAME = "HIGH RESOLUTION STEREO CAMERA"
MISSION_NAME = "MARS EXPRESS"
MISSION_PHASE_NAME = ME_Phase_33
PROCESSING_LEVEL_ID = 3
PRODUCT_CREATION_TIME = 2016-10-30T10:43:13.000Z
PRODUCT_ID = "HE817_0000_P23.JP2"
RELEASE_ID = 0130
REVISION_ID = 0000
/* QUALITY DATA ELEMENTS */
DATA_QUALITY_ID = 1
DATA_QUALITY_DESC = "Data calculated based on original SPICE kernels"
/* TIME DATA ELEMENTS */
SPACECRAFT_CLOCK_START_COUNT = "1/0389711774.09034"
SPACECRAFT_CLOCK_STOP_COUNT = "1/0389711973.41112"
START_TIME = 2015-09-07T13:16:31.110Z
STOP_TIME = 2015-09-07T13:18:31.499Z
/* ORBITAL DATA ELEMENTS */
ASCENDING_NODE_LONGITUDE = 295.44
MAXIMUM_RESOLUTION = 29.7
FOOTPRINT_POINT_LATITUDE = (-42.3177,-42.3115,-42.3063,-42.3007, -42.2941,-42.1521,-42.0092,-41.8673, -41.7263,-41.5837,-41.4413,-41.299, -41.1573,-41.0157,-40.8739,-40.7324, -40.5205,-40.3077,-40.1657,-40.0238, -39.8823,-39.7409,-39.5998,-39.4585, -39.3083,-39.1394,-38.9707,-38.7177, -38.5492,-38.2972,-38.1287,-37.8756, -37.6232,-37.4547,-37.2867,-37.1189, -36.9508,-36.6985,-36.4481,-36.2804, -36.0307,-35.8622,-35.692,-35.5227, -35.3547,-35.1866,-35.021,-34.8548, -34.6882,-34.4382,-34.3468,-34.354, -34.3571,-34.3612,-34.3632,-34.3646, -34.5334,-34.7848,-34.9525,-35.1206, -35.3711,-35.5384,-35.7906,-35.9592, -36.1268,-36.2952,-36.5471,-36.7155, -36.883,-37.0515,-37.2212,-37.4741, -37.6414,-37.8093,-37.9786,-38.1469, -38.401,-38.5717,-38.8228,-38.9913, -39.1604,-39.4108,-39.5525,-39.6936, -39.8352,-39.9771,-40.1192,-40.2613, -40.4032,-40.5452,-40.6877,-40.9014, -41.1844,-41.3264,-41.5394,-41.6812, -41.8236,-42.0368,-42.2508,-42.3177)
FOOTPRINT_POINT_LONGITUDE = (68.2481,67.8839,67.6306,67.3933,67.14, 66.881,66.8858,66.891,66.8965,66.9011, 66.9056,66.9101,66.9149,66.9196,66.9241 ,66.9287,66.9355,66.9417,66.9456, 66.9495,66.9534,66.9573,66.9613,66.9651 ,66.9688,66.9729,66.977,66.9829,66.9868 ,66.9928,66.9963,67.0011,67.0061, 67.0091,67.0122,67.0153,67.0181,67.022, 67.0266,67.0291,67.0335,67.0353,67.0361 ,67.0371,67.0388,67.0403,67.0429,67.045 ,67.0469,67.0493,67.2009,67.5227, 67.7758,68.1137,68.4179,68.7222,68.7922 ,68.7869,68.7833,68.7794,68.7746, 68.7713,68.7655,68.7614,68.7578,68.7538 ,68.7482,68.7442,68.7406,68.7366, 68.7318,68.7255,68.7221,68.7183,68.7137 ,68.7096,68.7025,68.697,68.6916,68.6874 ,68.6828,68.6756,68.6716,68.668,68.6641 ,68.66,68.6558,68.6515,68.6474,68.6431, 68.6385,68.6317,68.6236,68.6193,68.6126 ,68.6084,68.6037,68.5968,68.5894, 68.2481)
ORBIT_NUMBER = 14817
ORBITAL_ECCENTRICITY = 0.578
ORBITAL_INCLINATION = 86.93
ORBITAL_SEMIMAJOR_AXIS = 8790.63
PERIAPSIS_ALTITUDE = 328.05
PERIAPSIS_ARGUMENT_ANGLE = 304.14
PERIAPSIS_TIME = 2015-09-07T13:13:26.000Z
SPACECRAFT_ORIENTATION = (0.0,1.0,0.0)
^MEX_ORIENTATION_DESC = "MEX_ORIENTATION_DESC.TXT"
SPACECRAFT_POINTING_MODE = NADIR
^MEX_POINTING_DESC = "MEX_POINTING_DESC.TXT"
RIGHT_ASCENSION = -1e+32
DECLINATION = -1e+32
OFFSET_ANGLE = -1e+32
SPACECRAFT_SOLAR_DISTANCE = 2.4521e+08
TARGET_NAME = MARS
/* CAMERA DATA ELEMENTS */
DETECTOR_TEMPERATURE = 18.5744
FOCAL_PLANE_TEMPERATURE = 8.7872
INST_CMPRS_NAME = "DISCRETE COSINE TRANSFORMATION (DCT)"
INST_CMPRS_RATIO = 7.56751
INST_CMPRS_QUALITY = 0
INST_CMPRS_QUANTZ_TBL_ID = 0
INSTRUMENT_TEMPERATURE = 11.4379
LENS_TEMPERATURE = 8.7872
MACROPIXEL_SIZE = 2
MISSING_FRAMES = 0
PIXEL_SUBSAMPLING_FLAG = N
SIGNAL_CHAIN_ID = 3
/* RADIOMETRIC DATA ELEMENTS */
BANDWIDTH = 177.0
CENTER_FILTER_WAVELENGTH = 676.5
RADIANCE_OFFSET = 3.05253
RADIANCE_SCALING_FACTOR = 0.0103922
REFLECTANCE_SCALING_FACTOR = 0.000331314
MEX:REFLECTANCE_OFFSET = 0.0973181
/* IMAGE OBJECT DEFINITIONS */
OBJECT = IMAGE
  INTERCHANGE_FORMAT = BINARY
  LINES = 18747
  LINE_SAMPLES = 3649
  SAMPLE_TYPE = UNSIGNED_INTEGER
  SAMPLE_BITS = 8
  BANDS = 1
  BAND_STORAGE_TYPE = BAND_SEQUENTIAL
  MAXIMUM = 255
  MEAN = 146.13
  MINIMUM = 1
  STANDARD_DEVIATION = 35.2204
END_OBJECT = IMAGE
/* MAP OBJECT DEFINITIONS */
OBJECT = IMAGE_MAP_PROJECTION
  ^DATA_SET_MAP_PROJECTION_CATALOG= "DSMAP.CAT"
  A_AXIS_RADIUS = 3396.0
  B_AXIS_RADIUS = 3396.0
  C_AXIS_RADIUS = 3396.0
  CENTER_LATITUDE = 0.0
  CENTER_LONGITUDE = 68.0
  COORDINATE_SYSTEM_NAME = PLANETOGRAPHIC
  COORDINATE_SYSTEM_TYPE = "BODY-FIXED ROTATING"
  EASTERNMOST_LONGITUDE = 68.79219999999999
  FIRST_STANDARD_PARALLEL = "N/A"
  LINE_FIRST_PIXEL = 1
  LINE_LAST_PIXEL = 18747
  LINE_PROJECTION_OFFSET = -81491.25
  MAP_PROJECTION_ROTATION = 0.0
  MAP_PROJECTION_TYPE = SINUSOIDAL
  MAP_RESOLUTION = 2370.85521546667
  MAP_SCALE = 0.025
  MAXIMUM_LATITUDE = -34.3468
  MINIMUM_LATITUDE = -42.3177
  POSITIVE_LONGITUDE_DIRECTION = EAST
  REFERENCE_LATITUDE = "N/A"
  REFERENCE_LONGITUDE = "N/A"
  SAMPLE_FIRST_PIXEL = 1
  SAMPLE_LAST_PIXEL = 3649
  SAMPLE_PROJECTION_OFFSET = 2013.75
  SECOND_STANDARD_PARALLEL = "N/A"
  WESTERNMOST_LONGITUDE = 66.881
END_OBJECT = IMAGE_MAP_PROJECTION
/* The JPEG2000 image data file associated with this label. */
OBJECT = COMPRESSED_FILE
  FILE_NAME = "HE817_0000_P23.JP2"
  RECORD_TYPE = UNDEFINED
  FILE_RECORDS = UNK
  ENCODING_TYPE = "JP2"
  INTERCHANGE_FORMAT = BINARY
  UNCOMPRESSED_FILE_NAME = "HE817_0000_P23.IMG"
  REQUIRED_STORAGE_BYTES = "68429697"
  ^DESCRIPTION = "JP2INFO.TXT"
END_OBJECT = COMPRESSED_FILE
END
