PDS_VERSION_ID = PDS3
/* FILE DATA ELEMENTS */
RECORD_TYPE = STREAM
/* POINTERS TO DATA OBJECTS */
^COMPRESSED_FILE = "HE818_0000_P23.JP2"
/* IDENTIFICATION DATA ELEMENTS */
DATA_SET_ID = "MEX-M-HRSC-5-REFDR-MAPPROJECTED-V3.0"
DATA_SET_NAME = "MARS EXPRESS HRSC MAP PROJECTED REFDR V3.0"
DETECTOR_ID = MEX_HRSC_P2
EVENT_TYPE = "MARS-REGIONAL-STEREO-Im-Gl-Pf"
INSTRUMENT_HOST_ID = MEX
INSTRUMENT_HOST_NAME = "MARS EXPRESS"
INSTRUMENT_ID = HRSC
INSTRUMENT_NAME = "HIGH RESOLUTION STEREO CAMERA"
MISSION_NAME = "MARS EXPRESS"
MISSION_PHASE_NAME = ME_Phase_33
PROCESSING_LEVEL_ID = 3
PRODUCT_CREATION_TIME = 2016-10-30T10:43:13.000Z
PRODUCT_ID = "HE818_0000_P23.JP2"
RELEASE_ID = 0130
REVISION_ID = 0000
/* QUALITY DATA ELEMENTS */
DATA_QUALITY_ID = 1
DATA_QUALITY_DESC = "Data calculated based on original SPICE kernels"
/* TIME DATA ELEMENTS */
SPACECRAFT_CLOCK_START_COUNT = "1/0389736840.08242"
SPACECRAFT_CLOCK_STOP_COUNT = "1/0389736981.58570"
START_TIME = 2015-09-07T20:14:16.482Z
STOP_TIME = 2015-09-07T20:15:32.471Z
/* ORBITAL DATA ELEMENTS */
ASCENDING_NODE_LONGITUDE = 295.43
MAXIMUM_RESOLUTION = 27.5
FOOTPRINT_POINT_LATITUDE = (-49.3709,-49.3671,-49.3597,-49.3545, -49.3468,-49.339,-49.3299,-49.3238, -49.1653,-49.0675,-48.9695,-48.8712, -48.7734,-48.5788,-48.4806,-48.3826, -48.2354,-48.1374,-47.9905,-47.8925, -47.7456,-47.6477,-47.5498,-47.403, -47.305,-47.1583,-47.0605,-46.9626, -46.8159,-46.7181,-46.5678,-46.4667, -46.3151,-46.214,-46.0629,-45.9114, -45.8103,-45.7093,-45.5577,-45.4073, -45.2574,-45.0592,-44.9575,-44.854, -44.7515,-44.6523,-44.5523,-44.4038, -44.258,-44.2682,-44.2761,-44.2796, -44.2857,-44.2892,-44.2931,-44.3032, -44.3061,-44.3538,-44.4533,-44.5544, -44.7062,-44.8075,-44.9088,-45.0608, -45.1622,-45.2638,-45.3655,-45.4674, -45.6196,-45.7212,-45.8217,-45.9222, -46.0229,-46.1248,-46.2265,-46.3791, -46.5322,-46.6326,-46.7328,-46.8799, -46.9779,-47.0756,-47.1738,-47.2725, -47.3715,-47.4702,-47.6185,-47.7173, -47.9124,-48.0572,-48.2039,-48.3028, -48.4008,-48.5479,-48.6463,-48.7445, -48.8433,-48.9915,-49.1869,-49.3709)
FOOTPRINT_POINT_LONGITUDE = (326.004,325.82,325.502,325.302,325.035 ,324.784,324.517,324.35,324.252,324.259 ,324.267,324.274,324.281,324.296, 324.303,324.31,324.32,324.327,324.337, 324.344,324.354,324.36,324.367,324.376, 324.383,324.392,324.398,324.405,324.414 ,324.42,324.429,324.435,324.444,324.45, 324.459,324.468,324.474,324.479,324.488 ,324.497,324.506,324.519,324.523, 324.527,324.532,324.538,324.543,324.552 ,324.555,324.853,325.068,325.217, 325.464,325.613,325.761,325.973,326.121 ,326.26,326.258,326.254,326.248,326.244 ,326.24,326.234,326.23,326.226,326.222, 326.217,326.211,326.207,326.203,326.2, 326.196,326.191,326.187,326.18,326.173, 326.169,326.165,326.159,326.154,326.15, 326.146,326.141,326.136,326.131,326.123 ,326.118,326.11,326.105,326.098,326.093 ,326.088,326.081,326.076,326.071, 326.065,326.057,326.048,326.004)
ORBIT_NUMBER = 14818
ORBITAL_ECCENTRICITY = 0.578
ORBITAL_INCLINATION = 86.93
ORBITAL_SEMIMAJOR_AXIS = 8786.52
PERIAPSIS_ALTITUDE = 328.65
PERIAPSIS_ARGUMENT_ANGLE = 303.98
PERIAPSIS_TIME = 2015-09-07T20:12:56.000Z
SPACECRAFT_ORIENTATION = (0.0,1.0,0.0)
^MEX_ORIENTATION_DESC = "MEX_ORIENTATION_DESC.TXT"
SPACECRAFT_POINTING_MODE = NADIR
^MEX_POINTING_DESC = "MEX_POINTING_DESC.TXT"
RIGHT_ASCENSION = -1e+32
DECLINATION = -1e+32
OFFSET_ANGLE = -1e+32
SPACECRAFT_SOLAR_DISTANCE = 2.45241e+08
TARGET_NAME = MARS
/* CAMERA DATA ELEMENTS */
DETECTOR_TEMPERATURE = 18.7783
FOCAL_PLANE_TEMPERATURE = 8.5833
INST_CMPRS_NAME = "DISCRETE COSINE TRANSFORMATION (DCT)"
INST_CMPRS_RATIO = 9.83593
INST_CMPRS_QUALITY = 0
INST_CMPRS_QUANTZ_TBL_ID = 0
INSTRUMENT_TEMPERATURE = 12.2535
LENS_TEMPERATURE = 8.7872
MACROPIXEL_SIZE = 2
MISSING_FRAMES = 0
PIXEL_SUBSAMPLING_FLAG = N
SIGNAL_CHAIN_ID = 3
/* RADIOMETRIC DATA ELEMENTS */
BANDWIDTH = 177.0
CENTER_FILTER_WAVELENGTH = 676.5
RADIANCE_OFFSET = 1.20974
RADIANCE_SCALING_FACTOR = 0.0122463
REFLECTANCE_SCALING_FACTOR = 0.000390526
MEX:REFLECTANCE_OFFSET = 0.0385776
/* IMAGE OBJECT DEFINITIONS */
OBJECT = IMAGE
  INTERCHANGE_FORMAT = BINARY
  LINES = 11985
  LINE_SAMPLES = 3376
  SAMPLE_TYPE = UNSIGNED_INTEGER
  SAMPLE_BITS = 8
  BANDS = 1
  BAND_STORAGE_TYPE = BAND_SEQUENTIAL
  MAXIMUM = 255
  MEAN = 130.917
  MINIMUM = 1
  STANDARD_DEVIATION = 19.8271
END_OBJECT = IMAGE
/* MAP OBJECT DEFINITIONS */
OBJECT = IMAGE_MAP_PROJECTION
  ^DATA_SET_MAP_PROJECTION_CATALOG= "DSMAP.CAT"
  A_AXIS_RADIUS = 3396.0
  B_AXIS_RADIUS = 3396.0
  C_AXIS_RADIUS = 3396.0
  CENTER_LATITUDE = 0.0
  CENTER_LONGITUDE = 325.0
  COORDINATE_SYSTEM_NAME = PLANETOGRAPHIC
  COORDINATE_SYSTEM_TYPE = "BODY-FIXED ROTATING"
  EASTERNMOST_LONGITUDE = 326.26
  FIRST_STANDARD_PARALLEL = "N/A"
  LINE_FIRST_PIXEL = 1
  LINE_LAST_PIXEL = 11985
  LINE_PROJECTION_OFFSET = -104938.75
  MAP_PROJECTION_ROTATION = 0.0
  MAP_PROJECTION_TYPE = SINUSOIDAL
  MAP_RESOLUTION = 2370.85521546667
  MAP_SCALE = 0.025
  MAXIMUM_LATITUDE = -44.258
  MINIMUM_LATITUDE = -49.3709
  POSITIVE_LONGITUDE_DIRECTION = EAST
  REFERENCE_LATITUDE = "N/A"
  REFERENCE_LONGITUDE = "N/A"
  SAMPLE_FIRST_PIXEL = 1
  SAMPLE_LAST_PIXEL = 3376
  SAMPLE_PROJECTION_OFFSET = 1187.75
  SECOND_STANDARD_PARALLEL = "N/A"
  WESTERNMOST_LONGITUDE = 324.252
END_OBJECT = IMAGE_MAP_PROJECTION
/* The JPEG2000 image data file associated with this label. */
OBJECT = COMPRESSED_FILE
  FILE_NAME = "HE818_0000_P23.JP2"
  RECORD_TYPE = UNDEFINED
  FILE_RECORDS = UNK
  ENCODING_TYPE = "JP2"
  INTERCHANGE_FORMAT = BINARY
  UNCOMPRESSED_FILE_NAME = "HE818_0000_P23.IMG"
  REQUIRED_STORAGE_BYTES = "40484992"
  ^DESCRIPTION = "JP2INFO.TXT"
END_OBJECT = COMPRESSED_FILE
END
