PDS_VERSION_ID = PDS3
/* FILE DATA ELEMENTS */
RECORD_TYPE = STREAM
/* POINTERS TO DATA OBJECTS */
^COMPRESSED_FILE = "HE818_0000_S13.JP2"
/* IDENTIFICATION DATA ELEMENTS */
DATA_SET_ID = "MEX-M-HRSC-5-REFDR-MAPPROJECTED-V3.0"
DATA_SET_NAME = "MARS EXPRESS HRSC MAP PROJECTED REFDR V3.0"
DETECTOR_ID = MEX_HRSC_S1
EVENT_TYPE = "MARS-REGIONAL-STEREO-Im-Gl-Pf"
INSTRUMENT_HOST_ID = MEX
INSTRUMENT_HOST_NAME = "MARS EXPRESS"
INSTRUMENT_ID = HRSC
INSTRUMENT_NAME = "HIGH RESOLUTION STEREO CAMERA"
MISSION_NAME = "MARS EXPRESS"
MISSION_PHASE_NAME = ME_Phase_33
PROCESSING_LEVEL_ID = 3
PRODUCT_CREATION_TIME = 2016-10-30T10:43:13.000Z
PRODUCT_ID = "HE818_0000_S13.JP2"
RELEASE_ID = 0130
REVISION_ID = 0000
/* QUALITY DATA ELEMENTS */
DATA_QUALITY_ID = 1
DATA_QUALITY_DESC = "Data calculated based on original SPICE kernels"
/* TIME DATA ELEMENTS */
SPACECRAFT_CLOCK_START_COUNT = "1/0389736840.08242"
SPACECRAFT_CLOCK_STOP_COUNT = "1/0389736981.58570"
START_TIME = 2015-09-07T20:15:06.606Z
STOP_TIME = 2015-09-07T20:16:26.100Z
/* ORBITAL DATA ELEMENTS */
ASCENDING_NODE_LONGITUDE = 295.43
MAXIMUM_RESOLUTION = 14.6
FOOTPRINT_POINT_LATITUDE = (-49.2386,-49.2335,-49.2268,-49.22, -49.2124,-49.2079,-49.2021,-49.2782, -49.1275,-49.0265,-48.8754,-48.7745, -48.673,-48.5208,-48.4204,-48.3202, -48.2194,-48.1188,-48.0182,-47.8674, -47.767,-47.6163,-47.4656,-47.3653, -47.265,-47.1144,-47.0141,-46.8637, -46.7635,-46.6634,-46.513,-46.3631, -46.2133,-46.1125,-46.0124,-45.863, -45.7632,-45.6635,-45.5636,-45.4115, -45.3111,-45.1598,-45.0567,-44.8629, -44.7151,-44.6118,-44.5132,-44.3225, -44.2689,-44.2717,-44.2741,-44.2802, -44.283,-44.2845,-44.2826,-44.2833, -44.2887,-44.4436,-44.5422,-44.6417, -44.7914,-44.8908,-45.0401,-45.1396, -45.2884,-45.3877,-45.5352,-45.6359, -45.7364,-45.8359,-45.9356,-46.0368, -46.1363,-46.2857,-46.3851,-46.4861, -46.638,-46.7388,-46.8394,-46.9905, -47.0911,-47.241,-47.3899,-47.4894, -47.6384,-47.7384,-47.8409,-47.9443, -48.0987,-48.2493,-48.3502,-48.502, -48.6529,-48.7535,-48.8534,-49.0054, -49.107,-49.2085,-49.3102,-49.2386)
FOOTPRINT_POINT_LONGITUDE = (325.777,325.55,325.27,325.007,324.728, 324.57,324.378,324.22,324.231,324.238, 324.249,324.256,324.263,324.274,324.281 ,324.287,324.294,324.301,324.307, 324.317,324.324,324.333,324.343,324.349 ,324.355,324.364,324.37,324.379,324.385 ,324.391,324.399,324.408,324.416, 324.422,324.427,324.435,324.441,324.446 ,324.451,324.46,324.466,324.474,324.481 ,324.488,324.494,324.501,324.505, 324.511,324.727,324.94,325.1,325.365, 325.524,325.789,325.93,326.158,326.309, 326.305,326.301,326.297,326.291,326.287 ,326.281,326.276,326.27,326.265,326.258 ,326.254,326.25,326.245,326.24,326.236, 326.232,326.224,326.22,326.215,326.209, 326.204,326.2,326.193,326.188,326.18, 326.172,326.167,326.158,326.153,326.148 ,326.144,326.138,326.13,326.124,326.116 ,326.108,326.102,326.096,326.088, 326.083,326.077,326.072,325.777)
ORBIT_NUMBER = 14818
ORBITAL_ECCENTRICITY = 0.578
ORBITAL_INCLINATION = 86.93
ORBITAL_SEMIMAJOR_AXIS = 8786.52
PERIAPSIS_ALTITUDE = 328.65
PERIAPSIS_ARGUMENT_ANGLE = 303.98
PERIAPSIS_TIME = 2015-09-07T20:12:56.000Z
SPACECRAFT_ORIENTATION = (0.0,1.0,0.0)
^MEX_ORIENTATION_DESC = "MEX_ORIENTATION_DESC.TXT"
SPACECRAFT_POINTING_MODE = NADIR
^MEX_POINTING_DESC = "MEX_POINTING_DESC.TXT"
RIGHT_ASCENSION = -1e+32
DECLINATION = -1e+32
OFFSET_ANGLE = -1e+32
SPACECRAFT_SOLAR_DISTANCE = 2.45241e+08
TARGET_NAME = MARS
/* CAMERA DATA ELEMENTS */
DETECTOR_TEMPERATURE = 17.351
FOCAL_PLANE_TEMPERATURE = 8.5833
INST_CMPRS_NAME = "DISCRETE COSINE TRANSFORMATION (DCT)"
INST_CMPRS_RATIO = 7.84918
INST_CMPRS_QUALITY = 0
INST_CMPRS_QUANTZ_TBL_ID = 0
INSTRUMENT_TEMPERATURE = 12.2535
LENS_TEMPERATURE = 8.7872
MACROPIXEL_SIZE = 1
MISSING_FRAMES = 0
PIXEL_SUBSAMPLING_FLAG = N
SIGNAL_CHAIN_ID = 2
/* RADIOMETRIC DATA ELEMENTS */
BANDWIDTH = 180.0
CENTER_FILTER_WAVELENGTH = 677.0
RADIANCE_OFFSET = 1.24636
RADIANCE_SCALING_FACTOR = 0.0128301
REFLECTANCE_SCALING_FACTOR = 0.000402587
MEX:REFLECTANCE_OFFSET = 0.0391084
/* IMAGE OBJECT DEFINITIONS */
OBJECT = IMAGE
  INTERCHANGE_FORMAT = BINARY
  LINES = 23969
  LINE_SAMPLES = 6752
  SAMPLE_TYPE = UNSIGNED_INTEGER
  SAMPLE_BITS = 8
  BANDS = 1
  BAND_STORAGE_TYPE = BAND_SEQUENTIAL
  MAXIMUM = 255
  MEAN = 130.168
  MINIMUM = 1
  STANDARD_DEVIATION = 20.4229
END_OBJECT = IMAGE
/* MAP OBJECT DEFINITIONS */
OBJECT = IMAGE_MAP_PROJECTION
  ^DATA_SET_MAP_PROJECTION_CATALOG= "DSMAP.CAT"
  A_AXIS_RADIUS = 3396.0
  B_AXIS_RADIUS = 3396.0
  C_AXIS_RADIUS = 3396.0
  CENTER_LATITUDE = 0.0
  CENTER_LONGITUDE = 325.0
  COORDINATE_SYSTEM_NAME = PLANETOGRAPHIC
  COORDINATE_SYSTEM_TYPE = "BODY-FIXED ROTATING"
  EASTERNMOST_LONGITUDE = 326.309
  FIRST_STANDARD_PARALLEL = "N/A"
  LINE_FIRST_PIXEL = 1
  LINE_LAST_PIXEL = 23969
  LINE_PROJECTION_OFFSET = -209877.0
  MAP_PROJECTION_ROTATION = 0.0
  MAP_PROJECTION_TYPE = SINUSOIDAL
  MAP_RESOLUTION = 4741.71043093333
  MAP_SCALE = 0.0125
  MAXIMUM_LATITUDE = -44.2689
  MINIMUM_LATITUDE = -49.3102
  POSITIVE_LONGITUDE_DIRECTION = EAST
  REFERENCE_LATITUDE = "N/A"
  REFERENCE_LONGITUDE = "N/A"
  SAMPLE_FIRST_PIXEL = 1
  SAMPLE_LAST_PIXEL = 6752
  SAMPLE_PROJECTION_OFFSET = 2376.0
  SECOND_STANDARD_PARALLEL = "N/A"
  WESTERNMOST_LONGITUDE = 324.22
END_OBJECT = IMAGE_MAP_PROJECTION
/* The JPEG2000 image data file associated with this label. */
OBJECT = COMPRESSED_FILE
  FILE_NAME = "HE818_0000_S13.JP2"
  RECORD_TYPE = UNDEFINED
  FILE_RECORDS = UNK
  ENCODING_TYPE = "JP2"
  INTERCHANGE_FORMAT = BINARY
  UNCOMPRESSED_FILE_NAME = "HE818_0000_S13.IMG"
  REQUIRED_STORAGE_BYTES = "161872448"
  ^DESCRIPTION = "JP2INFO.TXT"
END_OBJECT = COMPRESSED_FILE
END
