PDS_VERSION_ID = PDS3
/* FILE DATA ELEMENTS */
RECORD_TYPE = STREAM
/* POINTERS TO DATA OBJECTS */
^COMPRESSED_FILE = "HE818_0000_S23.JP2"
/* IDENTIFICATION DATA ELEMENTS */
DATA_SET_ID = "MEX-M-HRSC-5-REFDR-MAPPROJECTED-V3.0"
DATA_SET_NAME = "MARS EXPRESS HRSC MAP PROJECTED REFDR V3.0"
DETECTOR_ID = MEX_HRSC_S2
EVENT_TYPE = "MARS-REGIONAL-STEREO-Im-Gl-Pf"
INSTRUMENT_HOST_ID = MEX
INSTRUMENT_HOST_NAME = "MARS EXPRESS"
INSTRUMENT_ID = HRSC
INSTRUMENT_NAME = "HIGH RESOLUTION STEREO CAMERA"
MISSION_NAME = "MARS EXPRESS"
MISSION_PHASE_NAME = ME_Phase_33
PROCESSING_LEVEL_ID = 3
PRODUCT_CREATION_TIME = 2016-10-30T10:43:13.000Z
PRODUCT_ID = "HE818_0000_S23.JP2"
RELEASE_ID = 0130
REVISION_ID = 0000
/* QUALITY DATA ELEMENTS */
DATA_QUALITY_ID = 1
DATA_QUALITY_DESC = "Data calculated based on original SPICE kernels"
/* TIME DATA ELEMENTS */
SPACECRAFT_CLOCK_START_COUNT = "1/0389736840.08242"
SPACECRAFT_CLOCK_STOP_COUNT = "1/0389736981.58570"
START_TIME = 2015-09-07T20:14:06.345Z
STOP_TIME = 2015-09-07T20:15:22.105Z
/* ORBITAL DATA ELEMENTS */
ASCENDING_NODE_LONGITUDE = 295.43
MAXIMUM_RESOLUTION = 14.1
FOOTPRINT_POINT_LATITUDE = (-49.3971,-49.3928,-49.3858,-49.38, -49.3714,-49.362,-49.3497,-49.1638, -49.0154,-48.9157,-48.7668,-48.6681, -48.5206,-48.4211,-48.2716,-48.1229, -48.0237,-47.9246,-47.7756,-47.6763, -47.577,-47.4283,-47.329,-47.18,-47.081 ,-46.9819,-46.8331,-46.7339,-46.5856, -46.4864,-46.3376,-46.2385,-46.0898, -45.9915,-45.8888,-45.7348,-45.581, -45.4792,-45.329,-45.226,-45.0782, -44.9747,-44.8682,-44.7635,-44.6636, -44.5626,-44.4621,-44.358,-44.2502, -44.2582,-44.2657,-44.2711,-44.2781, -44.2829,-44.2887,-44.301,-44.3477, -44.4479,-44.5512,-44.6541,-44.8078, -44.9108,-45.065,-45.2195,-45.3747, -45.4784,-45.5828,-45.6844,-45.7864, -45.9394,-46.0414,-46.1925,-46.2927, -46.392,-46.493,-46.5921,-46.7385, -46.8379,-46.9368,-47.0356,-47.1357, -47.2365,-47.3372,-47.4876,-47.588, -47.7385,-47.9326,-48.129,-48.2291, -48.329,-48.4281,-48.5285,-48.6777, -48.8281,-48.9283,-49.0272,-49.126, -49.2246,-49.3237,-49.3971)
FOOTPRINT_POINT_LONGITUDE = (325.817,325.629,325.357,325.152,324.88 ,324.608,324.284,324.252,324.264, 324.271,324.282,324.29,324.301,324.308, 324.319,324.329,324.336,324.343,324.353 ,324.36,324.366,324.376,324.383,324.392 ,324.399,324.405,324.415,324.421,324.43 ,324.436,324.445,324.451,324.46,324.466 ,324.472,324.481,324.489,324.495, 324.505,324.51,324.521,324.526,324.53, 324.534,324.54,324.546,324.552,324.557, 324.626,324.862,325.03,325.231,325.499, 325.684,325.851,326.099,326.259,326.257 ,326.253,326.249,326.243,326.239, 326.233,326.227,326.221,326.216,326.212 ,326.208,326.204,326.199,326.195, 326.188,326.183,326.179,326.174,326.17, 326.165,326.161,326.157,326.153,326.148 ,326.143,326.138,326.131,326.126, 326.118,326.111,326.103,326.098,326.093 ,326.088,326.083,326.076,326.068, 326.062,326.057,326.053,326.048,326.043 ,325.817)
ORBIT_NUMBER = 14818
ORBITAL_ECCENTRICITY = 0.578
ORBITAL_INCLINATION = 86.93
ORBITAL_SEMIMAJOR_AXIS = 8786.52
PERIAPSIS_ALTITUDE = 328.65
PERIAPSIS_ARGUMENT_ANGLE = 303.98
PERIAPSIS_TIME = 2015-09-07T20:12:56.000Z
SPACECRAFT_ORIENTATION = (0.0,1.0,0.0)
^MEX_ORIENTATION_DESC = "MEX_ORIENTATION_DESC.TXT"
SPACECRAFT_POINTING_MODE = NADIR
^MEX_POINTING_DESC = "MEX_POINTING_DESC.TXT"
RIGHT_ASCENSION = -1e+32
DECLINATION = -1e+32
OFFSET_ANGLE = -1e+32
SPACECRAFT_SOLAR_DISTANCE = 2.45241e+08
TARGET_NAME = MARS
/* CAMERA DATA ELEMENTS */
DETECTOR_TEMPERATURE = 18.7783
FOCAL_PLANE_TEMPERATURE = 8.5833
INST_CMPRS_NAME = "DISCRETE COSINE TRANSFORMATION (DCT)"
INST_CMPRS_RATIO = 7.31121
INST_CMPRS_QUALITY = 0
INST_CMPRS_QUANTZ_TBL_ID = 0
INSTRUMENT_TEMPERATURE = 12.2535
LENS_TEMPERATURE = 8.7872
MACROPIXEL_SIZE = 1
MISSING_FRAMES = 0
PIXEL_SUBSAMPLING_FLAG = N
SIGNAL_CHAIN_ID = 1
/* RADIOMETRIC DATA ELEMENTS */
BANDWIDTH = 178.0
CENTER_FILTER_WAVELENGTH = 679.0
RADIANCE_OFFSET = 1.27082
RADIANCE_SCALING_FACTOR = 0.0129836
REFLECTANCE_SCALING_FACTOR = 0.000413533
MEX:REFLECTANCE_OFFSET = 0.0404761
/* IMAGE OBJECT DEFINITIONS */
OBJECT = IMAGE
  INTERCHANGE_FORMAT = BINARY
  LINES = 23969
  LINE_SAMPLES = 6752
  SAMPLE_TYPE = UNSIGNED_INTEGER
  SAMPLE_BITS = 8
  BANDS = 1
  BAND_STORAGE_TYPE = BAND_SEQUENTIAL
  MAXIMUM = 255
  MEAN = 135.821
  MINIMUM = 1
  STANDARD_DEVIATION = 20.0813
END_OBJECT = IMAGE
/* MAP OBJECT DEFINITIONS */
OBJECT = IMAGE_MAP_PROJECTION
  ^DATA_SET_MAP_PROJECTION_CATALOG= "DSMAP.CAT"
  A_AXIS_RADIUS = 3396.0
  B_AXIS_RADIUS = 3396.0
  C_AXIS_RADIUS = 3396.0
  CENTER_LATITUDE = 0.0
  CENTER_LONGITUDE = 325.0
  COORDINATE_SYSTEM_NAME = PLANETOGRAPHIC
  COORDINATE_SYSTEM_TYPE = "BODY-FIXED ROTATING"
  EASTERNMOST_LONGITUDE = 326.259
  FIRST_STANDARD_PARALLEL = "N/A"
  LINE_FIRST_PIXEL = 1
  LINE_LAST_PIXEL = 23969
  LINE_PROJECTION_OFFSET = -209877.0
  MAP_PROJECTION_ROTATION = 0.0
  MAP_PROJECTION_TYPE = SINUSOIDAL
  MAP_RESOLUTION = 4741.71043093333
  MAP_SCALE = 0.0125
  MAXIMUM_LATITUDE = -44.2502
  MINIMUM_LATITUDE = -49.3971
  POSITIVE_LONGITUDE_DIRECTION = EAST
  REFERENCE_LATITUDE = "N/A"
  REFERENCE_LONGITUDE = "N/A"
  SAMPLE_FIRST_PIXEL = 1
  SAMPLE_LAST_PIXEL = 6752
  SAMPLE_PROJECTION_OFFSET = 2376.0
  SECOND_STANDARD_PARALLEL = "N/A"
  WESTERNMOST_LONGITUDE = 324.252
END_OBJECT = IMAGE_MAP_PROJECTION
/* The JPEG2000 image data file associated with this label. */
OBJECT = COMPRESSED_FILE
  FILE_NAME = "HE818_0000_S23.JP2"
  RECORD_TYPE = UNDEFINED
  FILE_RECORDS = UNK
  ENCODING_TYPE = "JP2"
  INTERCHANGE_FORMAT = BINARY
  UNCOMPRESSED_FILE_NAME = "HE818_0000_S23.IMG"
  REQUIRED_STORAGE_BYTES = "161872448"
  ^DESCRIPTION = "JP2INFO.TXT"
END_OBJECT = COMPRESSED_FILE
END
