PDS_VERSION_ID = PDS3
/* FILE DATA ELEMENTS */
RECORD_TYPE = STREAM
/* POINTERS TO DATA OBJECTS */
^COMPRESSED_FILE = "HE831_0000_RE3.JP2"
/* IDENTIFICATION DATA ELEMENTS */
DATA_SET_ID = "MEX-M-HRSC-5-REFDR-MAPPROJECTED-V3.0"
DATA_SET_NAME = "MARS EXPRESS HRSC MAP PROJECTED REFDR V3.0"
DETECTOR_ID = MEX_HRSC_RED
EVENT_TYPE = "MARS-REGIONAL-MAPPING-Im-Gl-Pf"
INSTRUMENT_HOST_ID = MEX
INSTRUMENT_HOST_NAME = "MARS EXPRESS"
INSTRUMENT_ID = HRSC
INSTRUMENT_NAME = "HIGH RESOLUTION STEREO CAMERA"
MISSION_NAME = "MARS EXPRESS"
MISSION_PHASE_NAME = ME_Phase_33
PROCESSING_LEVEL_ID = 3
PRODUCT_CREATION_TIME = 2016-10-30T10:43:13.000Z
PRODUCT_ID = "HE831_0000_RE3.JP2"
RELEASE_ID = 0130
REVISION_ID = 0000
/* QUALITY DATA ELEMENTS */
DATA_QUALITY_ID = 1
DATA_QUALITY_DESC = "Data calculated based on original SPICE kernels"
/* TIME DATA ELEMENTS */
SPACECRAFT_CLOCK_START_COUNT = "1/0390064130.09054"
SPACECRAFT_CLOCK_STOP_COUNT = "1/0390064282.63872"
START_TIME = 2015-09-11T15:09:01.597Z
STOP_TIME = 2015-09-11T15:10:23.171Z
/* ORBITAL DATA ELEMENTS */
ASCENDING_NODE_LONGITUDE = 295.18
MAXIMUM_RESOLUTION = 58
FOOTPRINT_POINT_LATITUDE = (-47.3077,-47.3045,-47.2992,-47.2916, -47.2842,-47.2779,-47.2696,-47.2617, -47.0674,-46.9595,-46.8528,-46.6932, -46.5315,-46.3719,-46.2154,-46.0029, -45.8958,-45.7888,-45.6816,-45.5752, -45.4683,-45.3612,-45.2545,-45.1476, -45.0396,-44.9312,-44.7679,-44.6615, -44.5018,-44.3428,-44.2363,-44.075, -43.9676,-43.8606,-43.7539,-43.6473, -43.4873,-43.3282,-43.17,-43.0115, -42.8511,-42.744,-42.6365,-42.5296, -42.4227,-42.2109,-42.0527,-41.9455, -41.7847,-41.7856,-41.7927,-41.8002, -41.8078,-41.8108,-41.8111,-41.8692, -42.0289,-42.1356,-42.243,-42.3499, -42.4571,-42.5643,-42.7248,-42.8855, -42.9918,-43.1511,-43.2575,-43.3653, -43.4726,-43.5786,-43.6858,-43.7935, -43.9003,-44.0091,-44.2222,-44.3824, -44.4895,-44.5965,-44.7039,-44.8108, -44.9182,-45.0793,-45.1856,-45.2928, -45.4005,-45.5072,-45.6672,-45.8274, -45.9344,-46.0946,-46.2019,-46.3091, -46.416,-46.5765,-46.6836,-46.7907, -46.9512,-47.0583,-47.1655,-47.3077)
FOOTPRINT_POINT_LONGITUDE = (76.7909,76.6155,76.361,76.0427,75.7724 ,75.5659,75.3115,75.0885,75.053,75.0591 ,75.0656,75.0754,75.0841,75.0937, 75.1044,75.1167,75.1225,75.1282,75.1337 ,75.1395,75.1451,75.1505,75.156,75.1613 ,75.1662,75.1707,75.1772,75.1825, 75.1902,75.1982,75.2032,75.2099,75.2144 ,75.2189,75.2236,75.2282,75.235,75.242, 75.2493,75.2563,75.2624,75.2663,75.27, 75.2738,75.2776,75.286,75.2923,75.2958, 75.3008,75.4633,75.7407,76.0504,76.2949 ,76.589,76.8022,77.051,77.0459,77.0423, 77.0384,77.0347,77.0309,77.027,77.0213, 77.0154,77.0119,77.0067,77.0031,76.9988 ,76.9947,76.9912,76.9871,76.9827, 76.9788,76.9738,76.966,76.96,76.9558, 76.9516,76.9471,76.9429,76.9384,76.9316 ,76.9276,76.9231,76.9184,76.9141, 76.9077,76.9011,76.8965,76.8898,76.885, 76.8803,76.8757,76.8686,76.8638,76.8589 ,76.8516,76.8467,76.8417,76.7909)
ORBIT_NUMBER = 14831
ORBITAL_ECCENTRICITY = 0.578
ORBITAL_INCLINATION = 86.93
ORBITAL_SEMIMAJOR_AXIS = 8787.07
PERIAPSIS_ALTITUDE = 327.49
PERIAPSIS_ARGUMENT_ANGLE = 301.75
PERIAPSIS_TIME = 2015-09-11T15:06:41.000Z
SPACECRAFT_ORIENTATION = (0.0,1.0,0.0)
^MEX_ORIENTATION_DESC = "MEX_ORIENTATION_DESC.TXT"
SPACECRAFT_POINTING_MODE = NADIR
^MEX_POINTING_DESC = "MEX_POINTING_DESC.TXT"
RIGHT_ASCENSION = -1e+32
DECLINATION = -1e+32
OFFSET_ANGLE = -1e+32
SPACECRAFT_SOLAR_DISTANCE = 2.45631e+08
TARGET_NAME = MARS
/* CAMERA DATA ELEMENTS */
DETECTOR_TEMPERATURE = 18.5744
FOCAL_PLANE_TEMPERATURE = 7.7677
INST_CMPRS_NAME = "DISCRETE COSINE TRANSFORMATION (DCT)"
INST_CMPRS_RATIO = 21.1548
INST_CMPRS_QUALITY = 0
INST_CMPRS_QUANTZ_TBL_ID = 0
INSTRUMENT_TEMPERATURE = 11.0301
LENS_TEMPERATURE = 8.7872
MACROPIXEL_SIZE = 4
MISSING_FRAMES = 0
PIXEL_SUBSAMPLING_FLAG = N
SIGNAL_CHAIN_ID = 2
/* RADIOMETRIC DATA ELEMENTS */
BANDWIDTH = 48.0
CENTER_FILTER_WAVELENGTH = 748.0
RADIANCE_OFFSET = 0.743374
RADIANCE_SCALING_FACTOR = 0.0024667
REFLECTANCE_SCALING_FACTOR = 0.000339633
MEX:REFLECTANCE_OFFSET = 0.102353
/* IMAGE OBJECT DEFINITIONS */
OBJECT = IMAGE
  INTERCHANGE_FORMAT = BINARY
  LINES = 6462
  LINE_SAMPLES = 1740
  SAMPLE_TYPE = UNSIGNED_INTEGER
  SAMPLE_BITS = 8
  BANDS = 1
  BAND_STORAGE_TYPE = BAND_SEQUENTIAL
  MAXIMUM = 255
  MEAN = 120.855
  MINIMUM = 1
  STANDARD_DEVIATION = 31.5628
END_OBJECT = IMAGE
/* MAP OBJECT DEFINITIONS */
OBJECT = IMAGE_MAP_PROJECTION
  ^DATA_SET_MAP_PROJECTION_CATALOG= "DSMAP.CAT"
  A_AXIS_RADIUS = 3396.0
  B_AXIS_RADIUS = 3396.0
  C_AXIS_RADIUS = 3396.0
  CENTER_LATITUDE = 0.0
  CENTER_LONGITUDE = 76.0
  COORDINATE_SYSTEM_NAME = PLANETOGRAPHIC
  COORDINATE_SYSTEM_TYPE = "BODY-FIXED ROTATING"
  EASTERNMOST_LONGITUDE = 77.051
  FIRST_STANDARD_PARALLEL = "N/A"
  LINE_FIRST_PIXEL = 1
  LINE_LAST_PIXEL = 6462
  LINE_PROJECTION_OFFSET = -49554.375
  MAP_PROJECTION_ROTATION = 0.0
  MAP_PROJECTION_TYPE = SINUSOIDAL
  MAP_RESOLUTION = 1185.42760773333
  MAP_SCALE = 0.05
  MAXIMUM_LATITUDE = -41.7847
  MINIMUM_LATITUDE = -47.3077
  POSITIVE_LONGITUDE_DIRECTION = EAST
  REFERENCE_LATITUDE = "N/A"
  REFERENCE_LONGITUDE = "N/A"
  SAMPLE_FIRST_PIXEL = 1
  SAMPLE_LAST_PIXEL = 1740
  SAMPLE_PROJECTION_OFFSET = 786.625
  SECOND_STANDARD_PARALLEL = "N/A"
  WESTERNMOST_LONGITUDE = 75.053
END_OBJECT = IMAGE_MAP_PROJECTION
/* The JPEG2000 image data file associated with this label. */
OBJECT = COMPRESSED_FILE
  FILE_NAME = "HE831_0000_RE3.JP2"
  RECORD_TYPE = UNDEFINED
  FILE_RECORDS = UNK
  ENCODING_TYPE = "JP2"
  INTERCHANGE_FORMAT = BINARY
  UNCOMPRESSED_FILE_NAME = "HE831_0000_RE3.IMG"
  REQUIRED_STORAGE_BYTES = "11264760"
  ^DESCRIPTION = "JP2INFO.TXT"
END_OBJECT = COMPRESSED_FILE
END
