PDS_VERSION_ID = PDS3
/* FILE DATA ELEMENTS */
RECORD_TYPE = STREAM
/* POINTERS TO DATA OBJECTS */
^COMPRESSED_FILE = "HE832_0000_P23.JP2"
/* IDENTIFICATION DATA ELEMENTS */
DATA_SET_ID = "MEX-M-HRSC-5-REFDR-MAPPROJECTED-V3.0"
DATA_SET_NAME = "MARS EXPRESS HRSC MAP PROJECTED REFDR V3.0"
DETECTOR_ID = MEX_HRSC_P2
EVENT_TYPE = "MARS-LOCAL-STEREO-Im-Mw-Tc"
INSTRUMENT_HOST_ID = MEX
INSTRUMENT_HOST_NAME = "MARS EXPRESS"
INSTRUMENT_ID = HRSC
INSTRUMENT_NAME = "HIGH RESOLUTION STEREO CAMERA"
MISSION_NAME = "MARS EXPRESS"
MISSION_PHASE_NAME = ME_Phase_33
PROCESSING_LEVEL_ID = 3
PRODUCT_CREATION_TIME = 2016-10-30T10:43:13.000Z
PRODUCT_ID = "HE832_0000_P23.JP2"
RELEASE_ID = 0130
REVISION_ID = 0000
/* QUALITY DATA ELEMENTS */
DATA_QUALITY_ID = 1
DATA_QUALITY_DESC = "Data calculated based on original SPICE kernels"
/* TIME DATA ELEMENTS */
SPACECRAFT_CLOCK_START_COUNT = "1/0390089262.09050"
SPACECRAFT_CLOCK_STOP_COUNT = "1/0390089375.59610"
START_TIME = 2015-09-11T22:07:58.631Z
STOP_TIME = 2015-09-11T22:08:46.032Z
/* ORBITAL DATA ELEMENTS */
ASCENDING_NODE_LONGITUDE = 295.17
MAXIMUM_RESOLUTION = 27.6
FOOTPRINT_POINT_LATITUDE = (-49.9124,-49.9149,-49.9174,-49.9197, -49.9218,-49.9237,-49.9253,-49.9267, -49.9278,-49.9288,-49.9295,-49.9301, -49.9305,-49.9306,-49.8569,-49.7329, -49.6399,-49.547,-49.4844,-49.3917, -49.2969,-49.1999,-49.1053,-49.0429, -48.9497,-48.8876,-48.8255,-48.7325, -48.6704,-48.5774,-48.4844,-48.3913, -48.2983,-48.2363,-48.1433,-48.0502, -47.9572,-47.8952,-47.8332,-47.7402, -47.6474,-47.5549,-47.4029,-47.3119, -47.2206,-47.128,-47.0355,-46.9426, -46.8804,-46.7584,-46.758,-46.7573, -46.7567,-46.7551,-46.7518,-46.75, -46.7473,-46.7442,-46.7413,-46.739, -46.7368,-46.735,-46.7643,-46.8575, -46.9195,-47.0435,-47.1675,-47.2913, -47.3838,-47.5078,-47.5699,-47.632, -47.7251,-47.7873,-47.8813,-47.9439, -48.0071,-48.0696,-48.1319,-48.194, -48.2869,-48.349,-48.4423,-48.5046, -48.5979,-48.6913,-48.7536,-48.816, -48.9094,-48.9717,-49.034,-49.1893, -49.3124,-49.4029,-49.4649,-49.528, -49.6235,-49.717,-49.841,-49.9124)
FOOTPRINT_POINT_LONGITUDE = (335.87,335.742,335.596,335.451,335.307 ,335.164,335.022,334.881,334.74,334.601 ,334.462,334.324,334.187,334.051, 334.066,334.072,334.077,334.081,334.084 ,334.088,334.093,334.099,334.104, 334.107,334.111,334.113,334.116,334.12, 334.122,334.126,334.13,334.134,334.137, 334.14,334.143,334.147,334.15,334.153, 334.155,334.158,334.162,334.165,334.169 ,334.171,334.174,334.177,334.18,334.183 ,334.185,334.189,334.341,334.461, 334.582,334.72,334.913,335.053,335.23, 335.461,335.64,335.731,335.822,335.913, 336.01,336.009,336.008,336.006,336.004, 336.003,336.002,336.0,335.999,335.998, 335.996,335.995,335.992,335.99,335.987, 335.985,335.984,335.983,335.981,335.98, 335.978,335.977,335.975,335.973,335.971 ,335.969,335.967,335.966,335.964, 335.961,335.96,335.963,335.962,335.959, 335.953,335.951,335.948,335.87)
ORBIT_NUMBER = 14832
ORBITAL_ECCENTRICITY = 0.578
ORBITAL_INCLINATION = 86.93
ORBITAL_SEMIMAJOR_AXIS = 8783.15
PERIAPSIS_ALTITUDE = 328.24
PERIAPSIS_ARGUMENT_ANGLE = 301.58
PERIAPSIS_TIME = 2015-09-11T22:06:10.000Z
SPACECRAFT_ORIENTATION = (0.0,1.0,0.0)
^MEX_ORIENTATION_DESC = "MEX_ORIENTATION_DESC.TXT"
SPACECRAFT_POINTING_MODE = ACROSSTRACK
^MEX_POINTING_DESC = "MEX_POINTING_DESC.TXT"
RIGHT_ASCENSION = -1e+32
DECLINATION = -1e+32
OFFSET_ANGLE = -0.9
SPACECRAFT_SOLAR_DISTANCE = 2.45661e+08
TARGET_NAME = MARS
/* CAMERA DATA ELEMENTS */
DETECTOR_TEMPERATURE = 17.9627
FOCAL_PLANE_TEMPERATURE = 7.9716
INST_CMPRS_NAME = "DISCRETE COSINE TRANSFORMATION (DCT)"
INST_CMPRS_RATIO = 7.56309
INST_CMPRS_QUALITY = 0
INST_CMPRS_QUANTZ_TBL_ID = 0
INSTRUMENT_TEMPERATURE = 11.234
LENS_TEMPERATURE = 9.195
MACROPIXEL_SIZE = 2
MISSING_FRAMES = 0
PIXEL_SUBSAMPLING_FLAG = N
SIGNAL_CHAIN_ID = 3
/* RADIOMETRIC DATA ELEMENTS */
BANDWIDTH = 177.0
CENTER_FILTER_WAVELENGTH = 676.5
RADIANCE_OFFSET = 1.63174
RADIANCE_SCALING_FACTOR = 0.00937783
REFLECTANCE_SCALING_FACTOR = 0.000300076
MEX:REFLECTANCE_OFFSET = 0.0522132
/* IMAGE OBJECT DEFINITIONS */
OBJECT = IMAGE
  INTERCHANGE_FORMAT = BINARY
  LINES = 7467
  LINE_SAMPLES = 3246
  SAMPLE_TYPE = UNSIGNED_INTEGER
  SAMPLE_BITS = 8
  BANDS = 1
  BAND_STORAGE_TYPE = BAND_SEQUENTIAL
  MAXIMUM = 255
  MEAN = 98.3731
  MINIMUM = 1
  STANDARD_DEVIATION = 28.5144
END_OBJECT = IMAGE
/* MAP OBJECT DEFINITIONS */
OBJECT = IMAGE_MAP_PROJECTION
  ^DATA_SET_MAP_PROJECTION_CATALOG= "DSMAP.CAT"
  A_AXIS_RADIUS = 3396.0
  B_AXIS_RADIUS = 3396.0
  C_AXIS_RADIUS = 3396.0
  CENTER_LATITUDE = 0.0
  CENTER_LONGITUDE = 335.0
  COORDINATE_SYSTEM_NAME = PLANETOGRAPHIC
  COORDINATE_SYSTEM_TYPE = "BODY-FIXED ROTATING"
  EASTERNMOST_LONGITUDE = 336.01
  FIRST_STANDARD_PARALLEL = "N/A"
  LINE_FIRST_PIXEL = 1
  LINE_LAST_PIXEL = 7467
  LINE_PROJECTION_OFFSET = -110795.25
  MAP_PROJECTION_ROTATION = 0.0
  MAP_PROJECTION_TYPE = SINUSOIDAL
  MAP_RESOLUTION = 2370.85521546667
  MAP_SCALE = 0.025
  MAXIMUM_LATITUDE = -46.735
  MINIMUM_LATITUDE = -49.9306
  POSITIVE_LONGITUDE_DIRECTION = EAST
  REFERENCE_LATITUDE = "N/A"
  REFERENCE_LONGITUDE = "N/A"
  SAMPLE_FIRST_PIXEL = 1
  SAMPLE_LAST_PIXEL = 3246
  SAMPLE_PROJECTION_OFFSET = 1471.75
  SECOND_STANDARD_PARALLEL = "N/A"
  WESTERNMOST_LONGITUDE = 334.051
END_OBJECT = IMAGE_MAP_PROJECTION
/* The JPEG2000 image data file associated with this label. */
OBJECT = COMPRESSED_FILE
  FILE_NAME = "HE832_0000_P23.JP2"
  RECORD_TYPE = UNDEFINED
  FILE_RECORDS = UNK
  ENCODING_TYPE = "JP2"
  INTERCHANGE_FORMAT = BINARY
  UNCOMPRESSED_FILE_NAME = "HE832_0000_P23.IMG"
  REQUIRED_STORAGE_BYTES = "24260604"
  ^DESCRIPTION = "JP2INFO.TXT"
END_OBJECT = COMPRESSED_FILE
END
