PDS_VERSION_ID = PDS3
/* FILE DATA ELEMENTS */
RECORD_TYPE = STREAM
/* POINTERS TO DATA OBJECTS */
^COMPRESSED_FILE = "HE835_0000_GR3.JP2"
/* IDENTIFICATION DATA ELEMENTS */
DATA_SET_ID = "MEX-M-HRSC-5-REFDR-MAPPROJECTED-V3.0"
DATA_SET_NAME = "MARS EXPRESS HRSC MAP PROJECTED REFDR V3.0"
DETECTOR_ID = MEX_HRSC_GREEN
EVENT_TYPE = "MARS-REGIONAL-MAPPING-Im-Fl"
INSTRUMENT_HOST_ID = MEX
INSTRUMENT_HOST_NAME = "MARS EXPRESS"
INSTRUMENT_ID = HRSC
INSTRUMENT_NAME = "HIGH RESOLUTION STEREO CAMERA"
MISSION_NAME = "MARS EXPRESS"
MISSION_PHASE_NAME = ME_Phase_33
PROCESSING_LEVEL_ID = 3
PRODUCT_CREATION_TIME = 2016-10-30T10:43:13.000Z
PRODUCT_ID = "HE835_0000_GR3.JP2"
RELEASE_ID = 0130
REVISION_ID = 0000
/* QUALITY DATA ELEMENTS */
DATA_QUALITY_ID = 1
DATA_QUALITY_DESC = "Data calculated based on original SPICE kernels"
/* TIME DATA ELEMENTS */
SPACECRAFT_CLOCK_START_COUNT = "1/0390164992.08255"
SPACECRAFT_CLOCK_STOP_COUNT = "1/0390165203.06827"
START_TIME = 2015-09-12T19:10:43.493Z
STOP_TIME = 2015-09-12T19:12:41.251Z
/* ORBITAL DATA ELEMENTS */
ASCENDING_NODE_LONGITUDE = 295.11
MAXIMUM_RESOLUTION = 138
FOOTPRINT_POINT_LATITUDE = (-36.1298,-36.1268,-36.1239,-36.1205, -36.1171,-36.1114,-35.7764,-35.5095, -35.2372,-35.0322,-34.895,-34.5538, -34.3459,-34.2064,-34.0668,-33.9276, -33.7889,-33.6502,-33.5094,-33.3677, -33.2261,-33.0845,-32.9431,-32.802, -32.5873,-32.443,-32.2987,-32.1547, -32.0109,-31.8672,-31.7237,-31.5802, -31.4369,-31.2937,-31.1507,-31.0078, -30.8649,-30.7223,-30.5799,-30.4376, -30.2954,-30.1533,-30.0113,-29.8695, -29.7278,-29.5153,-29.3741,-29.2329, -29.0444,-29.0459,-29.0476,-29.0486, -29.0501,-29.0508,-29.0511,-29.051, -29.0504,-29.0491,-29.2629,-29.4045, -29.5462,-29.688,-29.83,-29.972, -30.1143,-30.2565,-30.399,-30.613, -30.7559,-30.8989,-31.042,-31.1853, -31.3286,-31.4721,-31.6161,-31.7615, -31.9058,-32.122,-32.2662,-32.4099, -32.625,-32.769,-32.9117,-33.0539, -33.1957,-33.4084,-33.6217,-33.7608, -33.9,-34.0392,-34.1786,-34.388, -34.6641,-34.8685,-35.0056,-35.2115, -35.5523,-35.8204,-36.0889,-36.1298)
FOOTPRINT_POINT_LONGITUDE = (28.0003,27.6065,27.3323,27.0586,26.819 ,26.4762,26.3754,26.376,26.3762,26.3774 ,26.3796,26.3821,26.3828,26.3835, 26.3849,26.3855,26.3851,26.385,26.3851, 26.3847,26.3844,26.3841,26.3838,26.383, 26.3825,26.382,26.3817,26.3811,26.3803, 26.3795,26.3786,26.3776,26.3766,26.3757 ,26.3746,26.3736,26.3725,26.3712, 26.3698,26.3684,26.367,26.3656,26.3642, 26.3628,26.3613,26.3594,26.3576,26.3558 ,26.4257,26.616,26.9011,27.0909,27.2616 ,27.4327,27.6043,27.8521,28.023,28.2888 ,28.3735,28.3708,28.368,28.3652,28.3624 ,28.3595,28.3566,28.3534,28.3503, 28.3458,28.3428,28.3398,28.3368,28.3337 ,28.3305,28.3272,28.3247,28.3252, 28.3226,28.3179,28.3144,28.3095,28.3002 ,28.2975,28.2965,28.2943,28.291,28.285, 28.2802,28.2769,28.2735,28.2701,28.2667 ,28.2616,28.2547,28.2483,28.2454, 28.2414,28.2312,28.2242,28.2171, 28.0003)
ORBIT_NUMBER = 14835
ORBITAL_ECCENTRICITY = 0.578
ORBITAL_INCLINATION = 86.91
ORBITAL_SEMIMAJOR_AXIS = 8785.98
PERIAPSIS_ALTITUDE = 328.5
PERIAPSIS_ARGUMENT_ANGLE = 301.07
PERIAPSIS_TIME = 2015-09-12T19:04:46.000Z
SPACECRAFT_ORIENTATION = (0.0,1.0,0.0)
^MEX_ORIENTATION_DESC = "MEX_ORIENTATION_DESC.TXT"
SPACECRAFT_POINTING_MODE = NADIR
^MEX_POINTING_DESC = "MEX_POINTING_DESC.TXT"
RIGHT_ASCENSION = -1e+32
DECLINATION = -1e+32
OFFSET_ANGLE = -1e+32
SPACECRAFT_SOLAR_DISTANCE = 2.45748e+08
TARGET_NAME = MARS
/* CAMERA DATA ELEMENTS */
DETECTOR_TEMPERATURE = 18.5744
FOCAL_PLANE_TEMPERATURE = 7.9716
INST_CMPRS_NAME = "DISCRETE COSINE TRANSFORMATION (DCT)"
INST_CMPRS_RATIO = 10.4629
INST_CMPRS_QUALITY = 0
INST_CMPRS_QUANTZ_TBL_ID = 0
INSTRUMENT_TEMPERATURE = 11.6418
LENS_TEMPERATURE = 8.5833
MACROPIXEL_SIZE = 8
MISSING_FRAMES = 0
PIXEL_SUBSAMPLING_FLAG = N
SIGNAL_CHAIN_ID = 2
/* RADIOMETRIC DATA ELEMENTS */
BANDWIDTH = 88.0
CENTER_FILTER_WAVELENGTH = 538.0
RADIANCE_OFFSET = 0.471363
RADIANCE_SCALING_FACTOR = 0.00467897
REFLECTANCE_SCALING_FACTOR = 0.000243288
MEX:REFLECTANCE_OFFSET = 0.024509
/* IMAGE OBJECT DEFINITIONS */
OBJECT = IMAGE
  INTERCHANGE_FORMAT = BINARY
  LINES = 4199
  LINE_SAMPLES = 1078
  SAMPLE_TYPE = UNSIGNED_INTEGER
  SAMPLE_BITS = 8
  BANDS = 1
  BAND_STORAGE_TYPE = BAND_SEQUENTIAL
  MAXIMUM = 255
  MEAN = 143.843
  MINIMUM = 1
  STANDARD_DEVIATION = 23.0211
END_OBJECT = IMAGE
/* MAP OBJECT DEFINITIONS */
OBJECT = IMAGE_MAP_PROJECTION
  ^DATA_SET_MAP_PROJECTION_CATALOG= "DSMAP.CAT"
  A_AXIS_RADIUS = 3396.0
  B_AXIS_RADIUS = 3396.0
  C_AXIS_RADIUS = 3396.0
  CENTER_LATITUDE = 0.0
  CENTER_LONGITUDE = 27.0
  COORDINATE_SYSTEM_NAME = PLANETOGRAPHIC
  COORDINATE_SYSTEM_TYPE = "BODY-FIXED ROTATING"
  EASTERNMOST_LONGITUDE = 28.3735
  FIRST_STANDARD_PARALLEL = "N/A"
  LINE_FIRST_PIXEL = 1
  LINE_LAST_PIXEL = 4199
  LINE_PROJECTION_OFFSET = -17220.0625
  MAP_PROJECTION_ROTATION = 0.0
  MAP_PROJECTION_TYPE = SINUSOIDAL
  MAP_RESOLUTION = 592.713803866667
  MAP_SCALE = 0.1
  MAXIMUM_LATITUDE = -29.0444
  MINIMUM_LATITUDE = -36.1298
  POSITIVE_LONGITUDE_DIRECTION = EAST
  REFERENCE_LATITUDE = "N/A"
  REFERENCE_LONGITUDE = "N/A"
  SAMPLE_FIRST_PIXEL = 1
  SAMPLE_LAST_PIXEL = 1078
  SAMPLE_PROJECTION_OFFSET = 357.0625
  SECOND_STANDARD_PARALLEL = "N/A"
  WESTERNMOST_LONGITUDE = 26.3558
END_OBJECT = IMAGE_MAP_PROJECTION
/* The JPEG2000 image data file associated with this label. */
OBJECT = COMPRESSED_FILE
  FILE_NAME = "HE835_0000_GR3.JP2"
  RECORD_TYPE = UNDEFINED
  FILE_RECORDS = UNK
  ENCODING_TYPE = "JP2"
  INTERCHANGE_FORMAT = BINARY
  UNCOMPRESSED_FILE_NAME = "HE835_0000_GR3.IMG"
  REQUIRED_STORAGE_BYTES = "4544848"
  ^DESCRIPTION = "JP2INFO.TXT"
END_OBJECT = COMPRESSED_FILE
END
