PDS_VERSION_ID = PDS3
/* FILE DATA ELEMENTS */
RECORD_TYPE = STREAM
/* POINTERS TO DATA OBJECTS */
^COMPRESSED_FILE = "HE845_0000_S23.JP2"
/* IDENTIFICATION DATA ELEMENTS */
DATA_SET_ID = "MEX-M-HRSC-5-REFDR-MAPPROJECTED-V3.0"
DATA_SET_NAME = "MARS EXPRESS HRSC MAP PROJECTED REFDR V3.0"
DETECTOR_ID = MEX_HRSC_S2
EVENT_TYPE = "MARS-REGIONAL-MAPPING-Im-Gl-Pf"
INSTRUMENT_HOST_ID = MEX
INSTRUMENT_HOST_NAME = "MARS EXPRESS"
INSTRUMENT_ID = HRSC
INSTRUMENT_NAME = "HIGH RESOLUTION STEREO CAMERA"
MISSION_NAME = "MARS EXPRESS"
MISSION_PHASE_NAME = ME_Phase_33
PROCESSING_LEVEL_ID = 3
PRODUCT_CREATION_TIME = 2016-10-30T10:43:13.000Z
PRODUCT_ID = "HE845_0000_S23.JP2"
RELEASE_ID = 0130
REVISION_ID = 0000
/* QUALITY DATA ELEMENTS */
DATA_QUALITY_ID = 1
DATA_QUALITY_DESC = "Data calculated based on original SPICE kernels"
/* TIME DATA ELEMENTS */
SPACECRAFT_CLOCK_START_COUNT = "1/0390416741.07326"
SPACECRAFT_CLOCK_STOP_COUNT = "1/0390416937.55621"
START_TIME = 2015-09-15T17:05:47.381Z
STOP_TIME = 2015-09-15T17:07:17.552Z
/* ORBITAL DATA ELEMENTS */
ASCENDING_NODE_LONGITUDE = 294.92
MAXIMUM_RESOLUTION = 36.6
FOOTPRINT_POINT_LATITUDE = (-35.9995,-35.9762,-35.9641,-35.9515, -35.9387,-35.9254,-35.9118,-35.8977, -35.8833,-35.8684,-35.8532,-35.8375, -35.7353,-35.4594,-35.13,-34.9656, -34.8009,-34.5228,-34.2974,-34.1289, -33.9604,-33.7927,-33.5663,-33.4513, -33.2791,-33.1629,-33.0483,-32.9328, -32.8174,-32.7024,-32.5885,-32.4718, -32.3535,-32.2361,-32.1184,-32.0006, -31.883,-31.7658,-31.5901,-31.4108, -31.2901,-31.1705,-30.994,-30.819, -30.6973,-30.5746,-30.4521,-30.3325, -30.2105,-30.0887,-29.9117,-29.9359, -29.9576,-29.9661,-29.9768,-29.9951, -30.0124,-30.0292,-30.0432,-30.0601, -30.1347,-30.2563,-30.3774,-30.4998, -30.622,-30.745,-30.9301,-31.0456, -31.1655,-31.2921,-31.4137,-31.5945, -31.774,-31.8938,-32.0123,-32.1894, -32.3062,-32.4249,-32.6011,-32.7183, -32.8355,-32.9517,-33.0691,-33.2959, -33.4121,-33.5306,-33.7077,-33.8753, -34.0411,-34.2095,-34.4346,-34.5507, -34.7176,-34.9425,-35.1629,-35.3271, -35.4904,-35.6547,-35.8194,-35.9995)
FOOTPRINT_POINT_LONGITUDE = (83.8734,83.5926,83.4506,83.3077, 83.1636,83.0185,82.8724,82.7252,82.577, 82.4275,82.2767,82.1246,81.9012,81.911, 81.9237,81.9301,81.9359,81.9466,81.9535 ,81.9591,81.9645,81.9703,81.9771, 81.9803,81.9853,81.9873,81.9907,81.9932 ,81.9956,81.9983,82.0022,82.0057, 82.0077,82.0105,82.0128,82.015,82.0172, 82.0197,82.0243,82.0283,82.0298,82.0322 ,82.0381,82.0451,82.0455,82.0471, 82.0488,82.0528,82.0547,82.0567,82.0594 ,82.3247,82.5487,82.7055,82.8445, 83.0624,83.2221,83.4739,83.7042,83.9337 ,84.0905,84.086,84.0814,84.0771,84.0726 ,84.0683,84.0622,84.0568,84.0524, 84.0494,84.0453,84.0387,84.0316,84.0274 ,84.0231,84.0164,84.0116,84.0072,84.0, 83.9951,83.9905,83.9861,83.982,83.9715, 83.9669,83.9629,83.9566,83.948,83.9398, 83.9322,83.9221,83.9179,83.9096,83.8993 ,83.8891,83.881,83.8725,83.8642,83.856, 83.8734)
ORBIT_NUMBER = 14845
ORBITAL_ECCENTRICITY = 0.578
ORBITAL_INCLINATION = 86.92
ORBITAL_SEMIMAJOR_AXIS = 8783.79
PERIAPSIS_ALTITUDE = 327.04
PERIAPSIS_ARGUMENT_ANGLE = 299.37
PERIAPSIS_TIME = 2015-09-15T17:00:06.000Z
SPACECRAFT_ORIENTATION = (0.0,1.0,0.0)
^MEX_ORIENTATION_DESC = "MEX_ORIENTATION_DESC.TXT"
SPACECRAFT_POINTING_MODE = ACROSSTRACK
^MEX_POINTING_DESC = "MEX_POINTING_DESC.TXT"
RIGHT_ASCENSION = -1e+32
DECLINATION = -1e+32
OFFSET_ANGLE = 1.4
SPACECRAFT_SOLAR_DISTANCE = 2.46031e+08
TARGET_NAME = MARS
/* CAMERA DATA ELEMENTS */
DETECTOR_TEMPERATURE = 18.5744
FOCAL_PLANE_TEMPERATURE = 7.5638
INST_CMPRS_NAME = "DISCRETE COSINE TRANSFORMATION (DCT)"
INST_CMPRS_RATIO = 12.7219
INST_CMPRS_QUALITY = 0
INST_CMPRS_QUANTZ_TBL_ID = 0
INSTRUMENT_TEMPERATURE = 11.4379
LENS_TEMPERATURE = 9.3989
MACROPIXEL_SIZE = 2
MISSING_FRAMES = 0
PIXEL_SUBSAMPLING_FLAG = N
SIGNAL_CHAIN_ID = 1
/* RADIOMETRIC DATA ELEMENTS */
BANDWIDTH = 178.0
CENTER_FILTER_WAVELENGTH = 679.0
RADIANCE_OFFSET = 2.74654
RADIANCE_SCALING_FACTOR = 0.0113279
REFLECTANCE_SCALING_FACTOR = 0.000363127
MEX:REFLECTANCE_OFFSET = 0.0880434
/* IMAGE OBJECT DEFINITIONS */
OBJECT = IMAGE
  INTERCHANGE_FORMAT = BINARY
  LINES = 13989
  LINE_SAMPLES = 4695
  SAMPLE_TYPE = UNSIGNED_INTEGER
  SAMPLE_BITS = 8
  BANDS = 1
  BAND_STORAGE_TYPE = BAND_SEQUENTIAL
  MAXIMUM = 255
  MEAN = 120.823
  MINIMUM = 1
  STANDARD_DEVIATION = 22.6057
END_OBJECT = IMAGE
/* MAP OBJECT DEFINITIONS */
OBJECT = IMAGE_MAP_PROJECTION
  ^DATA_SET_MAP_PROJECTION_CATALOG= "DSMAP.CAT"
  A_AXIS_RADIUS = 3396.0
  B_AXIS_RADIUS = 3396.0
  C_AXIS_RADIUS = 3396.0
  CENTER_LATITUDE = 0.0
  CENTER_LONGITUDE = 83.0
  COORDINATE_SYSTEM_NAME = PLANETOGRAPHIC
  COORDINATE_SYSTEM_TYPE = "BODY-FIXED ROTATING"
  EASTERNMOST_LONGITUDE = 84.09050000000001
  FIRST_STANDARD_PARALLEL = "N/A"
  LINE_FIRST_PIXEL = 1
  LINE_LAST_PIXEL = 13989
  LINE_PROJECTION_OFFSET = -71106.75
  MAP_PROJECTION_ROTATION = 0.0
  MAP_PROJECTION_TYPE = SINUSOIDAL
  MAP_RESOLUTION = 2370.85521546667
  MAP_SCALE = 0.025
  MAXIMUM_LATITUDE = -29.9117
  MINIMUM_LATITUDE = -35.9995
  POSITIVE_LONGITUDE_DIRECTION = EAST
  REFERENCE_LATITUDE = "N/A"
  REFERENCE_LONGITUDE = "N/A"
  SAMPLE_FIRST_PIXEL = 1
  SAMPLE_LAST_PIXEL = 4695
  SAMPLE_PROJECTION_OFFSET = 2285.75
  SECOND_STANDARD_PARALLEL = "N/A"
  WESTERNMOST_LONGITUDE = 81.9012
END_OBJECT = IMAGE_MAP_PROJECTION
/* The JPEG2000 image data file associated with this label. */
OBJECT = COMPRESSED_FILE
  FILE_NAME = "HE845_0000_S23.JP2"
  RECORD_TYPE = UNDEFINED
  FILE_RECORDS = UNK
  ENCODING_TYPE = "JP2"
  INTERCHANGE_FORMAT = BINARY
  UNCOMPRESSED_FILE_NAME = "HE845_0000_S23.IMG"
  REQUIRED_STORAGE_BYTES = "65706525"
  ^DESCRIPTION = "JP2INFO.TXT"
END_OBJECT = COMPRESSED_FILE
END
