PDS_VERSION_ID = PDS3
/* FILE DATA ELEMENTS */
RECORD_TYPE = STREAM
/* POINTERS TO DATA OBJECTS */
^COMPRESSED_FILE = "HE877_0000_P13.JP2"
/* IDENTIFICATION DATA ELEMENTS */
DATA_SET_ID = "MEX-M-HRSC-5-REFDR-MAPPROJECTED-V3.0"
DATA_SET_NAME = "MARS EXPRESS HRSC MAP PROJECTED REFDR V3.0"
DETECTOR_ID = MEX_HRSC_P1
EVENT_TYPE = "MARS-REGIONAL-MAPPING-Gl-Pf-Eo"
INSTRUMENT_HOST_ID = MEX
INSTRUMENT_HOST_NAME = "MARS EXPRESS"
INSTRUMENT_ID = HRSC
INSTRUMENT_NAME = "HIGH RESOLUTION STEREO CAMERA"
MISSION_NAME = "MARS EXPRESS"
MISSION_PHASE_NAME = ME_Phase_33
PROCESSING_LEVEL_ID = 3
PRODUCT_CREATION_TIME = 2016-10-30T10:43:13.000Z
PRODUCT_ID = "HE877_0000_P13.JP2"
RELEASE_ID = 0130
REVISION_ID = 0000
/* QUALITY DATA ELEMENTS */
DATA_QUALITY_ID = 1
DATA_QUALITY_DESC = "Data calculated based on original SPICE kernels"
/* TIME DATA ELEMENTS */
SPACECRAFT_CLOCK_START_COUNT = "1/0391222221.07298"
SPACECRAFT_CLOCK_STOP_COUNT = "1/0391222489.20561"
START_TIME = 2015-09-25T00:51:34.650Z
STOP_TIME = 2015-09-25T00:54:30.512Z
/* ORBITAL DATA ELEMENTS */
ASCENDING_NODE_LONGITUDE = 294.33
MAXIMUM_RESOLUTION = 37.7
FOOTPRINT_POINT_LATITUDE = (-42.6559,-42.6477,-42.6394,-42.6332, -42.6885,-42.3283,-41.9647,-41.7813, -41.5066,-41.3232,-41.1381,-40.8577, -40.6713,-40.4864,-40.2974,-40.1079, -39.9187,-39.7296,-39.4421,-39.2503, -39.0583,-38.8651,-38.6695,-38.4745, -38.2802,-38.0833,-37.7865,-37.5887, -37.3888,-37.1877,-36.9871,-36.7858, -36.5812,-36.3776,-36.1746,-35.9681, -35.7613,-35.5543,-35.3409,-35.1274, -34.9189,-34.7052,-34.3885,-34.1737, -33.8516,-33.6345,-33.4176,-33.1999, -32.9779,-32.7555,-32.7596,-32.764, -32.7686,-32.7715,-32.7722,-32.7727, -32.7721,-32.9947,-33.3264,-33.5459, -33.764,-33.9791,-34.3025,-34.6214, -34.8341,-35.0448,-35.2547,-35.5698, -35.7762,-35.9843,-36.1914,-36.3952, -36.7019,-37.0057,-37.2081,-37.4093, -37.7082,-38.0062,-38.2051,-38.4011, -38.5967,-38.7929,-38.988,-39.1785, -39.3701,-39.5632,-39.851,-40.0393, -40.2287,-40.4184,-40.6053,-40.7927, -41.0748,-41.2627,-41.4469,-41.812, -41.9951,-42.179,-42.632,-42.6559)
FOOTPRINT_POINT_LONGITUDE = (52.8451,52.2734,51.8042,51.4979, 51.1416,51.1507,51.1595,51.1635,51.1693 ,51.1733,51.1765,51.182,51.1854,51.1878 ,51.1907,51.1935,51.1961,51.1988,51.202 ,51.2039,51.2058,51.2079,51.2097, 51.2112,51.2122,51.2133,51.2146,51.2155 ,51.2164,51.2169,51.2172,51.2175,51.218 ,51.2179,51.2175,51.2171,51.2167, 51.2165,51.2183,51.2197,51.2183,51.2181 ,51.215,51.214,51.211,51.2098,51.2071, 51.2048,51.2036,51.202,51.6058,51.9872, 52.2735,52.6565,52.9684,53.2084,53.4965 ,53.6683,53.6607,53.6553,53.6493, 53.6431,53.6337,53.6244,53.618,53.6116, 53.6054,53.5959,53.5893,53.5834,53.5768 ,53.5702,53.5604,53.5503,53.5443, 53.5373,53.5269,53.5168,53.5098,53.5032 ,53.4963,53.4896,53.4824,53.4744, 53.4667,53.4596,53.4496,53.4417,53.4341 ,53.4265,53.4189,53.4121,53.4021,53.395 ,53.3876,53.3712,53.3629,53.3552, 53.3371,52.8451)
ORBIT_NUMBER = 14877
ORBITAL_ECCENTRICITY = 0.578
ORBITAL_INCLINATION = 86.92
ORBITAL_SEMIMAJOR_AXIS = 8775.93
PERIAPSIS_ALTITUDE = 327.51
PERIAPSIS_ARGUMENT_ANGLE = 293.97
PERIAPSIS_TIME = 2015-09-25T00:45:07.000Z
SPACECRAFT_ORIENTATION = (0.0,1.0,0.0)
^MEX_ORIENTATION_DESC = "MEX_ORIENTATION_DESC.TXT"
SPACECRAFT_POINTING_MODE = NADIR
^MEX_POINTING_DESC = "MEX_POINTING_DESC.TXT"
RIGHT_ASCENSION = -1e+32
DECLINATION = -1e+32
OFFSET_ANGLE = -1e+32
SPACECRAFT_SOLAR_DISTANCE = 2.4686e+08
TARGET_NAME = MARS
/* CAMERA DATA ELEMENTS */
DETECTOR_TEMPERATURE = 16.9432
FOCAL_PLANE_TEMPERATURE = 6.9521
INST_CMPRS_NAME = "DISCRETE COSINE TRANSFORMATION (DCT)"
INST_CMPRS_RATIO = 10.4987
INST_CMPRS_QUALITY = 0
INST_CMPRS_QUANTZ_TBL_ID = 0
INSTRUMENT_TEMPERATURE = 11.0301
LENS_TEMPERATURE = 7.5638
MACROPIXEL_SIZE = 2
MISSING_FRAMES = 0
PIXEL_SUBSAMPLING_FLAG = N
SIGNAL_CHAIN_ID = 3
/* RADIOMETRIC DATA ELEMENTS */
BANDWIDTH = 174.0
CENTER_FILTER_WAVELENGTH = 675.0
RADIANCE_OFFSET = 2.83145
RADIANCE_SCALING_FACTOR = 0.00875787
REFLECTANCE_SCALING_FACTOR = 0.000287067
MEX:REFLECTANCE_OFFSET = 0.0928098
/* IMAGE OBJECT DEFINITIONS */
OBJECT = IMAGE
  INTERCHANGE_FORMAT = BINARY
  LINES = 23617
  LINE_SAMPLES = 4700
  SAMPLE_TYPE = UNSIGNED_INTEGER
  SAMPLE_BITS = 8
  BANDS = 1
  BAND_STORAGE_TYPE = BAND_SEQUENTIAL
  MAXIMUM = 255
  MEAN = 150.318
  MINIMUM = 1
  STANDARD_DEVIATION = 34.0766
END_OBJECT = IMAGE
/* MAP OBJECT DEFINITIONS */
OBJECT = IMAGE_MAP_PROJECTION
  ^DATA_SET_MAP_PROJECTION_CATALOG= "DSMAP.CAT"
  A_AXIS_RADIUS = 3396.0
  B_AXIS_RADIUS = 3396.0
  C_AXIS_RADIUS = 3396.0
  CENTER_LATITUDE = 0.0
  CENTER_LONGITUDE = 52.0
  COORDINATE_SYSTEM_NAME = PLANETOGRAPHIC
  COORDINATE_SYSTEM_TYPE = "BODY-FIXED ROTATING"
  EASTERNMOST_LONGITUDE = 53.6683
  FIRST_STANDARD_PARALLEL = "N/A"
  LINE_FIRST_PIXEL = 1
  LINE_LAST_PIXEL = 23617
  LINE_PROJECTION_OFFSET = -77637.25
  MAP_PROJECTION_ROTATION = 0.0
  MAP_PROJECTION_TYPE = SINUSOIDAL
  MAP_RESOLUTION = 2370.85521546667
  MAP_SCALE = 0.025
  MAXIMUM_LATITUDE = -32.7555
  MINIMUM_LATITUDE = -42.6885
  POSITIVE_LONGITUDE_DIRECTION = EAST
  REFERENCE_LATITUDE = "N/A"
  REFERENCE_LONGITUDE = "N/A"
  SAMPLE_FIRST_PIXEL = 1
  SAMPLE_LAST_PIXEL = 4700
  SAMPLE_PROJECTION_OFFSET = 1502.25
  SECOND_STANDARD_PARALLEL = "N/A"
  WESTERNMOST_LONGITUDE = 51.1416
END_OBJECT = IMAGE_MAP_PROJECTION
/* The JPEG2000 image data file associated with this label. */
OBJECT = COMPRESSED_FILE
  FILE_NAME = "HE877_0000_P13.JP2"
  RECORD_TYPE = UNDEFINED
  FILE_RECORDS = UNK
  ENCODING_TYPE = "JP2"
  INTERCHANGE_FORMAT = BINARY
  UNCOMPRESSED_FILE_NAME = "HE877_0000_P13.IMG"
  REQUIRED_STORAGE_BYTES = "111028100"
  ^DESCRIPTION = "JP2INFO.TXT"
END_OBJECT = COMPRESSED_FILE
END
