PDS_VERSION_ID = PDS3
/* FILE DATA ELEMENTS */
RECORD_TYPE = STREAM
/* POINTERS TO DATA OBJECTS */
^COMPRESSED_FILE = "HE884_0000_GR3.JP2"
/* IDENTIFICATION DATA ELEMENTS */
DATA_SET_ID = "MEX-M-HRSC-5-REFDR-MAPPROJECTED-V3.0"
DATA_SET_NAME = "MARS EXPRESS HRSC MAP PROJECTED REFDR V3.0"
DETECTOR_ID = MEX_HRSC_GREEN
EVENT_TYPE = "MARS-REGIONAL-MAPPING-Gl-Pf-Eo"
INSTRUMENT_HOST_ID = MEX
INSTRUMENT_HOST_NAME = "MARS EXPRESS"
INSTRUMENT_ID = HRSC
INSTRUMENT_NAME = "HIGH RESOLUTION STEREO CAMERA"
MISSION_NAME = "MARS EXPRESS"
MISSION_PHASE_NAME = ME_Phase_33
PROCESSING_LEVEL_ID = 3
PRODUCT_CREATION_TIME = 2016-10-30T10:43:13.000Z
PRODUCT_ID = "HE884_0000_GR3.JP2"
RELEASE_ID = 0130
REVISION_ID = 0000
/* QUALITY DATA ELEMENTS */
DATA_QUALITY_ID = 1
DATA_QUALITY_DESC = "Data calculated based on original SPICE kernels"
/* TIME DATA ELEMENTS */
SPACECRAFT_CLOCK_START_COUNT = "1/0391398489.07331"
SPACECRAFT_CLOCK_STOP_COUNT = "1/0391398768.63778"
START_TIME = 2015-09-27T01:49:07.494Z
STOP_TIME = 2015-09-27T01:51:51.424Z
/* ORBITAL DATA ELEMENTS */
ASCENDING_NODE_LONGITUDE = 294.2
MAXIMUM_RESOLUTION = 79.2
FOOTPRINT_POINT_LATITUDE = (-39.2966,-39.2943,-39.2903,-39.2861, -39.2797,-39.2735,-39.1967,-38.772, -38.5141,-38.0826,-37.8216,-37.6457, -37.47,-37.2946,-37.0291,-36.8506, -36.6724,-36.4943,-36.2229,-36.0419, -35.8611,-35.5863,-35.3925,-35.209, -35.0238,-34.8371,-34.6507,-34.4645, -34.2752,-34.0865,-33.8978,-33.6109, -33.4195,-33.2283,-33.034,-32.8396, -32.6447,-32.4477,-32.2502,-32.054, -31.8548,-31.6555,-31.3549,-31.1532, -30.9517,-30.7471,-30.4407,-30.2344, -29.8776,-29.8793,-29.8801,-29.8821, -29.8809,-29.88,-29.8794,-29.8782, -29.9805,-30.1879,-30.3958,-30.6009, -30.8068,-31.0115,-31.3156,-31.5183, -31.7183,-31.9186,-32.1179,-32.315, -32.5125,-32.8061,-33.0008,-33.2925, -33.4845,-33.6768,-33.8691,-34.0584, -34.248,-34.5319,-34.7187,-34.9057, -35.0929,-35.2778,-35.4618,-35.6562, -35.8401,-36.0212,-36.203,-36.3848, -36.5653,-36.7441,-36.9231,-37.1023, -37.3678,-37.5437,-37.8074,-37.9832, -38.3295,-38.7621,-39.1026,-39.2966)
FOOTPRINT_POINT_LONGITUDE = (57.3004,57.0386,56.6757,56.3739, 55.9914,55.6689,55.4272,55.4304,55.4337 ,55.4349,55.4373,55.4383,55.4391, 55.4398,55.4405,55.441,55.4411,55.4413, 55.4413,55.4412,55.4409,55.4405,55.44, 55.4394,55.4386,55.4381,55.4374,55.4364 ,55.4351,55.4332,55.4315,55.4288, 55.4269,55.4248,55.4227,55.4211,55.4213 ,55.4196,55.4188,55.4157,55.4125, 55.4099,55.4059,55.4025,55.399,55.3967, 55.3917,55.388,55.4724,55.7796,56.039, 56.5088,56.791,57.1204,57.3324,57.5916, 57.9035,57.8994,57.8957,57.8922,57.8896 ,57.8869,57.8814,57.878,57.8743,57.8706 ,57.8662,57.8615,57.8568,57.8496, 57.8445,57.8376,57.833,57.8283,57.823, 57.8182,57.8133,57.8055,57.8008,57.7959 ,57.7907,57.7857,57.7801,57.7744, 57.7688,57.7631,57.7583,57.7532,57.7479 ,57.7429,57.7379,57.7326,57.7244, 57.7186,57.7087,57.7029,57.6917,57.6772 ,57.665,57.3004)
ORBIT_NUMBER = 14884
ORBITAL_ECCENTRICITY = 0.578
ORBITAL_INCLINATION = 86.92
ORBITAL_SEMIMAJOR_AXIS = 8774.26
PERIAPSIS_ALTITUDE = 327.32
PERIAPSIS_ARGUMENT_ANGLE = 292.78
PERIAPSIS_TIME = 2015-09-27T01:41:46.000Z
SPACECRAFT_ORIENTATION = (0.0,1.0,0.0)
^MEX_ORIENTATION_DESC = "MEX_ORIENTATION_DESC.TXT"
SPACECRAFT_POINTING_MODE = NADIR
^MEX_POINTING_DESC = "MEX_POINTING_DESC.TXT"
RIGHT_ASCENSION = -1e+32
DECLINATION = -1e+32
OFFSET_ANGLE = -1e+32
SPACECRAFT_SOLAR_DISTANCE = 2.47025e+08
TARGET_NAME = MARS
/* CAMERA DATA ELEMENTS */
DETECTOR_TEMPERATURE = 17.7588
FOCAL_PLANE_TEMPERATURE = 7.156
INST_CMPRS_NAME = "DISCRETE COSINE TRANSFORMATION (DCT)"
INST_CMPRS_RATIO = 15.2074
INST_CMPRS_QUALITY = 0
INST_CMPRS_QUANTZ_TBL_ID = 0
INSTRUMENT_TEMPERATURE = 10.8262
LENS_TEMPERATURE = 7.5638
MACROPIXEL_SIZE = 4
MISSING_FRAMES = 1
PIXEL_SUBSAMPLING_FLAG = N
SIGNAL_CHAIN_ID = 2
/* RADIOMETRIC DATA ELEMENTS */
BANDWIDTH = 88.0
CENTER_FILTER_WAVELENGTH = 538.0
RADIANCE_OFFSET = 1.01933
RADIANCE_SCALING_FACTOR = 0.00293478
REFLECTANCE_SCALING_FACTOR = 0.000154187
MEX:REFLECTANCE_OFFSET = 0.0535533
/* IMAGE OBJECT DEFINITIONS */
OBJECT = IMAGE
  INTERCHANGE_FORMAT = BINARY
  LINES = 5593
  LINE_SAMPLES = 1312
  SAMPLE_TYPE = UNSIGNED_INTEGER
  SAMPLE_BITS = 8
  BANDS = 1
  BAND_STORAGE_TYPE = BAND_SEQUENTIAL
  MAXIMUM = 255
  MEAN = 161.762
  MINIMUM = 1
  STANDARD_DEVIATION = 44.1814
END_OBJECT = IMAGE
/* MAP OBJECT DEFINITIONS */
OBJECT = IMAGE_MAP_PROJECTION
  ^DATA_SET_MAP_PROJECTION_CATALOG= "DSMAP.CAT"
  A_AXIS_RADIUS = 3396.0
  B_AXIS_RADIUS = 3396.0
  C_AXIS_RADIUS = 3396.0
  CENTER_LATITUDE = 0.0
  CENTER_LONGITUDE = 57.0
  COORDINATE_SYSTEM_NAME = PLANETOGRAPHIC
  COORDINATE_SYSTEM_TYPE = "BODY-FIXED ROTATING"
  EASTERNMOST_LONGITUDE = 57.9035
  FIRST_STANDARD_PARALLEL = "N/A"
  LINE_FIRST_PIXEL = 1
  LINE_LAST_PIXEL = 5593
  LINE_PROJECTION_OFFSET = -17712.875
  MAP_PROJECTION_ROTATION = 0.0
  MAP_PROJECTION_TYPE = SINUSOIDAL
  MAP_RESOLUTION = 592.713803866667
  MAP_SCALE = 0.1
  MAXIMUM_LATITUDE = -29.8776
  MINIMUM_LATITUDE = -39.2966
  POSITIVE_LONGITUDE_DIRECTION = EAST
  REFERENCE_LATITUDE = "N/A"
  REFERENCE_LONGITUDE = "N/A"
  SAMPLE_FIRST_PIXEL = 1
  SAMPLE_LAST_PIXEL = 1312
  SAMPLE_PROJECTION_OFFSET = 841.875
  SECOND_STANDARD_PARALLEL = "N/A"
  WESTERNMOST_LONGITUDE = 55.388
END_OBJECT = IMAGE_MAP_PROJECTION
/* The JPEG2000 image data file associated with this label. */
OBJECT = COMPRESSED_FILE
  FILE_NAME = "HE884_0000_GR3.JP2"
  RECORD_TYPE = UNDEFINED
  FILE_RECORDS = UNK
  ENCODING_TYPE = "JP2"
  INTERCHANGE_FORMAT = BINARY
  UNCOMPRESSED_FILE_NAME = "HE884_0000_GR3.IMG"
  REQUIRED_STORAGE_BYTES = "7357696"
  ^DESCRIPTION = "JP2INFO.TXT"
END_OBJECT = COMPRESSED_FILE
END
