PDS_VERSION_ID = PDS3
/* FILE DATA ELEMENTS */
RECORD_TYPE = STREAM
/* POINTERS TO DATA OBJECTS */
^COMPRESSED_FILE = "HE884_0000_IR3.JP2"
/* IDENTIFICATION DATA ELEMENTS */
DATA_SET_ID = "MEX-M-HRSC-5-REFDR-MAPPROJECTED-V3.0"
DATA_SET_NAME = "MARS EXPRESS HRSC MAP PROJECTED REFDR V3.0"
DETECTOR_ID = MEX_HRSC_IR
EVENT_TYPE = "MARS-REGIONAL-MAPPING-Gl-Pf-Eo"
INSTRUMENT_HOST_ID = MEX
INSTRUMENT_HOST_NAME = "MARS EXPRESS"
INSTRUMENT_ID = HRSC
INSTRUMENT_NAME = "HIGH RESOLUTION STEREO CAMERA"
MISSION_NAME = "MARS EXPRESS"
MISSION_PHASE_NAME = ME_Phase_33
PROCESSING_LEVEL_ID = 3
PRODUCT_CREATION_TIME = 2016-10-30T10:43:13.000Z
PRODUCT_ID = "HE884_0000_IR3.JP2"
RELEASE_ID = 0130
REVISION_ID = 0000
/* QUALITY DATA ELEMENTS */
DATA_QUALITY_ID = 1
DATA_QUALITY_DESC = "Data calculated based on original SPICE kernels"
/* TIME DATA ELEMENTS */
SPACECRAFT_CLOCK_START_COUNT = "1/0391398489.07331"
SPACECRAFT_CLOCK_STOP_COUNT = "1/0391398768.63778"
START_TIME = 2015-09-27T01:49:41.177Z
STOP_TIME = 2015-09-27T01:52:39.364Z
/* ORBITAL DATA ELEMENTS */
ASCENDING_NODE_LONGITUDE = 294.2
MAXIMUM_RESOLUTION = 87.3
FOOTPRINT_POINT_LATITUDE = (-39.2574,-39.2534,-39.2492,-39.2451, -39.2391,-39.3087,-38.9723,-38.627, -38.2845,-37.9377,-37.7612,-37.4098, -37.2334,-37.0552,-36.877,-36.6994, -36.5196,-36.3392,-36.0687,-35.8858, -35.7028,-35.5201,-35.3363,-35.1516, -34.9663,-34.779,-34.5909,-34.4046, -34.2154,-34.0267,-33.7429,-33.5515, -33.3603,-33.1673,-32.9734,-32.7752, -32.4777,-32.2781,-32.0775,-31.8824, -31.6822,-31.3823,-31.1807,-30.8783, -30.6707,-30.4652,-30.2558,-30.0536, -29.8876,-29.8868,-29.8824,-29.8864, -29.8819,-29.8767,-29.8773,-29.8745, -29.8768,-30.0832,-30.2915,-30.5002, -30.8104,-31.0202,-31.222,-31.4264, -31.6292,-31.8314,-32.031,-32.2296, -32.4266,-32.6227,-32.9164,-33.1094, -33.3054,-33.4975,-33.6898,-33.8812, -34.0706,-34.261,-34.4502,-34.7318, -34.9201,-35.1055,-35.291,-35.4763, -35.6579,-35.8406,-36.1146,-36.2967, -36.478,-36.6599,-36.8391,-37.0187, -37.1976,-37.4634,-37.813,-37.9884, -38.2491,-38.6828,-39.1102,-39.2574)
FOOTPRINT_POINT_LONGITUDE = (57.3745,56.8401,56.4126,56.0709, 55.6432,55.3644,55.3647,55.3683,55.3682 ,55.3694,55.3703,55.3706,55.3709, 55.3706,55.3704,55.37,55.3694,55.3688, 55.3678,55.3669,55.366,55.365,55.3634, 55.3619,55.3607,55.3594,55.358,55.3559, 55.3539,55.3514,55.3474,55.3448,55.3422 ,55.3392,55.3364,55.3354,55.3321, 55.3305,55.328,55.3231,55.3197,55.3138, 55.3094,55.3026,55.2995,55.2955,55.2923 ,55.2856,55.4835,55.7397,56.1494, 56.4298,56.7876,57.1194,57.4008,57.7843 ,58.0245,58.0186,58.0137,58.0095, 58.0024,57.9998,57.9938,57.9892,57.9846 ,57.9797,57.9747,57.9689,57.9632, 57.9573,57.9487,57.9424,57.9373,57.9316 ,57.9258,57.9198,57.9138,57.9081, 57.9022,57.8934,57.8876,57.8817,57.8757 ,57.8694,57.8628,57.8565,57.847,57.8416 ,57.8356,57.8296,57.8238,57.8181, 57.8118,57.8026,57.7884,57.782,57.7724, 57.7564,57.7393,57.3745)
ORBIT_NUMBER = 14884
ORBITAL_ECCENTRICITY = 0.578
ORBITAL_INCLINATION = 86.92
ORBITAL_SEMIMAJOR_AXIS = 8774.26
PERIAPSIS_ALTITUDE = 327.32
PERIAPSIS_ARGUMENT_ANGLE = 292.78
PERIAPSIS_TIME = 2015-09-27T01:41:46.000Z
SPACECRAFT_ORIENTATION = (0.0,1.0,0.0)
^MEX_ORIENTATION_DESC = "MEX_ORIENTATION_DESC.TXT"
SPACECRAFT_POINTING_MODE = NADIR
^MEX_POINTING_DESC = "MEX_POINTING_DESC.TXT"
RIGHT_ASCENSION = -1e+32
DECLINATION = -1e+32
OFFSET_ANGLE = -1e+32
SPACECRAFT_SOLAR_DISTANCE = 2.47025e+08
TARGET_NAME = MARS
/* CAMERA DATA ELEMENTS */
DETECTOR_TEMPERATURE = 16.7393
FOCAL_PLANE_TEMPERATURE = 7.156
INST_CMPRS_NAME = "DISCRETE COSINE TRANSFORMATION (DCT)"
INST_CMPRS_RATIO = 16.734
INST_CMPRS_QUALITY = 0
INST_CMPRS_QUANTZ_TBL_ID = 0
INSTRUMENT_TEMPERATURE = 10.8262
LENS_TEMPERATURE = 7.5638
MACROPIXEL_SIZE = 4
MISSING_FRAMES = 0
PIXEL_SUBSAMPLING_FLAG = N
SIGNAL_CHAIN_ID = 2
/* RADIOMETRIC DATA ELEMENTS */
BANDWIDTH = 81.0
CENTER_FILTER_WAVELENGTH = 955.5
RADIANCE_OFFSET = 0.604824
RADIANCE_SCALING_FACTOR = 0.00319123
REFLECTANCE_SCALING_FACTOR = 0.000420117
MEX:REFLECTANCE_OFFSET = 0.0796235
/* IMAGE OBJECT DEFINITIONS */
OBJECT = IMAGE
  INTERCHANGE_FORMAT = BINARY
  LINES = 5593
  LINE_SAMPLES = 1312
  SAMPLE_TYPE = UNSIGNED_INTEGER
  SAMPLE_BITS = 8
  BANDS = 1
  BAND_STORAGE_TYPE = BAND_SEQUENTIAL
  MAXIMUM = 255
  MEAN = 146.426
  MINIMUM = 1
  STANDARD_DEVIATION = 56.805
END_OBJECT = IMAGE
/* MAP OBJECT DEFINITIONS */
OBJECT = IMAGE_MAP_PROJECTION
  ^DATA_SET_MAP_PROJECTION_CATALOG= "DSMAP.CAT"
  A_AXIS_RADIUS = 3396.0
  B_AXIS_RADIUS = 3396.0
  C_AXIS_RADIUS = 3396.0
  CENTER_LATITUDE = 0.0
  CENTER_LONGITUDE = 57.0
  COORDINATE_SYSTEM_NAME = PLANETOGRAPHIC
  COORDINATE_SYSTEM_TYPE = "BODY-FIXED ROTATING"
  EASTERNMOST_LONGITUDE = 58.0245
  FIRST_STANDARD_PARALLEL = "N/A"
  LINE_FIRST_PIXEL = 1
  LINE_LAST_PIXEL = 5593
  LINE_PROJECTION_OFFSET = -17712.875
  MAP_PROJECTION_ROTATION = 0.0
  MAP_PROJECTION_TYPE = SINUSOIDAL
  MAP_RESOLUTION = 592.713803866667
  MAP_SCALE = 0.1
  MAXIMUM_LATITUDE = -29.8745
  MINIMUM_LATITUDE = -39.3087
  POSITIVE_LONGITUDE_DIRECTION = EAST
  REFERENCE_LATITUDE = "N/A"
  REFERENCE_LONGITUDE = "N/A"
  SAMPLE_FIRST_PIXEL = 1
  SAMPLE_LAST_PIXEL = 1312
  SAMPLE_PROJECTION_OFFSET = 841.875
  SECOND_STANDARD_PARALLEL = "N/A"
  WESTERNMOST_LONGITUDE = 55.2856
END_OBJECT = IMAGE_MAP_PROJECTION
/* The JPEG2000 image data file associated with this label. */
OBJECT = COMPRESSED_FILE
  FILE_NAME = "HE884_0000_IR3.JP2"
  RECORD_TYPE = UNDEFINED
  FILE_RECORDS = UNK
  ENCODING_TYPE = "JP2"
  INTERCHANGE_FORMAT = BINARY
  UNCOMPRESSED_FILE_NAME = "HE884_0000_IR3.IMG"
  REQUIRED_STORAGE_BYTES = "7357696"
  ^DESCRIPTION = "JP2INFO.TXT"
END_OBJECT = COMPRESSED_FILE
END
