PDS_VERSION_ID = PDS3
/* FILE DATA ELEMENTS */
RECORD_TYPE = STREAM
/* POINTERS TO DATA OBJECTS */
^COMPRESSED_FILE = "HE898_0000_S13.JP2"
/* IDENTIFICATION DATA ELEMENTS */
DATA_SET_ID = "MEX-M-HRSC-5-REFDR-MAPPROJECTED-V3.0"
DATA_SET_NAME = "MARS EXPRESS HRSC MAP PROJECTED REFDR V3.0"
DETECTOR_ID = MEX_HRSC_S1
EVENT_TYPE = "MARS-REGIONAL-MAPPING-Gl-Pf-Mw"
INSTRUMENT_HOST_ID = MEX
INSTRUMENT_HOST_NAME = "MARS EXPRESS"
INSTRUMENT_ID = HRSC
INSTRUMENT_NAME = "HIGH RESOLUTION STEREO CAMERA"
MISSION_NAME = "MARS EXPRESS"
MISSION_PHASE_NAME = ME_Phase_33
PROCESSING_LEVEL_ID = 3
PRODUCT_CREATION_TIME = 2016-10-30T10:43:13.000Z
PRODUCT_ID = "HE898_0000_S13.JP2"
RELEASE_ID = 0130
REVISION_ID = 0000
/* QUALITY DATA ELEMENTS */
DATA_QUALITY_ID = 1
DATA_QUALITY_DESC = "Data calculated based on original SPICE kernels"
/* TIME DATA ELEMENTS */
SPACECRAFT_CLOCK_START_COUNT = "1/0391750862.09042"
SPACECRAFT_CLOCK_STOP_COUNT = "1/0391751151.27677"
START_TIME = 2015-10-01T03:42:40.342Z
STOP_TIME = 2015-10-01T03:45:55.817Z
/* ORBITAL DATA ELEMENTS */
ASCENDING_NODE_LONGITUDE = 293.94
MAXIMUM_RESOLUTION = 43.7
FOOTPRINT_POINT_LATITUDE = (-42.6864,-42.6828,-42.6785,-42.6696, -42.6626,-42.7531,-42.2907,-41.9216, -41.7336,-41.5459,-41.3586,-41.1698, -40.9797,-40.6954,-40.5053,-40.3134, -40.1219,-39.9274,-39.7331,-39.5393, -39.3428,-39.146,-38.9497,-38.6506, -38.4511,-38.1488,-37.9452,-37.7441, -37.5416,-37.3393,-37.1355,-36.93, -36.7238,-36.5153,-36.3082,-36.0971, -35.8889,-35.678,-35.4643,-35.1451, -34.9311,-34.6112,-34.397,-34.1782, -33.8497,-33.6282,-33.4085,-33.1858, -32.9626,-32.7369,-32.603,-32.6037, -32.6028,-32.6017,-32.6004,-32.6004, -32.5994,-32.5976,-32.5944,-32.8204, -33.1587,-33.3835,-33.605,-33.8282, -34.0472,-34.2682,-34.4865,-34.7097, -34.9267,-35.2439,-35.4552,-35.7761, -36.0901,-36.3028,-36.6169,-36.8262, -37.033,-37.3429,-37.547,-37.8522, -38.0523,-38.2538,-38.5561,-38.7559, -39.0547,-39.2514,-39.549,-39.8419, -40.0375,-40.328,-40.5203,-40.8087, -40.9981,-41.1879,-41.3786,-41.5655, -41.847,-42.0345,-42.4039,-42.6864)
FOOTPRINT_POINT_LONGITUDE = (65.9036,65.5348,65.1662,64.5446,64.13, 63.6614,63.6709,63.6768,63.68,63.6832, 63.6861,63.6882,63.6907,63.6938,63.6947 ,63.6965,63.698,63.6993,63.7005,63.7015 ,63.7024,63.7031,63.7037,63.7045, 63.7049,63.7054,63.7061,63.7053,63.7041 ,63.7029,63.7013,63.7,63.6989,63.6974, 63.6955,63.6941,63.6912,63.6891,63.687, 63.6828,63.6796,63.6735,63.6692,63.6658 ,63.6603,63.6564,63.6517,63.647,63.6424 ,63.6376,63.8322,64.0839,64.5033, 64.7824,65.173,65.3966,65.7319,65.9832, 66.3463,66.517,66.5061,66.4988,66.4912, 66.4841,66.4764,66.4692,66.4618,66.4564 ,66.4492,66.4352,66.4269,66.4159, 66.4035,66.3965,66.3853,66.3781,66.3706 ,66.359,66.3512,66.3389,66.3304,66.3222 ,66.311,66.303,66.2912,66.283,66.2714, 66.2596,66.2516,66.2395,66.2312,66.2187 ,66.2102,66.2018,66.1934,66.1849, 66.1723,66.1635,66.1462,65.9036)
ORBIT_NUMBER = 14898
ORBITAL_ECCENTRICITY = 0.578
ORBITAL_INCLINATION = 86.93
ORBITAL_SEMIMAJOR_AXIS = 8771.12
PERIAPSIS_ALTITUDE = 326.82
PERIAPSIS_ARGUMENT_ANGLE = 290.4
PERIAPSIS_TIME = 2015-10-01T03:34:55.000Z
SPACECRAFT_ORIENTATION = (0.0,1.0,0.0)
^MEX_ORIENTATION_DESC = "MEX_ORIENTATION_DESC.TXT"
SPACECRAFT_POINTING_MODE = NADIR
^MEX_POINTING_DESC = "MEX_POINTING_DESC.TXT"
RIGHT_ASCENSION = -1e+32
DECLINATION = -1e+32
OFFSET_ANGLE = -1e+32
SPACECRAFT_SOLAR_DISTANCE = 2.47339e+08
TARGET_NAME = MARS
/* CAMERA DATA ELEMENTS */
DETECTOR_TEMPERATURE = 16.7393
FOCAL_PLANE_TEMPERATURE = 7.156
INST_CMPRS_NAME = "DISCRETE COSINE TRANSFORMATION (DCT)"
INST_CMPRS_RATIO = 10.2523
INST_CMPRS_QUALITY = 0
INST_CMPRS_QUANTZ_TBL_ID = 0
INSTRUMENT_TEMPERATURE = 10.8262
LENS_TEMPERATURE = 7.7677
MACROPIXEL_SIZE = 2
MISSING_FRAMES = 0
PIXEL_SUBSAMPLING_FLAG = N
SIGNAL_CHAIN_ID = 1
/* RADIOMETRIC DATA ELEMENTS */
BANDWIDTH = 180.0
CENTER_FILTER_WAVELENGTH = 677.0
RADIANCE_OFFSET = 3.24997
RADIANCE_SCALING_FACTOR = 0.0109243
REFLECTANCE_SCALING_FACTOR = 0.000348674
MEX:REFLECTANCE_OFFSET = 0.103731
/* IMAGE OBJECT DEFINITIONS */
OBJECT = IMAGE
  INTERCHANGE_FORMAT = BINARY
  LINES = 12099
  LINE_SAMPLES = 2569
  SAMPLE_TYPE = UNSIGNED_INTEGER
  SAMPLE_BITS = 8
  BANDS = 1
  BAND_STORAGE_TYPE = BAND_SEQUENTIAL
  MAXIMUM = 255
  MEAN = 137.034
  MINIMUM = 1
  STANDARD_DEVIATION = 33.547
END_OBJECT = IMAGE
/* MAP OBJECT DEFINITIONS */
OBJECT = IMAGE_MAP_PROJECTION
  ^DATA_SET_MAP_PROJECTION_CATALOG= "DSMAP.CAT"
  A_AXIS_RADIUS = 3396.0
  B_AXIS_RADIUS = 3396.0
  C_AXIS_RADIUS = 3396.0
  CENTER_LATITUDE = 0.0
  CENTER_LONGITUDE = 65.0
  COORDINATE_SYSTEM_NAME = PLANETOGRAPHIC
  COORDINATE_SYSTEM_TYPE = "BODY-FIXED ROTATING"
  EASTERNMOST_LONGITUDE = 66.517
  FIRST_STANDARD_PARALLEL = "N/A"
  LINE_FIRST_PIXEL = 1
  LINE_LAST_PIXEL = 12099
  LINE_PROJECTION_OFFSET = -38599.25
  MAP_PROJECTION_ROTATION = 0.0
  MAP_PROJECTION_TYPE = SINUSOIDAL
  MAP_RESOLUTION = 1185.42760773333
  MAP_SCALE = 0.05
  MAXIMUM_LATITUDE = -32.5944
  MINIMUM_LATITUDE = -42.7531
  POSITIVE_LONGITUDE_DIRECTION = EAST
  REFERENCE_LATITUDE = "N/A"
  REFERENCE_LONGITUDE = "N/A"
  SAMPLE_FIRST_PIXEL = 1
  SAMPLE_LAST_PIXEL = 2569
  SAMPLE_PROJECTION_OFFSET = 1223.75
  SECOND_STANDARD_PARALLEL = "N/A"
  WESTERNMOST_LONGITUDE = 63.6376
END_OBJECT = IMAGE_MAP_PROJECTION
/* The JPEG2000 image data file associated with this label. */
OBJECT = COMPRESSED_FILE
  FILE_NAME = "HE898_0000_S13.JP2"
  RECORD_TYPE = UNDEFINED
  FILE_RECORDS = UNK
  ENCODING_TYPE = "JP2"
  INTERCHANGE_FORMAT = BINARY
  UNCOMPRESSED_FILE_NAME = "HE898_0000_S13.IMG"
  REQUIRED_STORAGE_BYTES = "31102883"
  ^DESCRIPTION = "JP2INFO.TXT"
END_OBJECT = COMPRESSED_FILE
END
