PDS_VERSION_ID = PDS3
/* FILE DATA ELEMENTS */
RECORD_TYPE = STREAM
/* POINTERS TO DATA OBJECTS */
^COMPRESSED_FILE = "HE898_0000_S23.JP2"
/* IDENTIFICATION DATA ELEMENTS */
DATA_SET_ID = "MEX-M-HRSC-5-REFDR-MAPPROJECTED-V3.0"
DATA_SET_NAME = "MARS EXPRESS HRSC MAP PROJECTED REFDR V3.0"
DETECTOR_ID = MEX_HRSC_S2
EVENT_TYPE = "MARS-REGIONAL-MAPPING-Gl-Pf-Mw"
INSTRUMENT_HOST_ID = MEX
INSTRUMENT_HOST_NAME = "MARS EXPRESS"
INSTRUMENT_ID = HRSC
INSTRUMENT_NAME = "HIGH RESOLUTION STEREO CAMERA"
MISSION_NAME = "MARS EXPRESS"
MISSION_PHASE_NAME = ME_Phase_33
PROCESSING_LEVEL_ID = 3
PRODUCT_CREATION_TIME = 2016-10-30T10:43:13.000Z
PRODUCT_ID = "HE898_0000_S23.JP2"
RELEASE_ID = 0130
REVISION_ID = 0000
/* QUALITY DATA ELEMENTS */
DATA_QUALITY_ID = 1
DATA_QUALITY_DESC = "Data calculated based on original SPICE kernels"
/* TIME DATA ELEMENTS */
SPACECRAFT_CLOCK_START_COUNT = "1/0391750862.09042"
SPACECRAFT_CLOCK_STOP_COUNT = "1/0391751151.27677"
START_TIME = 2015-10-01T03:41:08.473Z
STOP_TIME = 2015-10-01T03:43:46.581Z
/* ORBITAL DATA ELEMENTS */
ASCENDING_NODE_LONGITUDE = 293.94
MAXIMUM_RESOLUTION = 38.2
FOOTPRINT_POINT_LATITUDE = (-42.8453,-42.84,-42.8348,-42.8223, -42.8134,-42.6973,-42.244,-41.8759, -41.5974,-41.4131,-41.2276,-41.0401, -40.8502,-40.6597,-40.4696,-40.2803, -39.9923,-39.7987,-39.6058,-39.4112, -39.2175,-39.0201,-38.8225,-38.6259, -38.3289,-38.0299,-37.8307,-37.6281, -37.425,-37.2193,-36.91,-36.7057, -36.3931,-36.1839,-35.9762,-35.6591, -35.4459,-35.2342,-35.0201,-34.8036, -34.5831,-34.3675,-34.1466,-33.9281, -33.7083,-33.484,-33.1493,-32.9262, -32.591,-32.5369,-32.5426,-32.548, -32.5503,-32.5505,-32.5497,-32.7779, -33.0039,-33.3399,-33.5633,-33.8945, -34.1139,-34.335,-34.5511,-34.7632, -34.9855,-35.2054,-35.4157,-35.6288, -35.949,-36.1563,-36.3654,-36.5751, -36.783,-36.9871,-37.1922,-37.3977, -37.6017,-37.9053,-38.1084,-38.3103, -38.51,-38.7073,-38.9055,-39.2017, -39.3983,-39.5909,-39.7843,-40.0742, -40.2668,-40.4566,-40.6472,-40.8372, -41.0278,-41.2172,-41.403,-41.6818, -41.9617,-42.1483,-42.513,-42.8453)
FOOTPRINT_POINT_LONGITUDE = (65.9266,65.4638,65.142,64.5793,64.2578 ,63.8137,63.8262,63.8351,63.8417, 63.8463,63.8503,63.8539,63.8576,63.8609 ,63.8642,63.8675,63.8722,63.8751, 63.8782,63.8804,63.883,63.8855,63.8877, 63.89,63.8927,63.8963,63.8984,63.8993, 63.9003,63.9012,63.9019,63.9027,63.9035 ,63.9037,63.9042,63.9042,63.9037, 63.9035,63.9029,63.9022,63.8998,63.899, 63.8976,63.8966,63.8951,63.8928,63.8902 ,63.8881,63.8865,64.2537,64.5981, 64.9192,65.4011,65.8144,66.1588,66.2543 ,66.2501,66.2431,66.2387,66.232,66.2275 ,66.2224,66.2182,66.2148,66.2078, 66.2011,66.1969,66.1917,66.1835,66.1789 ,66.1735,66.168,66.1625,66.1575,66.1521 ,66.1465,66.1409,66.1319,66.1255, 66.1196,66.1137,66.108,66.1019,66.093, 66.0865,66.0808,66.0748,66.0659,66.0595 ,66.0532,66.0465,66.0401,66.0333, 66.0263,66.0198,66.0098,65.9994,65.992, 65.9779,65.9266)
ORBIT_NUMBER = 14898
ORBITAL_ECCENTRICITY = 0.578
ORBITAL_INCLINATION = 86.93
ORBITAL_SEMIMAJOR_AXIS = 8771.12
PERIAPSIS_ALTITUDE = 326.82
PERIAPSIS_ARGUMENT_ANGLE = 290.4
PERIAPSIS_TIME = 2015-10-01T03:34:55.000Z
SPACECRAFT_ORIENTATION = (0.0,1.0,0.0)
^MEX_ORIENTATION_DESC = "MEX_ORIENTATION_DESC.TXT"
SPACECRAFT_POINTING_MODE = NADIR
^MEX_POINTING_DESC = "MEX_POINTING_DESC.TXT"
RIGHT_ASCENSION = -1e+32
DECLINATION = -1e+32
OFFSET_ANGLE = -1e+32
SPACECRAFT_SOLAR_DISTANCE = 2.47339e+08
TARGET_NAME = MARS
/* CAMERA DATA ELEMENTS */
DETECTOR_TEMPERATURE = 17.7588
FOCAL_PLANE_TEMPERATURE = 7.156
INST_CMPRS_NAME = "DISCRETE COSINE TRANSFORMATION (DCT)"
INST_CMPRS_RATIO = 12.043
INST_CMPRS_QUALITY = 0
INST_CMPRS_QUANTZ_TBL_ID = 0
INSTRUMENT_TEMPERATURE = 10.8262
LENS_TEMPERATURE = 7.7677
MACROPIXEL_SIZE = 2
MISSING_FRAMES = 0
PIXEL_SUBSAMPLING_FLAG = N
SIGNAL_CHAIN_ID = 1
/* RADIOMETRIC DATA ELEMENTS */
BANDWIDTH = 178.0
CENTER_FILTER_WAVELENGTH = 679.0
RADIANCE_OFFSET = 3.30515
RADIANCE_SCALING_FACTOR = 0.0107443
REFLECTANCE_SCALING_FACTOR = 0.000348091
MEX:REFLECTANCE_OFFSET = 0.107079
/* IMAGE OBJECT DEFINITIONS */
OBJECT = IMAGE
  INTERCHANGE_FORMAT = BINARY
  LINES = 12099
  LINE_SAMPLES = 2569
  SAMPLE_TYPE = UNSIGNED_INTEGER
  SAMPLE_BITS = 8
  BANDS = 1
  BAND_STORAGE_TYPE = BAND_SEQUENTIAL
  MAXIMUM = 255
  MEAN = 127.269
  MINIMUM = 1
  STANDARD_DEVIATION = 30.5576
END_OBJECT = IMAGE
/* MAP OBJECT DEFINITIONS */
OBJECT = IMAGE_MAP_PROJECTION
  ^DATA_SET_MAP_PROJECTION_CATALOG= "DSMAP.CAT"
  A_AXIS_RADIUS = 3396.0
  B_AXIS_RADIUS = 3396.0
  C_AXIS_RADIUS = 3396.0
  CENTER_LATITUDE = 0.0
  CENTER_LONGITUDE = 65.0
  COORDINATE_SYSTEM_NAME = PLANETOGRAPHIC
  COORDINATE_SYSTEM_TYPE = "BODY-FIXED ROTATING"
  EASTERNMOST_LONGITUDE = 66.2543
  FIRST_STANDARD_PARALLEL = "N/A"
  LINE_FIRST_PIXEL = 1
  LINE_LAST_PIXEL = 12099
  LINE_PROJECTION_OFFSET = -38599.25
  MAP_PROJECTION_ROTATION = 0.0
  MAP_PROJECTION_TYPE = SINUSOIDAL
  MAP_RESOLUTION = 1185.42760773333
  MAP_SCALE = 0.05
  MAXIMUM_LATITUDE = -32.5369
  MINIMUM_LATITUDE = -42.8453
  POSITIVE_LONGITUDE_DIRECTION = EAST
  REFERENCE_LATITUDE = "N/A"
  REFERENCE_LONGITUDE = "N/A"
  SAMPLE_FIRST_PIXEL = 1
  SAMPLE_LAST_PIXEL = 2569
  SAMPLE_PROJECTION_OFFSET = 1223.75
  SECOND_STANDARD_PARALLEL = "N/A"
  WESTERNMOST_LONGITUDE = 63.8137
END_OBJECT = IMAGE_MAP_PROJECTION
/* The JPEG2000 image data file associated with this label. */
OBJECT = COMPRESSED_FILE
  FILE_NAME = "HE898_0000_S23.JP2"
  RECORD_TYPE = UNDEFINED
  FILE_RECORDS = UNK
  ENCODING_TYPE = "JP2"
  INTERCHANGE_FORMAT = BINARY
  UNCOMPRESSED_FILE_NAME = "HE898_0000_S23.IMG"
  REQUIRED_STORAGE_BYTES = "31102883"
  ^DESCRIPTION = "JP2INFO.TXT"
END_OBJECT = COMPRESSED_FILE
END
