PDS_VERSION_ID = PDS3
/* FILE DATA ELEMENTS */
RECORD_TYPE = STREAM
/* POINTERS TO DATA OBJECTS */
^COMPRESSED_FILE = "HE905_0000_P13.JP2"
/* IDENTIFICATION DATA ELEMENTS */
DATA_SET_ID = "MEX-M-HRSC-5-REFDR-MAPPROJECTED-V3.0"
DATA_SET_NAME = "MARS EXPRESS HRSC MAP PROJECTED REFDR V3.0"
DETECTOR_ID = MEX_HRSC_P1
EVENT_TYPE = "MARS-REGIONAL-MAPPING-Gl-Pf-Eo"
INSTRUMENT_HOST_ID = MEX
INSTRUMENT_HOST_NAME = "MARS EXPRESS"
INSTRUMENT_ID = HRSC
INSTRUMENT_NAME = "HIGH RESOLUTION STEREO CAMERA"
MISSION_NAME = "MARS EXPRESS"
MISSION_PHASE_NAME = ME_Phase_33
PROCESSING_LEVEL_ID = 3
PRODUCT_CREATION_TIME = 2016-10-30T10:43:13.000Z
PRODUCT_ID = "HE905_0000_P13.JP2"
RELEASE_ID = 0130
REVISION_ID = 0000
/* QUALITY DATA ELEMENTS */
DATA_QUALITY_ID = 1
DATA_QUALITY_DESC = "Data calculated based on original SPICE kernels"
/* TIME DATA ELEMENTS */
SPACECRAFT_CLOCK_START_COUNT = "1/0391926933.07278"
SPACECRAFT_CLOCK_STOP_COUNT = "1/0391927123.62050"
START_TIME = 2015-10-03T04:36:39.192Z
STOP_TIME = 2015-10-03T04:38:31.285Z
/* ORBITAL DATA ELEMENTS */
ASCENDING_NODE_LONGITUDE = 293.81
MAXIMUM_RESOLUTION = 33.9
FOOTPRINT_POINT_LATITUDE = (-51.9616,-51.9562,-51.9469,-51.9379, -51.9275,-51.9119,-51.911,-51.6614, -51.5336,-51.406,-51.2785,-51.1508, -50.8969,-50.6434,-50.5154,-50.3848, -50.2547,-50.1258,-49.9961,-49.8015, -49.672,-49.5425,-49.4105,-49.2779, -49.079,-48.9464,-48.8141,-48.6814, -48.5493,-48.4142,-48.2788,-48.1436, -48.0078,-47.8735,-47.7398,-47.539, -47.3342,-47.1972,-47.0594,-46.9236, -46.787,-46.578,-46.4388,-46.2994, -46.1614,-46.023,-45.8128,-45.6709, -45.4596,-45.3189,-45.3258,-45.3348, -45.3439,-45.3514,-45.3558,-45.3612, -45.3647,-45.5062,-45.7201,-45.8627, -46.0024,-46.2089,-46.3467,-46.4865, -46.6271,-46.7672,-46.9046,-47.0422, -47.1796,-47.3172,-47.4551,-47.5928, -47.7971,-47.9318,-48.0668,-48.2685, -48.4703,-48.6053,-48.7377,-48.9361, -49.0698,-49.2684,-49.4674,-49.6003, -49.7305,-49.8611,-49.9912,-50.1217, -50.2522,-50.382,-50.5126,-50.7065, -50.8339,-50.9615,-51.153,-51.408, -51.5357,-51.7907,-51.978,-51.9616)
FOOTPRINT_POINT_LONGITUDE = (69.445,69.2064,68.8376,68.5126,68.1661 ,67.6893,67.4538,67.4735,67.4833, 67.4928,67.5022,67.5117,67.5294,67.5466 ,67.5553,67.5645,67.5731,67.5807,67.589 ,67.6013,67.6093,67.6173,67.6253, 67.6332,67.6451,67.653,67.6605,67.6684, 67.6758,67.6832,67.6907,67.6981,67.7058 ,67.7124,67.7185,67.7267,67.7356, 67.7418,67.7486,67.7538,67.7597,67.7692 ,67.7747,67.7803,67.7849,67.7898, 67.7982,67.8034,67.8101,67.8152,68.0944 ,68.4675,68.8868,69.3064,69.5863, 69.9828,70.2248,70.2171,70.2064,70.199, 70.191,70.1779,70.1691,70.1614,70.154, 70.1462,70.1387,70.1312,70.1234,70.1156 ,70.1078,70.0998,70.0884,70.0803, 70.0722,70.0593,70.0461,70.0375,70.0293 ,70.0166,70.0088,69.9957,69.9824, 69.9739,69.9655,69.9573,69.9484,69.9398 ,69.931,69.9215,69.9124,69.8989,69.8898 ,69.8806,69.8667,69.8474,69.8376, 69.8184,69.804,69.445)
ORBIT_NUMBER = 14905
ORBITAL_ECCENTRICITY = 0.578
ORBITAL_INCLINATION = 86.93
ORBITAL_SEMIMAJOR_AXIS = 8769.72
PERIAPSIS_ALTITUDE = 326.59
PERIAPSIS_ARGUMENT_ANGLE = 289.21
PERIAPSIS_TIME = 2015-10-03T04:31:28.000Z
SPACECRAFT_ORIENTATION = (0.0,1.0,0.0)
^MEX_ORIENTATION_DESC = "MEX_ORIENTATION_DESC.TXT"
SPACECRAFT_POINTING_MODE = NADIR
^MEX_POINTING_DESC = "MEX_POINTING_DESC.TXT"
RIGHT_ASCENSION = -1e+32
DECLINATION = -1e+32
OFFSET_ANGLE = -1e+32
SPACECRAFT_SOLAR_DISTANCE = 2.47487e+08
TARGET_NAME = MARS
/* CAMERA DATA ELEMENTS */
DETECTOR_TEMPERATURE = 16.9432
FOCAL_PLANE_TEMPERATURE = 7.3599
INST_CMPRS_NAME = "DISCRETE COSINE TRANSFORMATION (DCT)"
INST_CMPRS_RATIO = 15.3067
INST_CMPRS_QUALITY = 0
INST_CMPRS_QUANTZ_TBL_ID = 0
INSTRUMENT_TEMPERATURE = 10.6223
LENS_TEMPERATURE = 7.3599
MACROPIXEL_SIZE = 2
MISSING_FRAMES = 0
PIXEL_SUBSAMPLING_FLAG = N
SIGNAL_CHAIN_ID = 3
/* RADIOMETRIC DATA ELEMENTS */
BANDWIDTH = 174.0
CENTER_FILTER_WAVELENGTH = 675.0
RADIANCE_OFFSET = 2.07021
RADIANCE_SCALING_FACTOR = 0.00856949
REFLECTANCE_SCALING_FACTOR = 0.000282322
MEX:REFLECTANCE_OFFSET = 0.0682032
/* IMAGE OBJECT DEFINITIONS */
OBJECT = IMAGE
  INTERCHANGE_FORMAT = BINARY
  LINES = 15956
  LINE_SAMPLES = 4137
  SAMPLE_TYPE = UNSIGNED_INTEGER
  SAMPLE_BITS = 8
  BANDS = 1
  BAND_STORAGE_TYPE = BAND_SEQUENTIAL
  MAXIMUM = 255
  MEAN = 125.057
  MINIMUM = 1
  STANDARD_DEVIATION = 52.366
END_OBJECT = IMAGE
/* MAP OBJECT DEFINITIONS */
OBJECT = IMAGE_MAP_PROJECTION
  ^DATA_SET_MAP_PROJECTION_CATALOG= "DSMAP.CAT"
  A_AXIS_RADIUS = 3396.0
  B_AXIS_RADIUS = 3396.0
  C_AXIS_RADIUS = 3396.0
  CENTER_LATITUDE = 0.0
  CENTER_LONGITUDE = 69.0
  COORDINATE_SYSTEM_NAME = PLANETOGRAPHIC
  COORDINATE_SYSTEM_TYPE = "BODY-FIXED ROTATING"
  EASTERNMOST_LONGITUDE = 70.2248
  FIRST_STANDARD_PARALLEL = "N/A"
  LINE_FIRST_PIXEL = 1
  LINE_LAST_PIXEL = 15956
  LINE_PROJECTION_OFFSET = -107378.75
  MAP_PROJECTION_ROTATION = 0.0
  MAP_PROJECTION_TYPE = SINUSOIDAL
  MAP_RESOLUTION = 2370.85521546667
  MAP_SCALE = 0.025
  MAXIMUM_LATITUDE = -45.3189
  MINIMUM_LATITUDE = -51.978
  POSITIVE_LONGITUDE_DIRECTION = EAST
  REFERENCE_LATITUDE = "N/A"
  REFERENCE_LONGITUDE = "N/A"
  SAMPLE_FIRST_PIXEL = 1
  SAMPLE_LAST_PIXEL = 4137
  SAMPLE_PROJECTION_OFFSET = 2196.75
  SECOND_STANDARD_PARALLEL = "N/A"
  WESTERNMOST_LONGITUDE = 67.4538
END_OBJECT = IMAGE_MAP_PROJECTION
/* The JPEG2000 image data file associated with this label. */
OBJECT = COMPRESSED_FILE
  FILE_NAME = "HE905_0000_P13.JP2"
  RECORD_TYPE = UNDEFINED
  FILE_RECORDS = UNK
  ENCODING_TYPE = "JP2"
  INTERCHANGE_FORMAT = BINARY
  UNCOMPRESSED_FILE_NAME = "HE905_0000_P13.IMG"
  REQUIRED_STORAGE_BYTES = "66034794"
  ^DESCRIPTION = "JP2INFO.TXT"
END_OBJECT = COMPRESSED_FILE
END
