PDS_VERSION_ID = PDS3
/* FILE DATA ELEMENTS */
RECORD_TYPE = STREAM
/* POINTERS TO DATA OBJECTS */
^COMPRESSED_FILE = "HE905_0000_S13.JP2"
/* IDENTIFICATION DATA ELEMENTS */
DATA_SET_ID = "MEX-M-HRSC-5-REFDR-MAPPROJECTED-V3.0"
DATA_SET_NAME = "MARS EXPRESS HRSC MAP PROJECTED REFDR V3.0"
DETECTOR_ID = MEX_HRSC_S1
EVENT_TYPE = "MARS-REGIONAL-MAPPING-Gl-Pf-Eo"
INSTRUMENT_HOST_ID = MEX
INSTRUMENT_HOST_NAME = "MARS EXPRESS"
INSTRUMENT_ID = HRSC
INSTRUMENT_NAME = "HIGH RESOLUTION STEREO CAMERA"
MISSION_NAME = "MARS EXPRESS"
MISSION_PHASE_NAME = ME_Phase_33
PROCESSING_LEVEL_ID = 3
PRODUCT_CREATION_TIME = 2016-10-30T10:43:13.000Z
PRODUCT_ID = "HE905_0000_S13.JP2"
RELEASE_ID = 0130
REVISION_ID = 0000
/* QUALITY DATA ELEMENTS */
DATA_QUALITY_ID = 1
DATA_QUALITY_DESC = "Data calculated based on original SPICE kernels"
/* TIME DATA ELEMENTS */
SPACECRAFT_CLOCK_START_COUNT = "1/0391926933.07278"
SPACECRAFT_CLOCK_STOP_COUNT = "1/0391927123.62050"
START_TIME = 2015-10-03T04:36:53.066Z
STOP_TIME = 2015-10-03T04:38:48.236Z
/* ORBITAL DATA ELEMENTS */
ASCENDING_NODE_LONGITUDE = 293.81
MAXIMUM_RESOLUTION = 35.7
FOOTPRINT_POINT_LATITUDE = (-51.9254,-51.9196,-51.9112,-51.899, -51.8888,-51.8778,-51.9108,-51.6608, -51.4115,-51.2203,-51.0929,-50.8991, -50.7721,-50.5191,-50.3916,-50.2619, -50.1337,-50.0043,-49.8747,-49.7456, -49.6163,-49.4873,-49.2902,-49.1582, -49.0261,-48.894,-48.7615,-48.5636, -48.4301,-48.2959,-48.1601,-47.9579, -47.8246,-47.6931,-47.5596,-47.4246, -47.2887,-47.1522,-47.0159,-46.8817, -46.7442,-46.6055,-46.4667,-46.3294, -46.1925,-46.0566,-45.9156,-45.7746, -45.5663,-45.3563,-45.3403,-45.345, -45.3504,-45.3571,-45.3621,-45.367, -45.3715,-45.3745,-45.3793,-45.5188, -45.6602,-45.8018,-45.9415,-46.0785, -46.2165,-46.3512,-46.5602,-46.6994, -46.9074,-47.0442,-47.249,-47.3858, -47.5911,-47.7961,-47.9297,-48.0642, -48.1973,-48.3969,-48.5977,-48.7295, -48.9263,-49.127,-49.324,-49.4564, -49.6523,-49.7826,-49.978,-50.1084, -50.2389,-50.3684,-50.4973,-50.6248, -50.816,-50.9436,-51.135,-51.3297, -51.4577,-51.7075,-51.8953,-51.9254)
FOOTPRINT_POINT_LONGITUDE = (69.6033,69.3373,68.9827,68.5175, 68.1635,67.8092,67.4327,67.4521,67.4708 ,67.4847,67.4938,67.5069,67.5155, 67.5322,67.541,67.5494,67.5568,67.5649, 67.573,67.5809,67.5887,67.5964,67.608, 67.6156,67.6232,67.6307,67.6384,67.6494 ,67.6567,67.6636,67.6713,67.682,67.6883 ,67.6936,67.6988,67.7044,67.7103, 67.7166,67.7227,67.7277,67.7336,67.7394 ,67.7452,67.7501,67.7549,67.7591, 67.7646,67.7699,67.7762,67.7833,67.9998 ,68.1919,68.4563,68.7682,69.0322, 69.3686,69.7048,69.9211,70.2665,70.2585 ,70.2513,70.2439,70.2356,70.226,70.2182 ,70.2088,70.1975,70.1897,70.1778, 70.1701,70.1582,70.1502,70.138,70.1263, 70.1179,70.1097,70.1008,70.0872,70.0742 ,70.0658,70.0525,70.0406,70.0268, 70.0178,70.005,69.9964,69.9833,69.9744, 69.9655,69.9559,69.9466,69.9375,69.9237 ,69.9144,69.9001,69.885,69.8753,69.8559 ,69.8414,69.6033)
ORBIT_NUMBER = 14905
ORBITAL_ECCENTRICITY = 0.578
ORBITAL_INCLINATION = 86.93
ORBITAL_SEMIMAJOR_AXIS = 8769.72
PERIAPSIS_ALTITUDE = 326.59
PERIAPSIS_ARGUMENT_ANGLE = 289.21
PERIAPSIS_TIME = 2015-10-03T04:31:28.000Z
SPACECRAFT_ORIENTATION = (0.0,1.0,0.0)
^MEX_ORIENTATION_DESC = "MEX_ORIENTATION_DESC.TXT"
SPACECRAFT_POINTING_MODE = NADIR
^MEX_POINTING_DESC = "MEX_POINTING_DESC.TXT"
RIGHT_ASCENSION = -1e+32
DECLINATION = -1e+32
OFFSET_ANGLE = -1e+32
SPACECRAFT_SOLAR_DISTANCE = 2.47487e+08
TARGET_NAME = MARS
/* CAMERA DATA ELEMENTS */
DETECTOR_TEMPERATURE = 16.9432
FOCAL_PLANE_TEMPERATURE = 7.3599
INST_CMPRS_NAME = "DISCRETE COSINE TRANSFORMATION (DCT)"
INST_CMPRS_RATIO = 12.7795
INST_CMPRS_QUALITY = 0
INST_CMPRS_QUANTZ_TBL_ID = 0
INSTRUMENT_TEMPERATURE = 10.6223
LENS_TEMPERATURE = 7.3599
MACROPIXEL_SIZE = 2
MISSING_FRAMES = 1
PIXEL_SUBSAMPLING_FLAG = N
SIGNAL_CHAIN_ID = 1
/* RADIOMETRIC DATA ELEMENTS */
BANDWIDTH = 180.0
CENTER_FILTER_WAVELENGTH = 677.0
RADIANCE_OFFSET = 2.19134
RADIANCE_SCALING_FACTOR = 0.00950491
REFLECTANCE_SCALING_FACTOR = 0.000303734
MEX:REFLECTANCE_OFFSET = 0.0700253
/* IMAGE OBJECT DEFINITIONS */
OBJECT = IMAGE
  INTERCHANGE_FORMAT = BINARY
  LINES = 15956
  LINE_SAMPLES = 4137
  SAMPLE_TYPE = UNSIGNED_INTEGER
  SAMPLE_BITS = 8
  BANDS = 1
  BAND_STORAGE_TYPE = BAND_SEQUENTIAL
  MAXIMUM = 255
  MEAN = 130.907
  MINIMUM = 1
  STANDARD_DEVIATION = 51.6709
END_OBJECT = IMAGE
/* MAP OBJECT DEFINITIONS */
OBJECT = IMAGE_MAP_PROJECTION
  ^DATA_SET_MAP_PROJECTION_CATALOG= "DSMAP.CAT"
  A_AXIS_RADIUS = 3396.0
  B_AXIS_RADIUS = 3396.0
  C_AXIS_RADIUS = 3396.0
  CENTER_LATITUDE = 0.0
  CENTER_LONGITUDE = 69.0
  COORDINATE_SYSTEM_NAME = PLANETOGRAPHIC
  COORDINATE_SYSTEM_TYPE = "BODY-FIXED ROTATING"
  EASTERNMOST_LONGITUDE = 70.26649999999999
  FIRST_STANDARD_PARALLEL = "N/A"
  LINE_FIRST_PIXEL = 1
  LINE_LAST_PIXEL = 15956
  LINE_PROJECTION_OFFSET = -107378.75
  MAP_PROJECTION_ROTATION = 0.0
  MAP_PROJECTION_TYPE = SINUSOIDAL
  MAP_RESOLUTION = 2370.85521546667
  MAP_SCALE = 0.025
  MAXIMUM_LATITUDE = -45.3403
  MINIMUM_LATITUDE = -51.9254
  POSITIVE_LONGITUDE_DIRECTION = EAST
  REFERENCE_LATITUDE = "N/A"
  REFERENCE_LONGITUDE = "N/A"
  SAMPLE_FIRST_PIXEL = 1
  SAMPLE_LAST_PIXEL = 4137
  SAMPLE_PROJECTION_OFFSET = 2196.75
  SECOND_STANDARD_PARALLEL = "N/A"
  WESTERNMOST_LONGITUDE = 67.4327
END_OBJECT = IMAGE_MAP_PROJECTION
/* The JPEG2000 image data file associated with this label. */
OBJECT = COMPRESSED_FILE
  FILE_NAME = "HE905_0000_S13.JP2"
  RECORD_TYPE = UNDEFINED
  FILE_RECORDS = UNK
  ENCODING_TYPE = "JP2"
  INTERCHANGE_FORMAT = BINARY
  UNCOMPRESSED_FILE_NAME = "HE905_0000_S13.IMG"
  REQUIRED_STORAGE_BYTES = "66034794"
  ^DESCRIPTION = "JP2INFO.TXT"
END_OBJECT = COMPRESSED_FILE
END
