PDS_VERSION_ID = PDS3
/* FILE DATA ELEMENTS */
RECORD_TYPE = STREAM
/* POINTERS TO DATA OBJECTS */
^COMPRESSED_FILE = "HE964_0000_RE3.JP2"
/* IDENTIFICATION DATA ELEMENTS */
DATA_SET_ID = "MEX-M-HRSC-5-REFDR-MAPPROJECTED-V3.0"
DATA_SET_NAME = "MARS EXPRESS HRSC MAP PROJECTED REFDR V3.0"
DETECTOR_ID = MEX_HRSC_RED
EVENT_TYPE = "MARS-REGIONAL-MAPPING-Te-Gl-Pf"
INSTRUMENT_HOST_ID = MEX
INSTRUMENT_HOST_NAME = "MARS EXPRESS"
INSTRUMENT_ID = HRSC
INSTRUMENT_NAME = "HIGH RESOLUTION STEREO CAMERA"
MISSION_NAME = "MARS EXPRESS"
MISSION_PHASE_NAME = ME_Phase_33
PROCESSING_LEVEL_ID = 3
PRODUCT_CREATION_TIME = 2016-10-30T10:43:13.000Z
PRODUCT_ID = "HE964_0000_RE3.JP2"
RELEASE_ID = 0130
REVISION_ID = 0000
/* QUALITY DATA ELEMENTS */
DATA_QUALITY_ID = 1
DATA_QUALITY_DESC = "Data calculated based on original SPICE kernels"
/* TIME DATA ELEMENTS */
SPACECRAFT_CLOCK_START_COUNT = "1/0393412314.09057"
SPACECRAFT_CLOCK_STOP_COUNT = "1/0393412667.05603"
START_TIME = 2015-10-20T09:12:07.759Z
STOP_TIME = 2015-10-20T09:15:31.858Z
/* ORBITAL DATA ELEMENTS */
ASCENDING_NODE_LONGITUDE = 292.72
MAXIMUM_RESOLUTION = 88.4
FOOTPRINT_POINT_LATITUDE = (-47.507,-47.5043,-47.5001,-47.4945, -47.4874,-47.4788,-47.4687,-47.0998, -46.6183,-46.0103,-45.763,-45.5148, -45.267,-45.0173,-44.765,-44.3864, -44.1307,-43.8739,-43.617,-43.3571, -43.0959,-42.8354,-42.5709,-42.3046, -42.0383,-41.7679,-41.4974,-41.088, -40.813,-40.5375,-40.258,-39.9783, -39.5537,-39.2697,-38.8372,-38.549, -38.2579,-37.9715,-37.6819,-37.3923, -36.958,-36.6683,-36.1851,-35.8598, -35.5342,-35.0455,-34.7197,-34.2289, -33.9009,-33.5217,-33.5305,-33.5374, -33.5405,-33.5403,-33.539,-33.7013, -34.0345,-34.363,-34.6894,-35.0134, -35.5032,-35.8294,-36.1559,-36.4821, -36.7911,-37.0817,-37.3724,-37.6627, -37.9525,-38.2425,-38.5323,-38.8186, -39.1086,-39.3982,-39.6825,-39.9664, -40.2467,-40.5266,-40.8039,-41.0798, -41.3555,-41.6261,-41.8962,-42.2979, -42.5628,-42.9602,-43.2216,-43.6135, -43.8706,-44.2559,-44.5108,-44.7631, -45.0169,-45.2664,-45.5148,-45.7634, -46.255,-46.6208,-47.104,-47.507)
FOOTPRINT_POINT_LONGITUDE = (156.241,155.842,155.442,155.041, 154.638,154.234,153.827,153.622,153.646 ,153.676,153.684,153.693,153.703, 153.712,153.721,153.734,153.741,153.749 ,153.757,153.765,153.772,153.781, 153.787,153.793,153.798,153.803,153.808 ,153.816,153.82,153.825,153.829,153.832 ,153.838,153.841,153.845,153.848, 153.847,153.852,153.853,153.853,153.854 ,153.854,153.854,153.853,153.852,153.85 ,153.848,153.844,153.84,154.126,154.622 ,155.201,155.779,156.326,156.671, 156.935,156.924,156.914,156.904,156.895 ,156.88,156.87,156.86,156.849,156.839, 156.829,156.819,156.809,156.799,156.788 ,156.778,156.768,156.757,156.745, 156.734,156.723,156.712,156.701,156.689 ,156.678,156.666,156.654,156.643, 156.625,156.614,156.596,156.584,156.565 ,156.553,156.534,156.521,156.508, 156.493,156.482,156.468,156.454,156.428 ,156.407,156.379,156.241)
ORBIT_NUMBER = 14964
ORBITAL_ECCENTRICITY = 0.577
ORBITAL_INCLINATION = 86.91
ORBITAL_SEMIMAJOR_AXIS = 8762.27
PERIAPSIS_ALTITUDE = 327.86
PERIAPSIS_ARGUMENT_ANGLE = 279.24
PERIAPSIS_TIME = 2015-10-20T09:03:27.000Z
SPACECRAFT_ORIENTATION = (0.0,1.0,0.0)
^MEX_ORIENTATION_DESC = "MEX_ORIENTATION_DESC.TXT"
SPACECRAFT_POINTING_MODE = INERT
^MEX_POINTING_DESC = "MEX_POINTING_DESC.TXT"
RIGHT_ASCENSION = 316.049
DECLINATION = 62.609
OFFSET_ANGLE = -1e+32
SPACECRAFT_SOLAR_DISTANCE = 2.48501e+08
TARGET_NAME = MARS
/* CAMERA DATA ELEMENTS */
DETECTOR_TEMPERATURE = 18.3705
FOCAL_PLANE_TEMPERATURE = 7.3599
INST_CMPRS_NAME = "DISCRETE COSINE TRANSFORMATION (DCT)"
INST_CMPRS_RATIO = 9.63974
INST_CMPRS_QUALITY = 0
INST_CMPRS_QUANTZ_TBL_ID = 0
INSTRUMENT_TEMPERATURE = 10.8262
LENS_TEMPERATURE = 7.5638
MACROPIXEL_SIZE = 4
MISSING_FRAMES = 0
PIXEL_SUBSAMPLING_FLAG = N
SIGNAL_CHAIN_ID = 2
/* RADIOMETRIC DATA ELEMENTS */
BANDWIDTH = 48.0
CENTER_FILTER_WAVELENGTH = 748.0
RADIANCE_OFFSET = 0.166118
RADIANCE_SCALING_FACTOR = 0.0045963
REFLECTANCE_SCALING_FACTOR = 0.000647725
MEX:REFLECTANCE_OFFSET = 0.0234099
/* IMAGE OBJECT DEFINITIONS */
OBJECT = IMAGE
  INTERCHANGE_FORMAT = BINARY
  LINES = 8299
  LINE_SAMPLES = 1722
  SAMPLE_TYPE = UNSIGNED_INTEGER
  SAMPLE_BITS = 8
  BANDS = 1
  BAND_STORAGE_TYPE = BAND_SEQUENTIAL
  MAXIMUM = 255
  MEAN = 110.442
  MINIMUM = 1
  STANDARD_DEVIATION = 19.1814
END_OBJECT = IMAGE
/* MAP OBJECT DEFINITIONS */
OBJECT = IMAGE_MAP_PROJECTION
  ^DATA_SET_MAP_PROJECTION_CATALOG= "DSMAP.CAT"
  A_AXIS_RADIUS = 3396.0
  B_AXIS_RADIUS = 3396.0
  C_AXIS_RADIUS = 3396.0
  CENTER_LATITUDE = 0.0
  CENTER_LONGITUDE = 155.0
  COORDINATE_SYSTEM_NAME = PLANETOGRAPHIC
  COORDINATE_SYSTEM_TYPE = "BODY-FIXED ROTATING"
  EASTERNMOST_LONGITUDE = 156.935
  FIRST_STANDARD_PARALLEL = "N/A"
  LINE_FIRST_PIXEL = 1
  LINE_LAST_PIXEL = 8299
  LINE_PROJECTION_OFFSET = -19863.625
  MAP_PROJECTION_ROTATION = 0.0
  MAP_PROJECTION_TYPE = SINUSOIDAL
  MAP_RESOLUTION = 592.713803866667
  MAP_SCALE = 0.1
  MAXIMUM_LATITUDE = -33.5217
  MINIMUM_LATITUDE = -47.507
  POSITIVE_LONGITUDE_DIRECTION = EAST
  REFERENCE_LATITUDE = "N/A"
  REFERENCE_LONGITUDE = "N/A"
  SAMPLE_FIRST_PIXEL = 1
  SAMPLE_LAST_PIXEL = 1722
  SAMPLE_PROJECTION_OFFSET = 646.375
  SECOND_STANDARD_PARALLEL = "N/A"
  WESTERNMOST_LONGITUDE = 153.622
END_OBJECT = IMAGE_MAP_PROJECTION
/* The JPEG2000 image data file associated with this label. */
OBJECT = COMPRESSED_FILE
  FILE_NAME = "HE964_0000_RE3.JP2"
  RECORD_TYPE = UNDEFINED
  FILE_RECORDS = UNK
  ENCODING_TYPE = "JP2"
  INTERCHANGE_FORMAT = BINARY
  UNCOMPRESSED_FILE_NAME = "HE964_0000_RE3.IMG"
  REQUIRED_STORAGE_BYTES = "14311542"
  ^DESCRIPTION = "JP2INFO.TXT"
END_OBJECT = COMPRESSED_FILE
END
