PDS_VERSION_ID = PDS3
/* FILE DATA ELEMENTS */
RECORD_TYPE = STREAM
/* POINTERS TO DATA OBJECTS */
^COMPRESSED_FILE = "HE966_0000_S13.JP2"
/* IDENTIFICATION DATA ELEMENTS */
DATA_SET_ID = "MEX-M-HRSC-5-REFDR-MAPPROJECTED-V3.0"
DATA_SET_NAME = "MARS EXPRESS HRSC MAP PROJECTED REFDR V3.0"
DETECTOR_ID = MEX_HRSC_S1
EVENT_TYPE = "MARS-REGIONAL-STEREO-Fl-Gl-Pf"
INSTRUMENT_HOST_ID = MEX
INSTRUMENT_HOST_NAME = "MARS EXPRESS"
INSTRUMENT_ID = HRSC
INSTRUMENT_NAME = "HIGH RESOLUTION STEREO CAMERA"
MISSION_NAME = "MARS EXPRESS"
MISSION_PHASE_NAME = ME_Phase_33
PROCESSING_LEVEL_ID = 3
PRODUCT_CREATION_TIME = 2016-10-30T10:43:13.000Z
PRODUCT_ID = "HE966_0000_S13.JP2"
RELEASE_ID = 0130
REVISION_ID = 0000
/* QUALITY DATA ELEMENTS */
DATA_QUALITY_ID = 1
DATA_QUALITY_DESC = "Data calculated based on original SPICE kernels"
/* TIME DATA ELEMENTS */
SPACECRAFT_CLOCK_START_COUNT = "1/0393462596.08256"
SPACECRAFT_CLOCK_STOP_COUNT = "1/0393462814.47143"
START_TIME = 2015-10-20T23:11:41.777Z
STOP_TIME = 2015-10-20T23:13:39.074Z
/* ORBITAL DATA ELEMENTS */
ASCENDING_NODE_LONGITUDE = 292.68
MAXIMUM_RESOLUTION = 26.6
FOOTPRINT_POINT_LATITUDE = (-51.1874,-51.1854,-51.1821,-51.1794, -51.176,-51.1724,-51.1668,-51.1624, -51.1576,-51.1505,-51.145,-51.1367, -51.2797,-51.011,-50.8082,-50.5363, -50.2628,-49.9884,-49.8485,-49.7084, -49.5691,-49.29,-49.1466,-49.0069, -48.7262,-48.5668,-48.3343,-48.192, -47.9074,-47.7609,-47.4813,-47.2787, -47.1313,-46.9804,-46.8167,-46.6578, -46.377,-46.2327,-46.0022,-45.7642, -45.6067,-45.3288,-45.1749,-45.0221, -44.8652,-44.6329,-44.4775,-44.3222, -44.1667,-43.9915,-43.999,-44.0034, -43.9981,-44.0135,-44.0135,-44.0071, -44.0253,-44.0305,-44.0403,-44.0428, -44.2777,-44.5118,-44.6683,-44.824, -44.9804,-45.2129,-45.3667,-45.5206, -45.6741,-45.8256,-45.9779,-46.2061, -46.3562,-46.5061,-46.6556,-46.804, -46.9508,-47.0964,-47.315,-47.5352, -47.7553,-47.9002,-48.0446,-48.1872, -48.402,-48.5458,-48.6881,-48.9003, -49.0419,-49.1831,-49.3946,-49.6034, -49.7425,-49.8817,-50.2275,-50.5013, -50.843,-51.1134,-51.3167,-51.1874)
FOOTPRINT_POINT_LONGITUDE = (312.616,312.379,312.042,311.806, 311.536,311.266,310.895,310.626,310.356 ,309.985,309.715,309.343,309.264, 309.286,309.302,309.324,309.345,309.365 ,309.376,309.386,309.396,309.416, 309.427,309.436,309.454,309.47,309.492, 309.5,309.517,309.526,309.538,309.543, 309.552,309.561,309.576,309.589,309.596 ,309.602,309.615,309.631,309.64,309.642 ,309.649,309.656,309.663,309.673, 309.679,309.685,309.692,309.802,310.175 ,310.514,310.99,311.225,311.564,311.8, 312.208,312.514,312.891,313.147,313.139 ,313.13,313.124,313.118,313.112,313.103 ,313.096,313.09,313.084,313.077,313.071 ,313.062,313.055,313.049,313.042, 313.035,313.028,313.021,313.01,313.0, 312.99,312.983,312.976,312.968,312.958, 312.951,312.943,312.933,312.926,312.918 ,312.907,312.896,312.889,312.881, 312.863,312.847,312.828,312.812,312.8, 312.616)
ORBIT_NUMBER = 14966
ORBITAL_ECCENTRICITY = 0.577
ORBITAL_INCLINATION = 86.92
ORBITAL_SEMIMAJOR_AXIS = 8760.18
PERIAPSIS_ALTITUDE = 327.13
PERIAPSIS_ARGUMENT_ANGLE = 278.92
PERIAPSIS_TIME = 2015-10-20T23:02:32.000Z
SPACECRAFT_ORIENTATION = (0.0,1.0,0.0)
^MEX_ORIENTATION_DESC = "MEX_ORIENTATION_DESC.TXT"
SPACECRAFT_POINTING_MODE = INERT
^MEX_POINTING_DESC = "MEX_POINTING_DESC.TXT"
RIGHT_ASCENSION = 316.32
DECLINATION = 62.323
OFFSET_ANGLE = -1e+32
SPACECRAFT_SOLAR_DISTANCE = 2.48528e+08
TARGET_NAME = MARS
/* CAMERA DATA ELEMENTS */
DETECTOR_TEMPERATURE = 16.9432
FOCAL_PLANE_TEMPERATURE = 7.156
INST_CMPRS_NAME = "DISCRETE COSINE TRANSFORMATION (DCT)"
INST_CMPRS_RATIO = 11.7504
INST_CMPRS_QUALITY = 0
INST_CMPRS_QUANTZ_TBL_ID = 0
INSTRUMENT_TEMPERATURE = 10.4184
LENS_TEMPERATURE = 7.3599
MACROPIXEL_SIZE = 1
MISSING_FRAMES = 0
PIXEL_SUBSAMPLING_FLAG = N
SIGNAL_CHAIN_ID = 2
/* RADIOMETRIC DATA ELEMENTS */
BANDWIDTH = 180.0
CENTER_FILTER_WAVELENGTH = 677.0
RADIANCE_OFFSET = 0.963402
RADIANCE_SCALING_FACTOR = 0.0133581
REFLECTANCE_SCALING_FACTOR = 0.000430464
MEX:REFLECTANCE_OFFSET = 0.0310456
/* IMAGE OBJECT DEFINITIONS */
OBJECT = IMAGE
  INTERCHANGE_FORMAT = BINARY
  LINES = 17266
  LINE_SAMPLES = 5618
  SAMPLE_TYPE = UNSIGNED_INTEGER
  SAMPLE_BITS = 8
  BANDS = 1
  BAND_STORAGE_TYPE = BAND_SEQUENTIAL
  MAXIMUM = 255
  MEAN = 117.137
  MINIMUM = 1
  STANDARD_DEVIATION = 22.8017
END_OBJECT = IMAGE
/* MAP OBJECT DEFINITIONS */
OBJECT = IMAGE_MAP_PROJECTION
  ^DATA_SET_MAP_PROJECTION_CATALOG= "DSMAP.CAT"
  A_AXIS_RADIUS = 3396.0
  B_AXIS_RADIUS = 3396.0
  C_AXIS_RADIUS = 3396.0
  CENTER_LATITUDE = 0.0
  CENTER_LONGITUDE = 311.0
  COORDINATE_SYSTEM_NAME = PLANETOGRAPHIC
  COORDINATE_SYSTEM_TYPE = "BODY-FIXED ROTATING"
  EASTERNMOST_LONGITUDE = 313.147
  FIRST_STANDARD_PARALLEL = "N/A"
  LINE_FIRST_PIXEL = 1
  LINE_LAST_PIXEL = 17266
  LINE_PROJECTION_OFFSET = -104278.0
  MAP_PROJECTION_ROTATION = 0.0
  MAP_PROJECTION_TYPE = SINUSOIDAL
  MAP_RESOLUTION = 2370.85521546667
  MAP_SCALE = 0.025
  MAXIMUM_LATITUDE = -43.9915
  MINIMUM_LATITUDE = -51.3167
  POSITIVE_LONGITUDE_DIRECTION = EAST
  REFERENCE_LATITUDE = "N/A"
  REFERENCE_LONGITUDE = "N/A"
  SAMPLE_FIRST_PIXEL = 1
  SAMPLE_LAST_PIXEL = 5618
  SAMPLE_PROJECTION_OFFSET = 2381.0
  SECOND_STANDARD_PARALLEL = "N/A"
  WESTERNMOST_LONGITUDE = 309.264
END_OBJECT = IMAGE_MAP_PROJECTION
/* The JPEG2000 image data file associated with this label. */
OBJECT = COMPRESSED_FILE
  FILE_NAME = "HE966_0000_S13.JP2"
  RECORD_TYPE = UNDEFINED
  FILE_RECORDS = UNK
  ENCODING_TYPE = "JP2"
  INTERCHANGE_FORMAT = BINARY
  UNCOMPRESSED_FILE_NAME = "HE966_0000_S13.IMG"
  REQUIRED_STORAGE_BYTES = "97028478"
  ^DESCRIPTION = "JP2INFO.TXT"
END_OBJECT = COMPRESSED_FILE
END
