PDS_VERSION_ID = PDS3
/* FILE DATA ELEMENTS */
RECORD_TYPE = STREAM
/* POINTERS TO DATA OBJECTS */
^COMPRESSED_FILE = "HE973_0000_P13.JP2"
/* IDENTIFICATION DATA ELEMENTS */
DATA_SET_ID = "MEX-M-HRSC-5-REFDR-MAPPROJECTED-V3.0"
DATA_SET_NAME = "MARS EXPRESS HRSC MAP PROJECTED REFDR V3.0"
DETECTOR_ID = MEX_HRSC_P1
EVENT_TYPE = "MARS-REGIONAL-STEREO-Gl-Pf-Eo"
INSTRUMENT_HOST_ID = MEX
INSTRUMENT_HOST_NAME = "MARS EXPRESS"
INSTRUMENT_ID = HRSC
INSTRUMENT_NAME = "HIGH RESOLUTION STEREO CAMERA"
MISSION_NAME = "MARS EXPRESS"
MISSION_PHASE_NAME = ME_Phase_33
PROCESSING_LEVEL_ID = 3
PRODUCT_CREATION_TIME = 2016-10-30T10:43:13.000Z
PRODUCT_ID = "HE973_0000_P13.JP2"
RELEASE_ID = 0130
REVISION_ID = 0000
/* QUALITY DATA ELEMENTS */
DATA_QUALITY_ID = 1
DATA_QUALITY_DESC = "Data calculated based on original SPICE kernels"
/* TIME DATA ELEMENTS */
SPACECRAFT_CLOCK_START_COUNT = "1/0393638835.08455"
SPACECRAFT_CLOCK_STOP_COUNT = "1/0393639034.47763"
START_TIME = 2015-10-23T00:08:41.700Z
STOP_TIME = 2015-10-23T00:10:17.182Z
/* ORBITAL DATA ELEMENTS */
ASCENDING_NODE_LONGITUDE = 292.56
MAXIMUM_RESOLUTION = 50.1
FOOTPRINT_POINT_LATITUDE = (-49.1689,-49.1669,-49.1647,-49.1617, -49.1584,-49.1546,-49.1505,-49.143, -49.1379,-49.1324,-49.1265,-49.1194, -49.1136,-49.1823,-49.0149,-48.7904, -48.5064,-48.2229,-48.0514,-47.8215, -47.5906,-47.4158,-47.1827,-46.9491, -46.7124,-46.5935,-46.4748,-46.3562, -46.2361,-46.1154,-45.9944,-45.8738, -45.7532,-45.6311,-45.5087,-45.3851, -45.2611,-45.0761,-44.9518,-44.8275, -44.7028,-44.5768,-44.4522,-44.326, -44.1999,-44.0107,-43.8829,-43.7533, -43.6243,-43.4984,-43.3711,-43.1319, -43.1391,-43.1461,-43.1517,-43.1596, -43.1643,-43.1704,-43.1714,-43.1762, -43.1801,-43.1827,-43.1843,-43.3152, -43.4436,-43.5696,-43.6985,-43.8266, -43.9555,-44.0834,-44.2095,-44.3354, -44.4612,-44.5886,-44.7149,-44.8411, -44.965,-45.0892,-45.2133,-45.3355, -45.4578,-45.5795,-45.7632,-45.9455, -46.1267,-46.2477,-46.3683,-46.6061, -46.7843,-46.9032,-47.1383,-47.3143, -47.5479,-47.7218,-48.0104,-48.2982, -48.525,-48.7516,-48.9784,-49.1689)
FOOTPRINT_POINT_LONGITUDE = (316.893,316.677,316.461,316.214, 315.968,315.721,315.474,315.074,314.828 ,314.581,314.335,314.057,313.841, 313.659,313.67,313.684,313.702,313.719, 313.729,313.742,313.755,313.764,313.776 ,313.788,313.8,313.806,313.812,313.818, 313.823,313.829,313.835,313.84,313.846, 313.851,313.857,313.863,313.869,313.877 ,313.883,313.888,313.893,313.899, 313.903,313.908,313.913,313.92,313.925, 313.931,313.936,313.939,313.943,313.951 ,314.204,314.491,314.713,315.095,315.35 ,315.764,315.955,316.242,316.434, 316.753,317.04,317.239,317.234,317.227, 317.222,317.216,317.211,317.206,317.2, 317.194,317.188,317.183,317.178,317.173 ,317.167,317.161,317.155,317.148, 317.142,317.136,317.126,317.118,317.109 ,317.103,317.097,317.084,317.074, 317.068,317.055,317.046,317.033,317.023 ,317.007,316.991,316.977,316.964, 316.951,316.893)
ORBIT_NUMBER = 14973
ORBITAL_ECCENTRICITY = 0.577
ORBITAL_INCLINATION = 86.92
ORBITAL_SEMIMAJOR_AXIS = 8759.51
PERIAPSIS_ALTITUDE = 326.99
PERIAPSIS_ARGUMENT_ANGLE = 277.73
PERIAPSIS_TIME = 2015-10-22T23:59:13.000Z
SPACECRAFT_ORIENTATION = (0.0,1.0,0.0)
^MEX_ORIENTATION_DESC = "MEX_ORIENTATION_DESC.TXT"
SPACECRAFT_POINTING_MODE = INERT
^MEX_POINTING_DESC = "MEX_POINTING_DESC.TXT"
RIGHT_ASCENSION = 317.337
DECLINATION = 61.261
OFFSET_ANGLE = -1e+32
SPACECRAFT_SOLAR_DISTANCE = 2.48618e+08
TARGET_NAME = MARS
/* CAMERA DATA ELEMENTS */
DETECTOR_TEMPERATURE = 16.9432
FOCAL_PLANE_TEMPERATURE = 6.9521
INST_CMPRS_NAME = "DISCRETE COSINE TRANSFORMATION (DCT)"
INST_CMPRS_RATIO = 15.3022
INST_CMPRS_QUALITY = 0
INST_CMPRS_QUANTZ_TBL_ID = 0
INSTRUMENT_TEMPERATURE = 10.8262
LENS_TEMPERATURE = 7.7677
MACROPIXEL_SIZE = 2
MISSING_FRAMES = 0
PIXEL_SUBSAMPLING_FLAG = N
SIGNAL_CHAIN_ID = 3
/* RADIOMETRIC DATA ELEMENTS */
BANDWIDTH = 174.0
CENTER_FILTER_WAVELENGTH = 675.0
RADIANCE_OFFSET = 1.61516
RADIANCE_SCALING_FACTOR = 0.00774149
REFLECTANCE_SCALING_FACTOR = 0.000257381
MEX:REFLECTANCE_OFFSET = 0.053699
/* IMAGE OBJECT DEFINITIONS */
OBJECT = IMAGE
  INTERCHANGE_FORMAT = BINARY
  LINES = 7200
  LINE_SAMPLES = 2842
  SAMPLE_TYPE = UNSIGNED_INTEGER
  SAMPLE_BITS = 8
  BANDS = 1
  BAND_STORAGE_TYPE = BAND_SEQUENTIAL
  MAXIMUM = 255
  MEAN = 114.487
  MINIMUM = 1
  STANDARD_DEVIATION = 31.8923
END_OBJECT = IMAGE
/* MAP OBJECT DEFINITIONS */
OBJECT = IMAGE_MAP_PROJECTION
  ^DATA_SET_MAP_PROJECTION_CATALOG= "DSMAP.CAT"
  A_AXIS_RADIUS = 3396.0
  B_AXIS_RADIUS = 3396.0
  C_AXIS_RADIUS = 3396.0
  CENTER_LATITUDE = 0.0
  CENTER_LONGITUDE = 315.0
  COORDINATE_SYSTEM_NAME = PLANETOGRAPHIC
  COORDINATE_SYSTEM_TYPE = "BODY-FIXED ROTATING"
  EASTERNMOST_LONGITUDE = 317.239
  FIRST_STANDARD_PARALLEL = "N/A"
  LINE_FIRST_PIXEL = 1
  LINE_LAST_PIXEL = 7200
  LINE_PROJECTION_OFFSET = -51136.25
  MAP_PROJECTION_ROTATION = 0.0
  MAP_PROJECTION_TYPE = SINUSOIDAL
  MAP_RESOLUTION = 1185.42760773333
  MAP_SCALE = 0.05
  MAXIMUM_LATITUDE = -43.1319
  MINIMUM_LATITUDE = -49.1823
  POSITIVE_LONGITUDE_DIRECTION = EAST
  REFERENCE_LATITUDE = "N/A"
  REFERENCE_LONGITUDE = "N/A"
  SAMPLE_FIRST_PIXEL = 1
  SAMPLE_LAST_PIXEL = 2842
  SAMPLE_PROJECTION_OFFSET = 999.75
  SECOND_STANDARD_PARALLEL = "N/A"
  WESTERNMOST_LONGITUDE = 313.659
END_OBJECT = IMAGE_MAP_PROJECTION
/* The JPEG2000 image data file associated with this label. */
OBJECT = COMPRESSED_FILE
  FILE_NAME = "HE973_0000_P13.JP2"
  RECORD_TYPE = UNDEFINED
  FILE_RECORDS = UNK
  ENCODING_TYPE = "JP2"
  INTERCHANGE_FORMAT = BINARY
  UNCOMPRESSED_FILE_NAME = "HE973_0000_P13.IMG"
  REQUIRED_STORAGE_BYTES = "20485136"
  ^DESCRIPTION = "JP2INFO.TXT"
END_OBJECT = COMPRESSED_FILE
END
