PDS_VERSION_ID = PDS3
/* FILE DATA ELEMENTS */
RECORD_TYPE = STREAM
/* POINTERS TO DATA OBJECTS */
^COMPRESSED_FILE = "HE976_0000_S23.JP2"
/* IDENTIFICATION DATA ELEMENTS */
DATA_SET_ID = "MEX-M-HRSC-5-REFDR-MAPPROJECTED-V3.0"
DATA_SET_NAME = "MARS EXPRESS HRSC MAP PROJECTED REFDR V3.0"
DETECTOR_ID = MEX_HRSC_S2
EVENT_TYPE = "MARS-REGIONAL-MAPPING-Gl-Pf-La"
INSTRUMENT_HOST_ID = MEX
INSTRUMENT_HOST_NAME = "MARS EXPRESS"
INSTRUMENT_ID = HRSC
INSTRUMENT_NAME = "HIGH RESOLUTION STEREO CAMERA"
MISSION_NAME = "MARS EXPRESS"
MISSION_PHASE_NAME = ME_Phase_33
PROCESSING_LEVEL_ID = 3
PRODUCT_CREATION_TIME = 2016-10-30T10:43:13.000Z
PRODUCT_ID = "HE976_0000_S23.JP2"
RELEASE_ID = 0130
REVISION_ID = 0000
/* QUALITY DATA ELEMENTS */
DATA_QUALITY_ID = 1
DATA_QUALITY_DESC = "Data calculated based on original SPICE kernels"
/* TIME DATA ELEMENTS */
SPACECRAFT_CLOCK_START_COUNT = "1/0393714276.08272"
SPACECRAFT_CLOCK_STOP_COUNT = "1/0393714517.31152"
START_TIME = 2015-10-23T21:04:42.511Z
STOP_TIME = 2015-10-23T21:06:49.780Z
/* ORBITAL DATA ELEMENTS */
ASCENDING_NODE_LONGITUDE = 292.5
MAXIMUM_RESOLUTION = 19
FOOTPRINT_POINT_LATITUDE = (-55.2024,-55.192,-55.18,-55.1665, -55.1512,-55.1344,-55.1069,-54.7025, -54.4548,-54.0416,-53.7111,-53.5445, -53.3751,-53.1212,-52.9527,-52.7827, -52.6131,-52.4421,-52.2691,-52.0962, -51.9232,-51.7503,-51.5773,-51.4023, -51.2257,-51.0492,-50.8725,-50.6075, -50.429,-50.2484,-50.0662,-49.8856, -49.6162,-49.4328,-49.2483,-49.0645, -48.8804,-48.6959,-48.5082,-48.2261, -48.0379,-47.8499,-47.5632,-47.3714, -47.1795,-46.9871,-46.7919,-46.5961, -46.4004,-46.2044,-46.1755,-46.188, -46.2048,-46.2139,-46.2203,-46.2305, -46.238,-46.343,-46.6347,-46.8308, -47.0265,-47.2189,-47.4114,-47.6039, -47.7961,-47.9868,-48.1722,-48.4551, -48.7404,-49.0162,-49.2003,-49.3847, -49.5689,-49.7513,-49.9323,-50.1132, -50.294,-50.4746,-50.6541,-50.9195, -51.0964,-51.2737,-51.4505,-51.625, -51.8848,-52.1446,-52.3178,-52.4908, -52.6628,-52.8338,-53.0032,-53.1727, -53.4269,-53.5959,-53.7631,-54.2601, -54.5915,-54.8394,-55.1636,-55.2024)
FOOTPRINT_POINT_LONGITUDE = (8.3654,7.94404,7.52125,7.09743,6.67232 ,6.24516,5.93877,5.98502,6.01284,6.0571 ,6.09182,6.10784,6.12335,6.14699, 6.16403,6.17782,6.19235,6.20676,6.22141 ,6.23612,6.25036,6.26468,6.2786,6.29258 ,6.30635,6.31995,6.33318,6.35272,6.3656 ,6.37797,6.38777,6.39983,6.41954,6.4309 ,6.44205,6.45393,6.46519,6.47591, 6.48626,6.50197,6.51215,6.52239,6.53711 ,6.54686,6.5563,6.56505,6.57368,6.58246 ,6.59128,6.59956,6.85307,7.18869, 7.68993,8.02268,8.27214,8.7145,9.12777, 9.40912,9.39232,9.38025,9.36808,9.35593 ,9.34355,9.33104,9.31846,9.30562, 9.29445,9.27518,9.25426,9.23548,9.22254 ,9.20936,9.19602,9.18254,9.16896, 9.15528,9.14145,9.1275,9.1135,9.09258, 9.07837,9.06379,9.04927,9.03563,9.01385 ,8.99156,8.97647,8.9613,8.94577,8.92926 ,8.91391,8.89819,8.87437,8.85856, 8.84279,8.79422,8.76074,8.73491,8.70072 ,8.3654)
ORBIT_NUMBER = 14976
ORBITAL_ECCENTRICITY = 0.577
ORBITAL_INCLINATION = 86.92
ORBITAL_SEMIMAJOR_AXIS = 8760.07
PERIAPSIS_ALTITUDE = 327.14
PERIAPSIS_ARGUMENT_ANGLE = 277.19
PERIAPSIS_TIME = 2015-10-23T20:57:43.000Z
SPACECRAFT_ORIENTATION = (0.0,1.0,0.0)
^MEX_ORIENTATION_DESC = "MEX_ORIENTATION_DESC.TXT"
SPACECRAFT_POINTING_MODE = INERT
^MEX_POINTING_DESC = "MEX_POINTING_DESC.TXT"
RIGHT_ASCENSION = 317.821
DECLINATION = 60.735
OFFSET_ANGLE = -1e+32
SPACECRAFT_SOLAR_DISTANCE = 2.48655e+08
TARGET_NAME = MARS
/* CAMERA DATA ELEMENTS */
DETECTOR_TEMPERATURE = 17.9627
FOCAL_PLANE_TEMPERATURE = 7.156
INST_CMPRS_NAME = "DISCRETE COSINE TRANSFORMATION (DCT)"
INST_CMPRS_RATIO = 6.72275
INST_CMPRS_QUALITY = 0
INST_CMPRS_QUANTZ_TBL_ID = 0
INSTRUMENT_TEMPERATURE = 10.8262
LENS_TEMPERATURE = 7.7677
MACROPIXEL_SIZE = 1
MISSING_FRAMES = 0
PIXEL_SUBSAMPLING_FLAG = N
SIGNAL_CHAIN_ID = 1
/* RADIOMETRIC DATA ELEMENTS */
BANDWIDTH = 178.0
CENTER_FILTER_WAVELENGTH = 679.0
RADIANCE_OFFSET = 0.567162
RADIANCE_SCALING_FACTOR = 0.0121799
REFLECTANCE_SCALING_FACTOR = 0.000398813
MEX:REFLECTANCE_OFFSET = 0.0185708
/* IMAGE OBJECT DEFINITIONS */
OBJECT = IMAGE
  INTERCHANGE_FORMAT = BINARY
  LINES = 21243
  LINE_SAMPLES = 5712
  SAMPLE_TYPE = UNSIGNED_INTEGER
  SAMPLE_BITS = 8
  BANDS = 1
  BAND_STORAGE_TYPE = BAND_SEQUENTIAL
  MAXIMUM = 255
  MEAN = 89.5805
  MINIMUM = 1
  STANDARD_DEVIATION = 20.612
END_OBJECT = IMAGE
/* MAP OBJECT DEFINITIONS */
OBJECT = IMAGE_MAP_PROJECTION
  ^DATA_SET_MAP_PROJECTION_CATALOG= "DSMAP.CAT"
  A_AXIS_RADIUS = 3396.0
  B_AXIS_RADIUS = 3396.0
  C_AXIS_RADIUS = 3396.0
  CENTER_LATITUDE = 0.0
  CENTER_LONGITUDE = 8.0
  COORDINATE_SYSTEM_NAME = PLANETOGRAPHIC
  COORDINATE_SYSTEM_TYPE = "BODY-FIXED ROTATING"
  EASTERNMOST_LONGITUDE = 9.40912
  FIRST_STANDARD_PARALLEL = "N/A"
  LINE_FIRST_PIXEL = 1
  LINE_LAST_PIXEL = 21243
  LINE_PROJECTION_OFFSET = -109423.0
  MAP_PROJECTION_ROTATION = 0.0
  MAP_PROJECTION_TYPE = SINUSOIDAL
  MAP_RESOLUTION = 2370.85521546667
  MAP_SCALE = 0.025
  MAXIMUM_LATITUDE = -46.1755
  MINIMUM_LATITUDE = -55.2024
  POSITIVE_LONGITUDE_DIRECTION = EAST
  REFERENCE_LATITUDE = "N/A"
  REFERENCE_LONGITUDE = "N/A"
  SAMPLE_FIRST_PIXEL = 1
  SAMPLE_LAST_PIXEL = 5712
  SAMPLE_PROJECTION_OFFSET = 3027.0
  SECOND_STANDARD_PARALLEL = "N/A"
  WESTERNMOST_LONGITUDE = 5.93877
END_OBJECT = IMAGE_MAP_PROJECTION
/* The JPEG2000 image data file associated with this label. */
OBJECT = COMPRESSED_FILE
  FILE_NAME = "HE976_0000_S23.JP2"
  RECORD_TYPE = UNDEFINED
  FILE_RECORDS = UNK
  ENCODING_TYPE = "JP2"
  INTERCHANGE_FORMAT = BINARY
  UNCOMPRESSED_FILE_NAME = "HE976_0000_S23.IMG"
  REQUIRED_STORAGE_BYTES = "121368576"
  ^DESCRIPTION = "JP2INFO.TXT"
END_OBJECT = COMPRESSED_FILE
END
