PDS_VERSION_ID = PDS3
/* FILE DATA ELEMENTS */
RECORD_TYPE = STREAM
/* POINTERS TO DATA OBJECTS */
^COMPRESSED_FILE = "HE993_0000_ND3.JP2"
/* IDENTIFICATION DATA ELEMENTS */
DATA_SET_ID = "MEX-M-HRSC-5-REFDR-MAPPROJECTED-V3.0"
DATA_SET_NAME = "MARS EXPRESS HRSC MAP PROJECTED REFDR V3.0"
DETECTOR_ID = MEX_HRSC_NADIR
EVENT_TYPE = "MARS-REGIONAL-STEREO-Gl-Pf-Eo"
INSTRUMENT_HOST_ID = MEX
INSTRUMENT_HOST_NAME = "MARS EXPRESS"
INSTRUMENT_ID = HRSC
INSTRUMENT_NAME = "HIGH RESOLUTION STEREO CAMERA"
MISSION_NAME = "MARS EXPRESS"
MISSION_PHASE_NAME = ME_Phase_33
PROCESSING_LEVEL_ID = 3
PRODUCT_CREATION_TIME = 2016-10-30T10:43:13.000Z
PRODUCT_ID = "HE993_0000_ND3.JP2"
RELEASE_ID = 0130
REVISION_ID = 0000
/* QUALITY DATA ELEMENTS */
DATA_QUALITY_ID = 1
DATA_QUALITY_DESC = "Data calculated based on original SPICE kernels"
/* TIME DATA ELEMENTS */
SPACECRAFT_CLOCK_START_COUNT = "1/0394142364.08253"
SPACECRAFT_CLOCK_STOP_COUNT = "1/0394142582.21080"
START_TIME = 2015-10-28T20:00:25.288Z
STOP_TIME = 2015-10-28T20:01:48.271Z
/* ORBITAL DATA ELEMENTS */
ASCENDING_NODE_LONGITUDE = 292.18
MAXIMUM_RESOLUTION = 27.4
FOOTPRINT_POINT_LATITUDE = (-46.7102,-46.7099,-46.7092,-46.7078, -46.706,-46.7035,-46.6994,-46.6957, -46.6898,-46.6821,-46.6763,-46.6161, -46.4211,-46.2745,-46.0789,-45.884, -45.6395,-45.3952,-45.1999,-45.0036, -44.8081,-44.6552,-44.5456,-44.4365, -44.2723,-44.1077,-43.9983,-43.8887, -43.7793,-43.6701,-43.5058,-43.3963, -43.232,-43.1234,-43.0142,-42.9048, -42.7952,-42.6858,-42.5218,-42.4122, -42.3031,-42.194,-42.0849,-41.9756, -41.8098,-41.6992,-41.5884,-41.4776, -41.4402,-41.4429,-41.4467,-41.4489, -41.453,-41.4566,-41.4578,-41.4596, -41.4615,-41.4635,-41.4641,-41.4631, -41.4622,-41.4606,-41.6265,-41.7374, -41.8485,-42.0147,-42.1246,-42.2342, -42.3986,-42.5082,-42.6177,-42.727, -42.8364,-42.9457,-43.055,-43.1648, -43.2753,-43.3852,-43.4946,-43.604, -43.7136,-43.8231,-43.9329,-44.0428, -44.2075,-44.3174,-44.4823,-44.5922, -44.8043,-45.0001,-45.2455,-45.3929, -45.5399,-45.6869,-45.8827,-46.0786, -46.2727,-46.4686,-46.6654,-46.7102)
FOOTPRINT_POINT_LONGITUDE = (71.5278,71.2592,71.0242,70.7553, 70.4864,70.2175,69.8479,69.5792,69.2091 ,68.8044,68.5345,68.4024,68.4104, 68.4168,68.4253,68.4328,68.4431,68.4528 ,68.4602,68.4691,68.4764,68.4828, 68.4871,68.4903,68.496,68.5021,68.5058, 68.5096,68.5131,68.5162,68.5215,68.5252 ,68.5304,68.5321,68.5349,68.5381, 68.5416,68.5447,68.5492,68.5525,68.5551 ,68.5572,68.5594,68.5621,68.5661, 68.5685,68.571,68.5736,68.787,68.9289, 69.1418,69.2838,69.5669,69.8855,70.0979 ,70.3096,70.5569,70.9107,71.3001, 71.5468,71.8298,72.0773,72.1574,72.1525 ,72.1478,72.1413,72.1372,72.1326, 72.1254,72.1205,72.1155,72.11,72.1046, 72.099,72.0935,72.0889,72.0853,72.0805, 72.0749,72.0693,72.064,72.0586,72.0534, 72.0485,72.0407,72.0356,72.0278,72.0225 ,72.012,72.002,71.9902,71.9832,71.9755, 71.9678,71.9571,71.9463,71.9334,71.9225 ,71.9123,71.5278)
ORBIT_NUMBER = 14993
ORBITAL_ECCENTRICITY = 0.577
ORBITAL_INCLINATION = 86.92
ORBITAL_SEMIMAJOR_AXIS = 8758.96
PERIAPSIS_ALTITUDE = 325.95
PERIAPSIS_ARGUMENT_ANGLE = 274.34
PERIAPSIS_TIME = 2015-10-28T19:49:35.000Z
SPACECRAFT_ORIENTATION = (0.0,1.0,0.0)
^MEX_ORIENTATION_DESC = "MEX_ORIENTATION_DESC.TXT"
SPACECRAFT_POINTING_MODE = INERT
^MEX_POINTING_DESC = "MEX_POINTING_DESC.TXT"
RIGHT_ASCENSION = 319.916
DECLINATION = 58.096
OFFSET_ANGLE = -1e+32
SPACECRAFT_SOLAR_DISTANCE = 2.48842e+08
TARGET_NAME = MARS
/* CAMERA DATA ELEMENTS */
DETECTOR_TEMPERATURE = 18.1666
FOCAL_PLANE_TEMPERATURE = 6.9521
INST_CMPRS_NAME = "DISCRETE COSINE TRANSFORMATION (DCT)"
INST_CMPRS_RATIO = 6.76173
INST_CMPRS_QUALITY = 0
INST_CMPRS_QUANTZ_TBL_ID = 0
INSTRUMENT_TEMPERATURE = 10.8262
LENS_TEMPERATURE = 7.7677
MACROPIXEL_SIZE = 1
MISSING_FRAMES = 0
PIXEL_SUBSAMPLING_FLAG = N
SIGNAL_CHAIN_ID = 0
/* RADIOMETRIC DATA ELEMENTS */
BANDWIDTH = 177.0
CENTER_FILTER_WAVELENGTH = 677.5
RADIANCE_OFFSET = 1.84188
RADIANCE_SCALING_FACTOR = 0.0109636
REFLECTANCE_SCALING_FACTOR = 0.00036065
MEX:REFLECTANCE_OFFSET = 0.0605892
/* IMAGE OBJECT DEFINITIONS */
OBJECT = IMAGE
  INTERCHANGE_FORMAT = BINARY
  LINES = 12542
  LINE_SAMPLES = 6495
  SAMPLE_TYPE = UNSIGNED_INTEGER
  SAMPLE_BITS = 8
  BANDS = 1
  BAND_STORAGE_TYPE = BAND_SEQUENTIAL
  MAXIMUM = 255
  MEAN = 136.131
  MINIMUM = 1
  STANDARD_DEVIATION = 32.5791
END_OBJECT = IMAGE
/* MAP OBJECT DEFINITIONS */
OBJECT = IMAGE_MAP_PROJECTION
  ^DATA_SET_MAP_PROJECTION_CATALOG= "DSMAP.CAT"
  A_AXIS_RADIUS = 3396.0
  B_AXIS_RADIUS = 3396.0
  C_AXIS_RADIUS = 3396.0
  CENTER_LATITUDE = 0.0
  CENTER_LONGITUDE = 70.0
  COORDINATE_SYSTEM_NAME = PLANETOGRAPHIC
  COORDINATE_SYSTEM_TYPE = "BODY-FIXED ROTATING"
  EASTERNMOST_LONGITUDE = 72.1574
  FIRST_STANDARD_PARALLEL = "N/A"
  LINE_FIRST_PIXEL = 1
  LINE_LAST_PIXEL = 12542
  LINE_PROJECTION_OFFSET = -98203.0
  MAP_PROJECTION_ROTATION = 0.0
  MAP_PROJECTION_TYPE = SINUSOIDAL
  MAP_RESOLUTION = 2370.85521546667
  MAP_SCALE = 0.025
  MAXIMUM_LATITUDE = -41.4402
  MINIMUM_LATITUDE = -46.7102
  POSITIVE_LONGITUDE_DIRECTION = EAST
  REFERENCE_LATITUDE = "N/A"
  REFERENCE_LONGITUDE = "N/A"
  SAMPLE_FIRST_PIXEL = 1
  SAMPLE_LAST_PIXEL = 6495
  SAMPLE_PROJECTION_OFFSET = 2621.0
  SECOND_STANDARD_PARALLEL = "N/A"
  WESTERNMOST_LONGITUDE = 68.4024
END_OBJECT = IMAGE_MAP_PROJECTION
/* The JPEG2000 image data file associated with this label. */
OBJECT = COMPRESSED_FILE
  FILE_NAME = "HE993_0000_ND3.JP2"
  RECORD_TYPE = UNDEFINED
  FILE_RECORDS = UNK
  ENCODING_TYPE = "JP2"
  INTERCHANGE_FORMAT = BINARY
  UNCOMPRESSED_FILE_NAME = "HE993_0000_ND3.IMG"
  REQUIRED_STORAGE_BYTES = "81492765"
  ^DESCRIPTION = "JP2INFO.TXT"
END_OBJECT = COMPRESSED_FILE
END
