PDS_VERSION_ID = PDS3
/* FILE DATA ELEMENTS */
RECORD_TYPE = STREAM
/* POINTERS TO DATA OBJECTS */
^COMPRESSED_FILE = "HE993_0000_P13.JP2"
/* IDENTIFICATION DATA ELEMENTS */
DATA_SET_ID = "MEX-M-HRSC-5-REFDR-MAPPROJECTED-V3.0"
DATA_SET_NAME = "MARS EXPRESS HRSC MAP PROJECTED REFDR V3.0"
DETECTOR_ID = MEX_HRSC_P1
EVENT_TYPE = "MARS-REGIONAL-STEREO-Gl-Pf-Eo"
INSTRUMENT_HOST_ID = MEX
INSTRUMENT_HOST_NAME = "MARS EXPRESS"
INSTRUMENT_ID = HRSC
INSTRUMENT_NAME = "HIGH RESOLUTION STEREO CAMERA"
MISSION_NAME = "MARS EXPRESS"
MISSION_PHASE_NAME = ME_Phase_33
PROCESSING_LEVEL_ID = 3
PRODUCT_CREATION_TIME = 2016-10-30T10:43:13.000Z
PRODUCT_ID = "HE993_0000_P13.JP2"
RELEASE_ID = 0130
REVISION_ID = 0000
/* QUALITY DATA ELEMENTS */
DATA_QUALITY_ID = 1
DATA_QUALITY_DESC = "Data calculated based on original SPICE kernels"
/* TIME DATA ELEMENTS */
SPACECRAFT_CLOCK_START_COUNT = "1/0394142364.08253"
SPACECRAFT_CLOCK_STOP_COUNT = "1/0394142582.21080"
START_TIME = 2015-10-28T20:01:10.786Z
STOP_TIME = 2015-10-28T20:02:38.155Z
/* ORBITAL DATA ELEMENTS */
ASCENDING_NODE_LONGITUDE = 292.18
MAXIMUM_RESOLUTION = 61.7
FOOTPRINT_POINT_LATITUDE = (-46.6576,-46.6581,-46.6582,-46.6581, -46.6575,-46.6562,-46.6535,-46.6509, -46.6465,-46.6429,-46.6389,-46.6339, -46.631,-46.4784,-46.2754,-46.0729, -45.8711,-45.7192,-45.5167,-45.2631, -45.0613,-44.8572,-44.6478,-44.4441, -44.3396,-44.1323,-43.9758,-43.871, -43.7138,-43.5567,-43.3965,-43.2898, -43.0811,-42.9747,-42.8668,-42.7588, -42.6513,-42.5442,-42.4352,-42.3258, -42.218,-42.1098,-41.945,-41.8349, -41.7253,-41.6153,-41.504,-41.462, -41.4638,-41.4675,-41.4708,-41.4734, -41.476,-41.4761,-41.4746,-41.4761, -41.4781,-41.4809,-41.4813,-41.4814, -41.4816,-41.4793,-41.4795,-41.4779, -41.4766,-41.4737,-41.641,-41.7525, -41.8634,-42.0296,-42.1942,-42.303, -42.4661,-42.6289,-42.7361,-42.842, -42.9488,-43.0555,-43.1627,-43.2712, -43.378,-43.4839,-43.6912,-43.7968, -43.903,-44.0616,-44.2697,-44.3757, -44.5832,-44.7385,-44.9442,-45.1986, -45.3514,-45.6057,-45.9109,-46.115, -46.2666,-46.5155,-46.72,-46.6576)
FOOTPRINT_POINT_LONGITUDE = (72.0032,71.7493,71.4955,71.3144, 71.0246,70.6983,70.2634,69.9373,69.5024 ,69.2123,68.9215,68.5942,68.3105, 68.3179,68.3274,68.3363,68.3447,68.3512 ,68.3597,68.3704,68.3782,68.3864, 68.3968,68.4036,68.4078,68.4151,68.4211 ,68.4247,68.4298,68.4347,68.4409, 68.4445,68.4488,68.452,68.4553,68.4588, 68.4619,68.4647,68.4678,68.4712,68.4735 ,68.4761,68.4804,68.4832,68.4857, 68.4883,68.4911,68.6416,68.7925,69.0562 ,69.3199,69.5833,69.8461,69.9966, 70.2598,70.4099,70.5976,70.8608,71.0114 ,71.1618,71.3123,71.5749,71.7254, 71.9508,72.1011,72.2883,72.371,72.3678, 72.3643,72.3587,72.3529,72.3488,72.3424 ,72.3364,72.332,72.3269,72.3223,72.3178 ,72.3141,72.3111,72.3071,72.3025, 72.2924,72.2884,72.2846,72.2792,72.2707 ,72.2674,72.2592,72.2533,72.2445, 72.2337,72.2273,72.2162,72.2025,72.1935 ,72.186,72.1714,72.1621,72.0032)
ORBIT_NUMBER = 14993
ORBITAL_ECCENTRICITY = 0.577
ORBITAL_INCLINATION = 86.92
ORBITAL_SEMIMAJOR_AXIS = 8758.96
PERIAPSIS_ALTITUDE = 325.95
PERIAPSIS_ARGUMENT_ANGLE = 274.34
PERIAPSIS_TIME = 2015-10-28T19:49:35.000Z
SPACECRAFT_ORIENTATION = (0.0,1.0,0.0)
^MEX_ORIENTATION_DESC = "MEX_ORIENTATION_DESC.TXT"
SPACECRAFT_POINTING_MODE = INERT
^MEX_POINTING_DESC = "MEX_POINTING_DESC.TXT"
RIGHT_ASCENSION = 319.916
DECLINATION = 58.096
OFFSET_ANGLE = -1e+32
SPACECRAFT_SOLAR_DISTANCE = 2.48842e+08
TARGET_NAME = MARS
/* CAMERA DATA ELEMENTS */
DETECTOR_TEMPERATURE = 16.9432
FOCAL_PLANE_TEMPERATURE = 6.9521
INST_CMPRS_NAME = "DISCRETE COSINE TRANSFORMATION (DCT)"
INST_CMPRS_RATIO = 11.2421
INST_CMPRS_QUALITY = 0
INST_CMPRS_QUANTZ_TBL_ID = 0
INSTRUMENT_TEMPERATURE = 10.8262
LENS_TEMPERATURE = 7.7677
MACROPIXEL_SIZE = 2
MISSING_FRAMES = 0
PIXEL_SUBSAMPLING_FLAG = N
SIGNAL_CHAIN_ID = 3
/* RADIOMETRIC DATA ELEMENTS */
BANDWIDTH = 174.0
CENTER_FILTER_WAVELENGTH = 675.0
RADIANCE_OFFSET = 2.14836
RADIANCE_SCALING_FACTOR = 0.0105006
REFLECTANCE_SCALING_FACTOR = 0.000349743
MEX:REFLECTANCE_OFFSET = 0.0715551
/* IMAGE OBJECT DEFINITIONS */
OBJECT = IMAGE
  INTERCHANGE_FORMAT = BINARY
  LINES = 6271
  LINE_SAMPLES = 3248
  SAMPLE_TYPE = UNSIGNED_INTEGER
  SAMPLE_BITS = 8
  BANDS = 1
  BAND_STORAGE_TYPE = BAND_SEQUENTIAL
  MAXIMUM = 255
  MEAN = 141.765
  MINIMUM = 1
  STANDARD_DEVIATION = 31.789
END_OBJECT = IMAGE
/* MAP OBJECT DEFINITIONS */
OBJECT = IMAGE_MAP_PROJECTION
  ^DATA_SET_MAP_PROJECTION_CATALOG= "DSMAP.CAT"
  A_AXIS_RADIUS = 3396.0
  B_AXIS_RADIUS = 3396.0
  C_AXIS_RADIUS = 3396.0
  CENTER_LATITUDE = 0.0
  CENTER_LONGITUDE = 70.0
  COORDINATE_SYSTEM_NAME = PLANETOGRAPHIC
  COORDINATE_SYSTEM_TYPE = "BODY-FIXED ROTATING"
  EASTERNMOST_LONGITUDE = 72.371
  FIRST_STANDARD_PARALLEL = "N/A"
  LINE_FIRST_PIXEL = 1
  LINE_LAST_PIXEL = 6271
  LINE_PROJECTION_OFFSET = -49101.75
  MAP_PROJECTION_ROTATION = 0.0
  MAP_PROJECTION_TYPE = SINUSOIDAL
  MAP_RESOLUTION = 1185.42760773333
  MAP_SCALE = 0.05
  MAXIMUM_LATITUDE = -41.462
  MINIMUM_LATITUDE = -46.72
  POSITIVE_LONGITUDE_DIRECTION = EAST
  REFERENCE_LATITUDE = "N/A"
  REFERENCE_LONGITUDE = "N/A"
  SAMPLE_FIRST_PIXEL = 1
  SAMPLE_LAST_PIXEL = 3248
  SAMPLE_PROJECTION_OFFSET = 1310.25
  SECOND_STANDARD_PARALLEL = "N/A"
  WESTERNMOST_LONGITUDE = 68.3105
END_OBJECT = IMAGE_MAP_PROJECTION
/* The JPEG2000 image data file associated with this label. */
OBJECT = COMPRESSED_FILE
  FILE_NAME = "HE993_0000_P13.JP2"
  RECORD_TYPE = UNDEFINED
  FILE_RECORDS = UNK
  ENCODING_TYPE = "JP2"
  INTERCHANGE_FORMAT = BINARY
  UNCOMPRESSED_FILE_NAME = "HE993_0000_P13.IMG"
  REQUIRED_STORAGE_BYTES = "20390944"
  ^DESCRIPTION = "JP2INFO.TXT"
END_OBJECT = COMPRESSED_FILE
END
