PDS_VERSION_ID = PDS3
/* FILE DATA ELEMENTS */
RECORD_TYPE = STREAM
/* POINTERS TO DATA OBJECTS */
^COMPRESSED_FILE = "HF001_0000_S23.JP2"
/* IDENTIFICATION DATA ELEMENTS */
DATA_SET_ID = "MEX-M-HRSC-5-REFDR-MAPPROJECTED-V3.0"
DATA_SET_NAME = "MARS EXPRESS HRSC MAP PROJECTED REFDR V3.0"
DETECTOR_ID = MEX_HRSC_S2
EVENT_TYPE = "MARS-REGIONAL-STEREO-Fl-Gl-Pf"
INSTRUMENT_HOST_ID = MEX
INSTRUMENT_HOST_NAME = "MARS EXPRESS"
INSTRUMENT_ID = HRSC
INSTRUMENT_NAME = "HIGH RESOLUTION STEREO CAMERA"
MISSION_NAME = "MARS EXPRESS"
MISSION_PHASE_NAME = ME_Phase_33
PROCESSING_LEVEL_ID = 3
PRODUCT_CREATION_TIME = 2016-10-30T13:14:21.000Z
PRODUCT_ID = "HF001_0000_S23.JP2"
RELEASE_ID = 0131
REVISION_ID = 0000
/* QUALITY DATA ELEMENTS */
DATA_QUALITY_ID = 1
DATA_QUALITY_DESC = "Data calculated based on original SPICE kernels"
/* TIME DATA ELEMENTS */
SPACECRAFT_CLOCK_START_COUNT = "1/0394343706.09053"
SPACECRAFT_CLOCK_STOP_COUNT = "1/0394343938.41487"
START_TIME = 2015-10-31T03:55:12.549Z
STOP_TIME = 2015-10-31T03:56:44.050Z
/* ORBITAL DATA ELEMENTS */
ASCENDING_NODE_LONGITUDE = 292.04
MAXIMUM_RESOLUTION = 24
FOOTPRINT_POINT_LATITUDE = (-49.8639,-49.8572,-49.8472,-49.8392, -49.8307,-49.8216,-49.812,-49.8018, -49.791,-49.7797,-49.7679,-49.7555, -49.5927,-49.3581,-49.128,-48.7705, -48.5295,-48.2248,-47.9803,-47.795, -47.6106,-47.363,-47.2381,-47.1132, -46.8643,-46.7393,-46.6122,-46.4228, -46.2951,-46.1676,-46.0404,-45.9118, -45.7826,-45.6535,-45.5242,-45.395, -45.1997,-45.0685,-44.9371,-44.8057, -44.6742,-44.5418,-44.4081,-44.2078, -44.0741,-43.9405,-43.8082,-43.6764, -43.5456,-43.3667,-43.3789,-43.3889, -43.4045,-43.4148,-43.4267,-43.4346, -43.4444,-43.4571,-43.4673,-43.479, -43.4859,-43.5579,-43.6916,-43.8253, -43.9591,-44.0932,-44.2274,-44.4281, -44.5617,-44.6952,-44.8274,-44.9585, -45.0902,-45.2212,-45.3515,-45.4811, -45.6093,-45.7384,-45.8674,-45.9965, -46.1255,-46.2528,-46.3796,-46.5068, -46.6348,-46.7618,-46.8877,-47.1372, -47.3237,-47.5075,-47.7526,-47.9366, -48.1204,-48.3651,-48.6061,-48.9676, -49.2092,-49.3903,-49.6265,-49.8639)
FOOTPRINT_POINT_LONGITUDE = (333.517,333.278,332.95,332.712,332.473 ,332.235,331.997,331.759,331.521, 331.283,331.045,330.807,330.557,330.574 ,330.595,330.617,330.631,330.645, 330.658,330.667,330.676,330.688,330.694 ,330.7,330.713,330.719,330.724,330.734, 330.739,330.744,330.75,330.755,330.761, 330.766,330.771,330.776,330.784,330.789 ,330.794,330.799,330.804,330.809, 330.813,330.82,330.825,330.829,330.834, 330.84,330.846,330.852,331.072,331.261, 331.545,331.765,332.017,332.237,332.489 ,332.836,333.152,333.562,333.847, 334.048,334.041,334.033,334.025,334.017 ,334.009,333.997,333.989,333.981, 333.973,333.965,333.957,333.949,333.942 ,333.935,333.927,333.919,333.911, 333.903,333.895,333.887,333.879,333.871 ,333.862,333.853,333.845,333.829, 333.817,333.808,333.793,333.78,333.768, 333.751,333.734,333.708,333.687,333.67, 333.652,333.517)
ORBIT_NUMBER = 15001
ORBITAL_ECCENTRICITY = 0.577
ORBITAL_INCLINATION = 86.93
ORBITAL_SEMIMAJOR_AXIS = 8757.94
PERIAPSIS_ALTITUDE = 326.58
PERIAPSIS_ARGUMENT_ANGLE = 272.99
PERIAPSIS_TIME = 2015-10-31T03:45:42.000Z
SPACECRAFT_ORIENTATION = (0.0,1.0,0.0)
^MEX_ORIENTATION_DESC = "MEX_ORIENTATION_DESC.TXT"
SPACECRAFT_POINTING_MODE = INERT
^MEX_POINTING_DESC = "MEX_POINTING_DESC.TXT"
RIGHT_ASCENSION = 320.81
DECLINATION = 56.792
OFFSET_ANGLE = -1e+32
SPACECRAFT_SOLAR_DISTANCE = 2.48918e+08
TARGET_NAME = MARS
/* CAMERA DATA ELEMENTS */
DETECTOR_TEMPERATURE = 17.9627
FOCAL_PLANE_TEMPERATURE = 7.5638
INST_CMPRS_NAME = "DISCRETE COSINE TRANSFORMATION (DCT)"
INST_CMPRS_RATIO = 7.63567
INST_CMPRS_QUALITY = 0
INST_CMPRS_QUANTZ_TBL_ID = 0
INSTRUMENT_TEMPERATURE = 10.2145
LENS_TEMPERATURE = 7.9716
MACROPIXEL_SIZE = 1
MISSING_FRAMES = 0
PIXEL_SUBSAMPLING_FLAG = N
SIGNAL_CHAIN_ID = 1
/* RADIOMETRIC DATA ELEMENTS */
BANDWIDTH = 178.0
CENTER_FILTER_WAVELENGTH = 679.0
RADIANCE_OFFSET = 0.866441
RADIANCE_SCALING_FACTOR = 0.0133395
REFLECTANCE_SCALING_FACTOR = 0.000437709
MEX:REFLECTANCE_OFFSET = 0.0284305
/* IMAGE OBJECT DEFINITIONS */
OBJECT = IMAGE
  INTERCHANGE_FORMAT = BINARY
  LINES = 15354
  LINE_SAMPLES = 6500
  SAMPLE_TYPE = UNSIGNED_INTEGER
  SAMPLE_BITS = 8
  BANDS = 1
  BAND_STORAGE_TYPE = BAND_SEQUENTIAL
  MAXIMUM = 255
  MEAN = 115.818
  MINIMUM = 1
  STANDARD_DEVIATION = 27.5786
END_OBJECT = IMAGE
/* MAP OBJECT DEFINITIONS */
OBJECT = IMAGE_MAP_PROJECTION
  ^DATA_SET_MAP_PROJECTION_CATALOG= "DSMAP.CAT"
  A_AXIS_RADIUS = 3396.0
  B_AXIS_RADIUS = 3396.0
  C_AXIS_RADIUS = 3396.0
  CENTER_LATITUDE = 0.0
  CENTER_LONGITUDE = 332.0
  COORDINATE_SYSTEM_NAME = PLANETOGRAPHIC
  COORDINATE_SYSTEM_TYPE = "BODY-FIXED ROTATING"
  EASTERNMOST_LONGITUDE = 334.048
  FIRST_STANDARD_PARALLEL = "N/A"
  LINE_FIRST_PIXEL = 1
  LINE_LAST_PIXEL = 15354
  LINE_PROJECTION_OFFSET = -102744.0
  MAP_PROJECTION_ROTATION = 0.0
  MAP_PROJECTION_TYPE = SINUSOIDAL
  MAP_RESOLUTION = 2370.85521546667
  MAP_SCALE = 0.025
  MAXIMUM_LATITUDE = -43.3667
  MINIMUM_LATITUDE = -49.8639
  POSITIVE_LONGITUDE_DIRECTION = EAST
  REFERENCE_LATITUDE = "N/A"
  REFERENCE_LONGITUDE = "N/A"
  SAMPLE_FIRST_PIXEL = 1
  SAMPLE_LAST_PIXEL = 6500
  SAMPLE_PROJECTION_OFFSET = 2754.0
  SECOND_STANDARD_PARALLEL = "N/A"
  WESTERNMOST_LONGITUDE = 330.557
END_OBJECT = IMAGE_MAP_PROJECTION
/* The JPEG2000 image data file associated with this label. */
OBJECT = COMPRESSED_FILE
  FILE_NAME = "HF001_0000_S23.JP2"
  RECORD_TYPE = UNDEFINED
  FILE_RECORDS = UNK
  ENCODING_TYPE = "JP2"
  INTERCHANGE_FORMAT = BINARY
  UNCOMPRESSED_FILE_NAME = "HF001_0000_S23.IMG"
  REQUIRED_STORAGE_BYTES = "99833500"
  ^DESCRIPTION = "JP2INFO.TXT"
END_OBJECT = COMPRESSED_FILE
END
