PDS_VERSION_ID = PDS3
/* FILE DATA ELEMENTS */
RECORD_TYPE = STREAM
/* POINTERS TO DATA OBJECTS */
^COMPRESSED_FILE = "HF014_0000_ND3.JP2"
/* IDENTIFICATION DATA ELEMENTS */
DATA_SET_ID = "MEX-M-HRSC-5-REFDR-MAPPROJECTED-V3.0"
DATA_SET_NAME = "MARS EXPRESS HRSC MAP PROJECTED REFDR V3.0"
DETECTOR_ID = MEX_HRSC_NADIR
EVENT_TYPE = "MARS-REGIONAL-STEREO-Fl-Gl-Pf"
INSTRUMENT_HOST_ID = MEX
INSTRUMENT_HOST_NAME = "MARS EXPRESS"
INSTRUMENT_ID = HRSC
INSTRUMENT_NAME = "HIGH RESOLUTION STEREO CAMERA"
MISSION_NAME = "MARS EXPRESS"
MISSION_PHASE_NAME = ME_Phase_33
PROCESSING_LEVEL_ID = 3
PRODUCT_CREATION_TIME = 2016-10-30T13:14:21.000Z
PRODUCT_ID = "HF014_0000_ND3.JP2"
RELEASE_ID = 0131
REVISION_ID = 0000
/* QUALITY DATA ELEMENTS */
DATA_QUALITY_ID = 1
DATA_QUALITY_DESC = "Data calculated based on original SPICE kernels"
/* TIME DATA ELEMENTS */
SPACECRAFT_CLOCK_START_COUNT = "1/0394671010.09041"
SPACECRAFT_CLOCK_STOP_COUNT = "1/0394671262.09824"
START_TIME = 2015-11-03T22:51:16.320Z
STOP_TIME = 2015-11-03T22:53:00.324Z
/* ORBITAL DATA ELEMENTS */
ASCENDING_NODE_LONGITUDE = 291.8
MAXIMUM_RESOLUTION = 29.6
FOOTPRINT_POINT_LATITUDE = (-46.7948,-46.7871,-46.7798,-46.7707, -46.7573,-46.7467,-46.7369,-46.7252, -46.7078,-46.691,-46.6675,-46.4437, -46.0744,-45.8276,-45.6427,-45.3312, -45.0816,-44.8288,-44.5757,-44.384, -44.2559,-44.0638,-43.9342,-43.8045, -43.6746,-43.4792,-43.348,-43.2166, -43.0853,-42.9524,-42.7531,-42.6201, -42.4185,-42.2838,-42.1492,-42.0137, -41.8773,-41.6728,-41.5355,-41.3975, -41.2596,-41.0513,-40.9117,-40.7023, -40.5612,-40.4199,-40.2786,-40.0977, -40.1135,-40.1302,-40.1442,-40.1524, -40.1635,-40.1753,-40.1904,-40.2014, -40.2115,-40.2186,-40.2233,-40.2277, -40.2332,-40.45,-40.5912,-40.7325, -40.8732,-41.0128,-41.1525,-41.3611, -41.4991,-41.7061,-41.8431,-41.9793, -42.1157,-42.2516,-42.4537,-42.5885, -42.7232,-42.8563,-42.9895,-43.1226, -43.2549,-43.3861,-43.5175,-43.649, -43.7792,-43.9739,-44.1037,-44.233, -44.3611,-44.4893,-44.6175,-44.9347, -45.2507,-45.5628,-45.8118,-46.0585, -46.2435,-46.5519,-46.7986,-46.7948)
FOOTPRINT_POINT_LONGITUDE = (84.3018,84.0104,83.7556,83.4643,83.064 ,82.7732,82.5189,82.2286,81.829,81.4654 ,80.9926,80.9361,80.951,80.9621,80.9698 ,80.9819,80.9913,81.0002,81.0097, 81.0161,81.0202,81.0264,81.0306,81.0347 ,81.0392,81.0452,81.0484,81.0518, 81.0553,81.0597,81.0637,81.067,81.0732, 81.0763,81.079,81.0822,81.0856,81.0906, 81.0935,81.0954,81.098,81.102,81.1046, 81.1084,81.1113,81.1133,81.1155,81.1184 ,81.4263,81.7739,82.0819,82.2744,82.544 ,82.8518,83.2755,83.6226,83.9702,84.24, 84.4326,84.6253,84.8954,85.0218,85.0165 ,85.0108,85.0043,84.9987,84.9924, 84.9831,84.977,84.9682,84.9623,84.9552, 84.9495,84.9426,84.9339,84.9284,84.9229 ,84.9167,84.911,84.9049,84.8982,84.8912 ,84.885,84.8789,84.8726,84.8633,84.8568 ,84.8506,84.8442,84.8378,84.8313, 84.8152,84.799,84.7822,84.7692,84.7561, 84.746,84.7291,84.7152,84.3018)
ORBIT_NUMBER = 15014
ORBITAL_ECCENTRICITY = 0.577
ORBITAL_INCLINATION = 86.93
ORBITAL_SEMIMAJOR_AXIS = 8758.21
PERIAPSIS_ALTITUDE = 325.78
PERIAPSIS_ARGUMENT_ANGLE = 270.78
PERIAPSIS_TIME = 2015-11-03T22:39:30.000Z
SPACECRAFT_ORIENTATION = (0.0,1.0,0.0)
^MEX_ORIENTATION_DESC = "MEX_ORIENTATION_DESC.TXT"
SPACECRAFT_POINTING_MODE = INERT
^MEX_POINTING_DESC = "MEX_POINTING_DESC.TXT"
RIGHT_ASCENSION = 322.086
DECLINATION = 54.728
OFFSET_ANGLE = -1e+32
SPACECRAFT_SOLAR_DISTANCE = 2.49024e+08
TARGET_NAME = MARS
/* CAMERA DATA ELEMENTS */
DETECTOR_TEMPERATURE = 17.5549
FOCAL_PLANE_TEMPERATURE = 6.9521
INST_CMPRS_NAME = "DISCRETE COSINE TRANSFORMATION (DCT)"
INST_CMPRS_RATIO = 6.64329
INST_CMPRS_QUALITY = 0
INST_CMPRS_QUANTZ_TBL_ID = 0
INSTRUMENT_TEMPERATURE = 10.8262
LENS_TEMPERATURE = 7.7677
MACROPIXEL_SIZE = 1
MISSING_FRAMES = 0
PIXEL_SUBSAMPLING_FLAG = N
SIGNAL_CHAIN_ID = 0
/* RADIOMETRIC DATA ELEMENTS */
BANDWIDTH = 177.0
CENTER_FILTER_WAVELENGTH = 677.5
RADIANCE_OFFSET = 1.70659
RADIANCE_SCALING_FACTOR = 0.011673
REFLECTANCE_SCALING_FACTOR = 0.000384547
MEX:REFLECTANCE_OFFSET = 0.0562208
/* IMAGE OBJECT DEFINITIONS */
OBJECT = IMAGE
  INTERCHANGE_FORMAT = BINARY
  LINES = 15888
  LINE_SAMPLES = 7105
  SAMPLE_TYPE = UNSIGNED_INTEGER
  SAMPLE_BITS = 8
  BANDS = 1
  BAND_STORAGE_TYPE = BAND_SEQUENTIAL
  MAXIMUM = 255
  MEAN = 126.638
  MINIMUM = 1
  STANDARD_DEVIATION = 23.6895
END_OBJECT = IMAGE
/* MAP OBJECT DEFINITIONS */
OBJECT = IMAGE_MAP_PROJECTION
  ^DATA_SET_MAP_PROJECTION_CATALOG= "DSMAP.CAT"
  A_AXIS_RADIUS = 3396.0
  B_AXIS_RADIUS = 3396.0
  C_AXIS_RADIUS = 3396.0
  CENTER_LATITUDE = 0.0
  CENTER_LONGITUDE = 83.0
  COORDINATE_SYSTEM_NAME = PLANETOGRAPHIC
  COORDINATE_SYSTEM_TYPE = "BODY-FIXED ROTATING"
  EASTERNMOST_LONGITUDE = 85.0218
  FIRST_STANDARD_PARALLEL = "N/A"
  LINE_FIRST_PIXEL = 1
  LINE_LAST_PIXEL = 15888
  LINE_PROJECTION_OFFSET = -95078.0
  MAP_PROJECTION_ROTATION = 0.0
  MAP_PROJECTION_TYPE = SINUSOIDAL
  MAP_RESOLUTION = 2370.85521546667
  MAP_SCALE = 0.025
  MAXIMUM_LATITUDE = -40.0977
  MINIMUM_LATITUDE = -46.7986
  POSITIVE_LONGITUDE_DIRECTION = EAST
  REFERENCE_LATITUDE = "N/A"
  REFERENCE_LONGITUDE = "N/A"
  SAMPLE_FIRST_PIXEL = 1
  SAMPLE_LAST_PIXEL = 7105
  SAMPLE_PROJECTION_OFFSET = 3431.0
  SECOND_STANDARD_PARALLEL = "N/A"
  WESTERNMOST_LONGITUDE = 80.9361
END_OBJECT = IMAGE_MAP_PROJECTION
/* The JPEG2000 image data file associated with this label. */
OBJECT = COMPRESSED_FILE
  FILE_NAME = "HF014_0000_ND3.JP2"
  RECORD_TYPE = UNDEFINED
  FILE_RECORDS = UNK
  ENCODING_TYPE = "JP2"
  INTERCHANGE_FORMAT = BINARY
  UNCOMPRESSED_FILE_NAME = "HF014_0000_ND3.IMG"
  REQUIRED_STORAGE_BYTES = "112912660"
  ^DESCRIPTION = "JP2INFO.TXT"
END_OBJECT = COMPRESSED_FILE
END
