PDS_VERSION_ID = PDS3
/* FILE DATA ELEMENTS */
RECORD_TYPE = STREAM
/* POINTERS TO DATA OBJECTS */
^COMPRESSED_FILE = "HF093_0000_BL3.JP2"
/* IDENTIFICATION DATA ELEMENTS */
DATA_SET_ID = "MEX-M-HRSC-5-REFDR-MAPPROJECTED-V3.0"
DATA_SET_NAME = "MARS EXPRESS HRSC MAP PROJECTED REFDR V3.0"
DETECTOR_ID = MEX_HRSC_BLUE
EVENT_TYPE = "MARS-CLOUD-VARIABLE-At"
INSTRUMENT_HOST_ID = MEX
INSTRUMENT_HOST_NAME = "MARS EXPRESS"
INSTRUMENT_ID = HRSC
INSTRUMENT_NAME = "HIGH RESOLUTION STEREO CAMERA"
MISSION_NAME = "MARS EXPRESS"
MISSION_PHASE_NAME = ME_Phase_33
PROCESSING_LEVEL_ID = 3
PRODUCT_CREATION_TIME = 2016-10-30T13:14:21.000Z
PRODUCT_ID = "HF093_0000_BL3.JP2"
RELEASE_ID = 0131
REVISION_ID = 0000
/* QUALITY DATA ELEMENTS */
DATA_QUALITY_ID = 1
DATA_QUALITY_DESC = "Data calculated based on original SPICE kernels"
/* TIME DATA ELEMENTS */
SPACECRAFT_CLOCK_START_COUNT = "1/0396660792.08276"
SPACECRAFT_CLOCK_STOP_COUNT = "1/0396661952.13032"
START_TIME = 2015-11-26T23:35:13.501Z
STOP_TIME = 2015-11-26T23:46:24.706Z
/* ORBITAL DATA ELEMENTS */
ASCENDING_NODE_LONGITUDE = 290.35
MAXIMUM_RESOLUTION = 206.5
FOOTPRINT_POINT_LATITUDE = (-18.4707,-18.3807,-18.2906,-18.2003, -18.1096,-18.0187,-17.9275,-17.836, -17.744,-17.6515,-17.5582,-17.4643, -16.83,-16.2649,-15.4189,-14.8564, -14.2952,-13.1922,-12.6297,-12.0692, -11.2329,-10.6763,-10.1186,-9.56088, -9.00167,-8.44394,-7.88888,-7.33094, -6.77559,-5.94149,-5.10706,-4.55041, -3.99577,-3.4404,-2.33179,-1.22266, -0.667938,-0.112949,0.442307,0.997898, 1.55413,2.11082,2.66864,3.22705,3.78603 ,4.62439,5.18394,5.74301,6.30392, 6.86527,7.42784,7.99135,8.55538,9.1204, 9.68676,10.2542,10.4547,10.3517,10.2183 ,10.09,9.97563,9.84617,9.73354,9.59038, 9.46398,9.33808,9.22862,9.10467,8.98158 ,8.63785,8.08574,7.53448,6.43386, 5.33567,4.5131,3.41894,2.32547,1.23352, 0.415056,-0.675498,-1.76566,-2.85516, -3.94441,-5.30694,-6.3982,-7.77048, -8.58823,-9.67961,-10.7768,-11.8767, -12.9791,-14.0845,-15.193,-15.7488, -16.3052,-16.863,-17.4214,-17.981, -18.5415,-18.4707)
FOOTPRINT_POINT_LONGITUDE = (279.284,280.02,280.754,281.484,282.213 ,282.94,283.665,284.389,285.113,285.837 ,286.564,287.291,287.77,287.769,287.769 ,287.77,287.773,287.8,287.801,287.804, 287.815,287.824,287.831,287.838,287.842 ,287.848,287.861,287.866,287.879, 287.895,287.909,287.908,287.931,287.94, 287.951,287.984,288.002,288.021,288.041 ,288.062,288.085,288.109,288.135, 288.163,288.191,288.233,288.262,288.284 ,288.316,288.348,288.382,288.418, 288.455,288.493,288.533,288.575,287.709 ,286.944,285.935,284.937,284.068,283.08 ,282.22,281.117,280.139,279.164,278.312 ,277.338,276.362,275.862,275.929, 275.994,276.123,276.248,276.341,276.471 ,276.59,276.706,276.792,276.904,277.016 ,277.124,277.23,277.357,277.454,277.562 ,277.637,277.734,277.822,277.907,277.99 ,278.07,278.147,278.184,278.221,278.257 ,278.292,278.326,278.36,279.284)
ORBIT_NUMBER = 15093
ORBITAL_ECCENTRICITY = 0.577
ORBITAL_INCLINATION = 86.91
ORBITAL_SEMIMAJOR_AXIS = 8764.46
PERIAPSIS_ALTITUDE = 326.7
PERIAPSIS_ARGUMENT_ANGLE = 257.45
PERIAPSIS_TIME = 2015-11-26T23:02:28.000Z
SPACECRAFT_ORIENTATION = (0.0,-1.0,0.0)
^MEX_ORIENTATION_DESC = "MEX_ORIENTATION_DESC.TXT"
SPACECRAFT_POINTING_MODE = INERT
^MEX_POINTING_DESC = "MEX_POINTING_DESC.TXT"
RIGHT_ASCENSION = 327.289
DECLINATION = 41.758
OFFSET_ANGLE = -1e+32
SPACECRAFT_SOLAR_DISTANCE = 2.49212e+08
TARGET_NAME = MARS
/* CAMERA DATA ELEMENTS */
DETECTOR_TEMPERATURE = 18.3705
FOCAL_PLANE_TEMPERATURE = 7.156
INST_CMPRS_NAME = "DISCRETE COSINE TRANSFORMATION (DCT)"
INST_CMPRS_RATIO = 28.7879
INST_CMPRS_QUALITY = 0
INST_CMPRS_QUANTZ_TBL_ID = 0
INSTRUMENT_TEMPERATURE = 11.0301
LENS_TEMPERATURE = 7.9716
MACROPIXEL_SIZE = 2
MISSING_FRAMES = 0
PIXEL_SUBSAMPLING_FLAG = N
SIGNAL_CHAIN_ID = 2
/* RADIOMETRIC DATA ELEMENTS */
BANDWIDTH = 76.0
CENTER_FILTER_WAVELENGTH = 444.0
RADIANCE_OFFSET = 0.637048
RADIANCE_SCALING_FACTOR = 0.00428267
REFLECTANCE_SCALING_FACTOR = 0.00027328
MEX:REFLECTANCE_OFFSET = 0.0406504
/* IMAGE OBJECT DEFINITIONS */
OBJECT = IMAGE
  INTERCHANGE_FORMAT = BINARY
  LINES = 8641
  LINE_SAMPLES = 3759
  SAMPLE_TYPE = UNSIGNED_INTEGER
  SAMPLE_BITS = 8
  BANDS = 1
  BAND_STORAGE_TYPE = BAND_SEQUENTIAL
  MAXIMUM = 255
  MEAN = 127.755
  MINIMUM = 1
  STANDARD_DEVIATION = 46.2219
END_OBJECT = IMAGE
/* MAP OBJECT DEFINITIONS */
OBJECT = IMAGE_MAP_PROJECTION
  ^DATA_SET_MAP_PROJECTION_CATALOG= "DSMAP.CAT"
  A_AXIS_RADIUS = 3396.0
  B_AXIS_RADIUS = 3396.0
  C_AXIS_RADIUS = 3396.0
  CENTER_LATITUDE = 0.0
  CENTER_LONGITUDE = 283.0
  COORDINATE_SYSTEM_NAME = PLANETOGRAPHIC
  COORDINATE_SYSTEM_TYPE = "BODY-FIXED ROTATING"
  EASTERNMOST_LONGITUDE = 288.575
  FIRST_STANDARD_PARALLEL = "N/A"
  LINE_FIRST_PIXEL = 1
  LINE_LAST_PIXEL = 8641
  LINE_PROJECTION_OFFSET = 3132.0
  MAP_PROJECTION_ROTATION = 0.0
  MAP_PROJECTION_TYPE = SINUSOIDAL
  MAP_RESOLUTION = 296.356901933333
  MAP_SCALE = 0.2
  MAXIMUM_LATITUDE = 10.4547
  MINIMUM_LATITUDE = -18.5415
  POSITIVE_LONGITUDE_DIRECTION = EAST
  REFERENCE_LATITUDE = "N/A"
  REFERENCE_LONGITUDE = "N/A"
  SAMPLE_FIRST_PIXEL = 1
  SAMPLE_LAST_PIXEL = 3759
  SAMPLE_PROJECTION_OFFSET = 2103.0
  SECOND_STANDARD_PARALLEL = "N/A"
  WESTERNMOST_LONGITUDE = 275.862
END_OBJECT = IMAGE_MAP_PROJECTION
/* The JPEG2000 image data file associated with this label. */
OBJECT = COMPRESSED_FILE
  FILE_NAME = "HF093_0000_BL3.JP2"
  RECORD_TYPE = UNDEFINED
  FILE_RECORDS = UNK
  ENCODING_TYPE = "JP2"
  INTERCHANGE_FORMAT = BINARY
  UNCOMPRESSED_FILE_NAME = "HF093_0000_BL3.IMG"
  REQUIRED_STORAGE_BYTES = "32504073"
  ^DESCRIPTION = "JP2INFO.TXT"
END_OBJECT = COMPRESSED_FILE
END
