PDS_VERSION_ID = PDS3
/* FILE DATA ELEMENTS */
RECORD_TYPE = STREAM
/* POINTERS TO DATA OBJECTS */
^COMPRESSED_FILE = "HF230_0000_BL3.JP2"
/* IDENTIFICATION DATA ELEMENTS */
DATA_SET_ID = "MEX-M-HRSC-5-REFDR-MAPPROJECTED-V3.0"
DATA_SET_NAME = "MARS EXPRESS HRSC MAP PROJECTED REFDR V3.0"
DETECTOR_ID = MEX_HRSC_BLUE
EVENT_TYPE = "MARS-CLOUD-VARIABLE-At"
INSTRUMENT_HOST_ID = MEX
INSTRUMENT_HOST_NAME = "MARS EXPRESS"
INSTRUMENT_ID = HRSC
INSTRUMENT_NAME = "HIGH RESOLUTION STEREO CAMERA"
MISSION_NAME = "MARS EXPRESS"
MISSION_PHASE_NAME = ME_Phase_34
PROCESSING_LEVEL_ID = 3
PRODUCT_CREATION_TIME = 2016-11-08T12:16:33.000Z
PRODUCT_ID = "HF230_0000_BL3.JP2"
RELEASE_ID = 0132
REVISION_ID = 0000
/* QUALITY DATA ELEMENTS */
DATA_QUALITY_ID = 1
DATA_QUALITY_DESC = "Data calculated based on original SPICE kernels"
/* TIME DATA ELEMENTS */
SPACECRAFT_CLOCK_START_COUNT = "1/0400109876.08245"
SPACECRAFT_CLOCK_STOP_COUNT = "1/0400111269.23081"
START_TIME = 2016-01-05T21:46:28.532Z
STOP_TIME = 2016-01-05T22:01:14.062Z
/* ORBITAL DATA ELEMENTS */
ASCENDING_NODE_LONGITUDE = 287.8
MAXIMUM_RESOLUTION = 312.1
FOOTPRINT_POINT_LATITUDE = (-21.2462,-21.0893,-20.9284,-20.7634, -20.5942,-20.4209,-20.2433,-20.0615, -19.8752,-19.684,-19.4877,-19.2857, -18.7026,-17.437,-16.1727,-14.5929, -13.0118,-11.7497,-10.8014,-9.53649, -8.58281,-7.94293,-6.68206,-5.40922, -4.76979,-3.8089,-3.16836,-2.52603, -1.88223,-1.23784,-0.590235,0.0552443, 0.702718,1.35321,2.33499,2.98868, 3.64656,4.30649,4.96804,5.63145,6.29768 ,6.97125,7.63951,8.31389,9.33101, 10.0245,10.7106,11.3991,12.4383,13.4277 ,13.2471,13.0684,12.7722,12.6077, 12.4064,12.249,11.9825,11.7164,11.5756, 11.3624,11.0905,10.9566,10.8321,10.6677 ,10.5437,10.4227,10.303,10.1601,10.0475 ,9.93519,9.19107,8.5421,7.5718,6.92756, 6.28878,5.33304,4.69013,4.05486,3.10363 ,1.53025,0.279261,-0.969036,-2.21276, -3.45314,-4.38144,-5.92447,-7.15657, -8.0792,-9.00165,-10.5363,-11.764, -12.9919,-13.9168,-15.1492,-16.3733, -17.6055,-18.8399,-20.0769,-21.3169, -21.2462)
FOOTPRINT_POINT_LONGITUDE = (305.097,306.23,307.354,308.471,309.583 ,310.692,311.797,312.899,314.001, 315.104,316.21,317.321,318.759,318.737, 318.72,318.709,318.707,318.68,318.679, 318.68,318.696,318.715,318.706,318.726, 318.741,318.766,318.782,318.801,318.821 ,318.842,318.868,318.89,318.915,318.944 ,318.993,319.026,319.062,319.101, 319.142,319.184,319.229,319.282,319.329 ,319.383,319.469,319.539,319.604, 319.671,319.779,319.504,318.708,317.919 ,316.563,315.797,314.851,314.101, 312.801,311.515,310.786,309.699,308.258 ,307.541,306.826,305.935,305.222,304.51 ,303.799,302.908,302.195,301.48,300.977 ,301.074,301.217,301.311,301.402, 301.536,301.629,301.717,301.848,302.058 ,302.219,302.377,302.531,302.682, 302.792,302.97,303.108,303.209,303.309, 303.465,303.587,303.703,303.767,303.873 ,304.002,304.103,304.2,304.291,304.378, 305.097)
ORBIT_NUMBER = 15230
ORBITAL_ECCENTRICITY = 0.578
ORBITAL_INCLINATION = 86.92
ORBITAL_SEMIMAJOR_AXIS = 8792.8
PERIAPSIS_ALTITUDE = 327.73
PERIAPSIS_ARGUMENT_ANGLE = 234.24
PERIAPSIS_TIME = 2016-01-05T20:58:59.000Z
SPACECRAFT_ORIENTATION = (0.0,-1.0,0.0)
^MEX_ORIENTATION_DESC = "MEX_ORIENTATION_DESC.TXT"
SPACECRAFT_POINTING_MODE = INERT
^MEX_POINTING_DESC = "MEX_POINTING_DESC.TXT"
RIGHT_ASCENSION = 331.104
DECLINATION = 18.608
OFFSET_ANGLE = -1e+32
SPACECRAFT_SOLAR_DISTANCE = 2.47682e+08
TARGET_NAME = MARS
/* CAMERA DATA ELEMENTS */
DETECTOR_TEMPERATURE = 18.7783
FOCAL_PLANE_TEMPERATURE = 9.3989
INST_CMPRS_NAME = "DISCRETE COSINE TRANSFORMATION (DCT)"
INST_CMPRS_RATIO = 30.7388
INST_CMPRS_QUALITY = 0
INST_CMPRS_QUANTZ_TBL_ID = 0
INSTRUMENT_TEMPERATURE = 12.4574
LENS_TEMPERATURE = 9.6028
MACROPIXEL_SIZE = 2
MISSING_FRAMES = 0
PIXEL_SUBSAMPLING_FLAG = N
SIGNAL_CHAIN_ID = 2
/* RADIOMETRIC DATA ELEMENTS */
BANDWIDTH = 76.0
CENTER_FILTER_WAVELENGTH = 444.0
RADIANCE_OFFSET = 0.310245
RADIANCE_SCALING_FACTOR = 0.00486658
REFLECTANCE_SCALING_FACTOR = 0.000306735
MEX:REFLECTANCE_OFFSET = 0.0195543
/* IMAGE OBJECT DEFINITIONS */
OBJECT = IMAGE
  INTERCHANGE_FORMAT = BINARY
  LINES = 5169
  LINE_SAMPLES = 2764
  SAMPLE_TYPE = UNSIGNED_INTEGER
  SAMPLE_BITS = 8
  BANDS = 1
  BAND_STORAGE_TYPE = BAND_SEQUENTIAL
  MAXIMUM = 255
  MEAN = 146.267
  MINIMUM = 1
  STANDARD_DEVIATION = 46.228
END_OBJECT = IMAGE
/* MAP OBJECT DEFINITIONS */
OBJECT = IMAGE_MAP_PROJECTION
  ^DATA_SET_MAP_PROJECTION_CATALOG= "DSMAP.CAT"
  A_AXIS_RADIUS = 3396.0
  B_AXIS_RADIUS = 3396.0
  C_AXIS_RADIUS = 3396.0
  CENTER_LATITUDE = 0.0
  CENTER_LONGITUDE = 311.0
  COORDINATE_SYSTEM_NAME = PLANETOGRAPHIC
  COORDINATE_SYSTEM_TYPE = "BODY-FIXED ROTATING"
  EASTERNMOST_LONGITUDE = 319.779
  FIRST_STANDARD_PARALLEL = "N/A"
  LINE_FIRST_PIXEL = 1
  LINE_LAST_PIXEL = 5169
  LINE_PROJECTION_OFFSET = 2005.0
  MAP_PROJECTION_ROTATION = 0.0
  MAP_PROJECTION_TYPE = SINUSOIDAL
  MAP_RESOLUTION = 148.178450966667
  MAP_SCALE = 0.4
  MAXIMUM_LATITUDE = 13.4277
  MINIMUM_LATITUDE = -21.3169
  POSITIVE_LONGITUDE_DIRECTION = EAST
  REFERENCE_LATITUDE = "N/A"
  REFERENCE_LONGITUDE = "N/A"
  SAMPLE_FIRST_PIXEL = 1
  SAMPLE_LAST_PIXEL = 2764
  SAMPLE_PROJECTION_OFFSET = 1476.0
  SECOND_STANDARD_PARALLEL = "N/A"
  WESTERNMOST_LONGITUDE = 300.977
END_OBJECT = IMAGE_MAP_PROJECTION
/* The JPEG2000 image data file associated with this label. */
OBJECT = COMPRESSED_FILE
  FILE_NAME = "HF230_0000_BL3.JP2"
  RECORD_TYPE = UNDEFINED
  FILE_RECORDS = UNK
  ENCODING_TYPE = "JP2"
  INTERCHANGE_FORMAT = BINARY
  UNCOMPRESSED_FILE_NAME = "HF230_0000_BL3.IMG"
  REQUIRED_STORAGE_BYTES = "14309228"
  ^DESCRIPTION = "JP2INFO.TXT"
END_OBJECT = COMPRESSED_FILE
END
