PDS_VERSION_ID = PDS3
/* FILE DATA ELEMENTS */
RECORD_TYPE = STREAM
/* POINTERS TO DATA OBJECTS */
^COMPRESSED_FILE = "HF233_0000_BL3.JP2"
/* IDENTIFICATION DATA ELEMENTS */
DATA_SET_ID = "MEX-M-HRSC-5-REFDR-MAPPROJECTED-V3.0"
DATA_SET_NAME = "MARS EXPRESS HRSC MAP PROJECTED REFDR V3.0"
DETECTOR_ID = MEX_HRSC_BLUE
EVENT_TYPE = "MARS-CLOUD-VARIABLE-At"
INSTRUMENT_HOST_ID = MEX
INSTRUMENT_HOST_NAME = "MARS EXPRESS"
INSTRUMENT_ID = HRSC
INSTRUMENT_NAME = "HIGH RESOLUTION STEREO CAMERA"
MISSION_NAME = "MARS EXPRESS"
MISSION_PHASE_NAME = ME_Phase_34
PROCESSING_LEVEL_ID = 3
PRODUCT_CREATION_TIME = 2016-11-08T12:16:33.000Z
PRODUCT_ID = "HF233_0000_BL3.JP2"
RELEASE_ID = 0132
REVISION_ID = 0000
/* QUALITY DATA ELEMENTS */
DATA_QUALITY_ID = 1
DATA_QUALITY_DESC = "Data calculated based on original SPICE kernels"
/* TIME DATA ELEMENTS */
SPACECRAFT_CLOCK_START_COUNT = "1/0400185717.23827"
SPACECRAFT_CLOCK_STOP_COUNT = "1/0400187412.23823"
START_TIME = 2016-01-06T18:53:00.841Z
STOP_TIME = 2016-01-06T19:02:35.726Z
/* ORBITAL DATA ELEMENTS */
ASCENDING_NODE_LONGITUDE = 287.75
MAXIMUM_RESOLUTION = 369
FOOTPRINT_POINT_LATITUDE = (-18.364,-18.2191,-18.0742,-17.9292, -17.7842,-17.6391,-17.4938,-17.3483, -17.2026,-17.0567,-16.9105,-16.764, -16.6173,-16.4703,-16.3229,-16.1751, -16.0268,-15.878,-15.7286,-15.5785, -15.4276,-15.2756,-15.1231,-14.97, -14.7277,-13.9864,-13.4315,-12.6925, -12.1383,-11.0319,-10.2952,-9.74341, -9.00749,-7.90515,-7.17019,-6.43547, -5.51721,-4.96626,-4.04801,-3.49698, -2.7622,-1.84314,-0.738579,0.182469, 0.736073,1.28987,2.39933,3.14032,3.6062 ,3.51476,3.33317,3.15296,2.92933, 2.75254,2.57739,2.40327,2.2302,2.05843, 1.88831,1.71899,1.55025,1.38245,1.17316 ,1.00711,0.841798,0.676974,0.512909, 0.349459,0.227103,0.105306,-0.0568022, -0.218501,-0.379934,-0.621419,-1.563, -2.27204,-2.98108,-3.51291,-4.22189, -4.75382,-5.46343,-5.99571,-6.52817, -7.23874,-7.94975,-8.84022,-9.73123, -10.4447,-11.1591,-12.0544,-12.7705, -13.4889,-14.0285,-14.7492,-15.4712, -16.1951,-16.9207,-17.4658,-18.3739, -18.364)
FOOTPRINT_POINT_LONGITUDE = (356.277,356.934,357.587,358.237, 358.883,359.528,360.169,360.808,361.445 ,362.081,362.715,363.348,363.98,364.61, 365.24,365.869,366.499,367.129,367.759, 368.39,369.023,369.658,370.294,370.931, 371.944,371.922,371.907,371.889,371.875 ,371.852,371.839,371.831,371.821, 371.812,371.807,371.804,371.802,371.803 ,371.806,371.809,371.814,371.826, 371.847,371.866,371.881,371.897,371.933 ,371.96,371.613,371.238,370.492,369.752 ,368.833,368.104,367.38,366.659,365.942 ,365.229,364.519,363.811,363.105,362.4, 361.521,360.818,360.116,359.415,358.714 ,358.013,357.486,356.959,356.256, 355.551,354.845,353.78,353.655,353.746, 353.836,353.902,353.992,354.057,354.142 ,354.205,354.268,354.35,354.431,354.528 ,354.624,354.7,354.774,354.864,354.936, 355.004,355.055,355.121,355.185,355.248 ,355.309,355.353,355.427,356.277)
ORBIT_NUMBER = 15233
ORBITAL_ECCENTRICITY = 0.578
ORBITAL_INCLINATION = 86.92
ORBITAL_SEMIMAJOR_AXIS = 8791.7
PERIAPSIS_ALTITUDE = 327.98
PERIAPSIS_ARGUMENT_ANGLE = 233.69
PERIAPSIS_TIME = 2016-01-06T17:57:33.000Z
SPACECRAFT_ORIENTATION = (0.0,-1.0,0.0)
^MEX_ORIENTATION_DESC = "MEX_ORIENTATION_DESC.TXT"
SPACECRAFT_POINTING_MODE = INERT
^MEX_POINTING_DESC = "MEX_POINTING_DESC.TXT"
RIGHT_ASCENSION = 331.154
DECLINATION = 18.093
OFFSET_ANGLE = -1e+32
SPACECRAFT_SOLAR_DISTANCE = 2.47623e+08
TARGET_NAME = MARS
/* CAMERA DATA ELEMENTS */
DETECTOR_TEMPERATURE = 0.0
FOCAL_PLANE_TEMPERATURE = 0.0
INST_CMPRS_NAME = "DISCRETE COSINE TRANSFORMATION (DCT)"
INST_CMPRS_RATIO = 31.8323
INST_CMPRS_QUALITY = 0
INST_CMPRS_QUANTZ_TBL_ID = 0
INSTRUMENT_TEMPERATURE = 0.0
LENS_TEMPERATURE = 0.0
MACROPIXEL_SIZE = 2
MISSING_FRAMES = 0
PIXEL_SUBSAMPLING_FLAG = N
SIGNAL_CHAIN_ID = 2
/* RADIOMETRIC DATA ELEMENTS */
BANDWIDTH = 76.0
CENTER_FILTER_WAVELENGTH = 444.0
RADIANCE_OFFSET = 0.434372
RADIANCE_SCALING_FACTOR = 0.0026768
REFLECTANCE_SCALING_FACTOR = 0.000168635
MEX:REFLECTANCE_OFFSET = 0.0273648
/* IMAGE OBJECT DEFINITIONS */
OBJECT = IMAGE
  INTERCHANGE_FORMAT = BINARY
  LINES = 3298
  LINE_SAMPLES = 2751
  SAMPLE_TYPE = UNSIGNED_INTEGER
  SAMPLE_BITS = 8
  BANDS = 1
  BAND_STORAGE_TYPE = BAND_SEQUENTIAL
  MAXIMUM = 255
  MEAN = 133.921
  MINIMUM = 1
  STANDARD_DEVIATION = 19.2294
END_OBJECT = IMAGE
/* MAP OBJECT DEFINITIONS */
OBJECT = IMAGE_MAP_PROJECTION
  ^DATA_SET_MAP_PROJECTION_CATALOG= "DSMAP.CAT"
  A_AXIS_RADIUS = 3396.0
  B_AXIS_RADIUS = 3396.0
  C_AXIS_RADIUS = 3396.0
  CENTER_LATITUDE = 0.0
  CENTER_LONGITUDE = 3.0
  COORDINATE_SYSTEM_NAME = PLANETOGRAPHIC
  COORDINATE_SYSTEM_TYPE = "BODY-FIXED ROTATING"
  EASTERNMOST_LONGITUDE = 11.96
  FIRST_STANDARD_PARALLEL = "N/A"
  LINE_FIRST_PIXEL = 1
  LINE_LAST_PIXEL = 3298
  LINE_PROJECTION_OFFSET = 547.0
  MAP_PROJECTION_ROTATION = 0.0
  MAP_PROJECTION_TYPE = SINUSOIDAL
  MAP_RESOLUTION = 148.178450966667
  MAP_SCALE = 0.4
  MAXIMUM_LATITUDE = 3.6062
  MINIMUM_LATITUDE = -18.3739
  POSITIVE_LONGITUDE_DIRECTION = EAST
  REFERENCE_LATITUDE = "N/A"
  REFERENCE_LONGITUDE = "N/A"
  SAMPLE_FIRST_PIXEL = 1
  SAMPLE_LAST_PIXEL = 2751
  SAMPLE_PROJECTION_OFFSET = 1405.0
  SECOND_STANDARD_PARALLEL = "N/A"
  WESTERNMOST_LONGITUDE = -6.345
END_OBJECT = IMAGE_MAP_PROJECTION
/* The JPEG2000 image data file associated with this label. */
OBJECT = COMPRESSED_FILE
  FILE_NAME = "HF233_0000_BL3.JP2"
  RECORD_TYPE = UNDEFINED
  FILE_RECORDS = UNK
  ENCODING_TYPE = "JP2"
  INTERCHANGE_FORMAT = BINARY
  UNCOMPRESSED_FILE_NAME = "HF233_0000_BL3.IMG"
  REQUIRED_STORAGE_BYTES = "9094806"
  ^DESCRIPTION = "JP2INFO.TXT"
END_OBJECT = COMPRESSED_FILE
END
