PDS_VERSION_ID = PDS3
/* FILE DATA ELEMENTS */
RECORD_TYPE = STREAM
/* POINTERS TO DATA OBJECTS */
^COMPRESSED_FILE = "HF233_0000_GR3.JP2"
/* IDENTIFICATION DATA ELEMENTS */
DATA_SET_ID = "MEX-M-HRSC-5-REFDR-MAPPROJECTED-V3.0"
DATA_SET_NAME = "MARS EXPRESS HRSC MAP PROJECTED REFDR V3.0"
DETECTOR_ID = MEX_HRSC_GREEN
EVENT_TYPE = "MARS-CLOUD-VARIABLE-At"
INSTRUMENT_HOST_ID = MEX
INSTRUMENT_HOST_NAME = "MARS EXPRESS"
INSTRUMENT_ID = HRSC
INSTRUMENT_NAME = "HIGH RESOLUTION STEREO CAMERA"
MISSION_NAME = "MARS EXPRESS"
MISSION_PHASE_NAME = ME_Phase_34
PROCESSING_LEVEL_ID = 3
PRODUCT_CREATION_TIME = 2016-11-08T12:16:33.000Z
PRODUCT_ID = "HF233_0000_GR3.JP2"
RELEASE_ID = 0132
REVISION_ID = 0000
/* QUALITY DATA ELEMENTS */
DATA_QUALITY_ID = 1
DATA_QUALITY_DESC = "Data calculated based on original SPICE kernels"
/* TIME DATA ELEMENTS */
SPACECRAFT_CLOCK_START_COUNT = "1/0400185717.23827"
SPACECRAFT_CLOCK_STOP_COUNT = "1/0400187412.23823"
START_TIME = 2016-01-06T18:48:37.750Z
STOP_TIME = 2016-01-06T19:02:35.632Z
/* ORBITAL DATA ELEMENTS */
ASCENDING_NODE_LONGITUDE = 287.75
MAXIMUM_RESOLUTION = 336
FOOTPRINT_POINT_LATITUDE = (-18.3137,-18.1946,-18.0748,-17.9545, -17.8336,-17.5898,-17.3428,-17.0924, -16.8392,-16.5828,-16.3228,-16.0589, -15.7911,-15.5185,-15.2411,-14.729, -13.2818,-11.834,-10.6762,-9.80752, -8.64857,-7.48836,-6.32682,-5.16343, -3.70299,-2.53451,-1.94825,-1.36161, -0.774316,0.1097,0.996012,1.5866, 2.47737,3.07157,3.67094,4.5684,5.16812, 5.76965,6.37301,6.97839,7.58666,8.19841 ,8.80824,9.42531,10.0413,10.6605, 11.2806,12.2166,13.1614,13.7916,14.6785 ,14.453,14.2423,14.0289,13.8198,13.6138 ,13.4131,13.2138,13.017,12.8239,12.6318 ,12.4439,12.2585,12.0749,11.8914, 11.7161,11.4055,11.1062,10.9363,10.7303 ,10.5605,10.3555,10.1931,10.0316, 9.09944,8.51573,7.64031,6.19665,5.04647 ,4.18392,3.3265,2.47168,1.61948, 0.487417,-0.363241,-1.77273,-2.89779, -4.0209,-4.86275,-6.2628,-7.38193, -8.22382,-9.6221,-11.5799,-12.6992, -13.8196,-15.2223,-16.3462,-17.4723, -18.3137)
FOOTPRINT_POINT_LONGITUDE = (354.721,355.335,355.944,356.549, 357.149,358.341,359.522,360.695,361.859 ,363.014,364.165,365.313,366.458, 367.605,368.753,369.656,369.624,369.587 ,369.562,369.547,369.528,369.514, 369.501,369.493,369.486,369.485,369.487 ,369.489,369.492,369.5,369.511,369.517, 369.532,369.542,369.557,369.576,369.591 ,369.608,369.627,369.647,369.67,369.696 ,369.72,369.748,369.778,369.81,369.843, 369.897,369.956,369.997,369.678,368.878 ,368.092,367.309,366.533,365.763, 365.001,364.242,363.488,362.738,361.992 ,361.248,360.507,359.768,359.031, 358.294,357.005,355.718,354.982,354.059 ,353.324,352.398,351.655,350.909, 350.819,350.927,351.087,351.342,351.54, 351.686,351.829,351.969,352.105,352.281 ,352.41,352.62,352.783,352.941,353.059, 353.244,353.389,353.491,353.659,353.887 ,354.011,354.129,354.269,354.376, 354.478,354.721)
ORBIT_NUMBER = 15233
ORBITAL_ECCENTRICITY = 0.578
ORBITAL_INCLINATION = 86.92
ORBITAL_SEMIMAJOR_AXIS = 8791.7
PERIAPSIS_ALTITUDE = 327.98
PERIAPSIS_ARGUMENT_ANGLE = 233.69
PERIAPSIS_TIME = 2016-01-06T17:57:33.000Z
SPACECRAFT_ORIENTATION = (0.0,-1.0,0.0)
^MEX_ORIENTATION_DESC = "MEX_ORIENTATION_DESC.TXT"
SPACECRAFT_POINTING_MODE = INERT
^MEX_POINTING_DESC = "MEX_POINTING_DESC.TXT"
RIGHT_ASCENSION = 331.154
DECLINATION = 18.093
OFFSET_ANGLE = -1e+32
SPACECRAFT_SOLAR_DISTANCE = 2.47623e+08
TARGET_NAME = MARS
/* CAMERA DATA ELEMENTS */
DETECTOR_TEMPERATURE = 0.0
FOCAL_PLANE_TEMPERATURE = 0.0
INST_CMPRS_NAME = "DISCRETE COSINE TRANSFORMATION (DCT)"
INST_CMPRS_RATIO = 16.0954
INST_CMPRS_QUALITY = 0
INST_CMPRS_QUANTZ_TBL_ID = 0
INSTRUMENT_TEMPERATURE = 0.0
LENS_TEMPERATURE = 0.0
MACROPIXEL_SIZE = 2
MISSING_FRAMES = 4
PIXEL_SUBSAMPLING_FLAG = N
SIGNAL_CHAIN_ID = 2
/* RADIOMETRIC DATA ELEMENTS */
BANDWIDTH = 88.0
CENTER_FILTER_WAVELENGTH = 538.0
RADIANCE_OFFSET = 0.934248
RADIANCE_SCALING_FACTOR = 0.00811252
REFLECTANCE_SCALING_FACTOR = 0.000428272
MEX:REFLECTANCE_OFFSET = 0.0493203
/* IMAGE OBJECT DEFINITIONS */
OBJECT = IMAGE
  INTERCHANGE_FORMAT = BINARY
  LINES = 3298
  LINE_SAMPLES = 2751
  SAMPLE_TYPE = UNSIGNED_INTEGER
  SAMPLE_BITS = 8
  BANDS = 1
  BAND_STORAGE_TYPE = BAND_SEQUENTIAL
  MAXIMUM = 243
  MEAN = 87.0627
  MINIMUM = 1
  STANDARD_DEVIATION = 27.5935
END_OBJECT = IMAGE
/* MAP OBJECT DEFINITIONS */
OBJECT = IMAGE_MAP_PROJECTION
  ^DATA_SET_MAP_PROJECTION_CATALOG= "DSMAP.CAT"
  A_AXIS_RADIUS = 3396.0
  B_AXIS_RADIUS = 3396.0
  C_AXIS_RADIUS = 3396.0
  CENTER_LATITUDE = 0.0
  CENTER_LONGITUDE = 3.0
  COORDINATE_SYSTEM_NAME = PLANETOGRAPHIC
  COORDINATE_SYSTEM_TYPE = "BODY-FIXED ROTATING"
  EASTERNMOST_LONGITUDE = 9.997
  FIRST_STANDARD_PARALLEL = "N/A"
  LINE_FIRST_PIXEL = 1
  LINE_LAST_PIXEL = 3298
  LINE_PROJECTION_OFFSET = 547.0
  MAP_PROJECTION_ROTATION = 0.0
  MAP_PROJECTION_TYPE = SINUSOIDAL
  MAP_RESOLUTION = 148.178450966667
  MAP_SCALE = 0.4
  MAXIMUM_LATITUDE = 14.6785
  MINIMUM_LATITUDE = -18.3137
  POSITIVE_LONGITUDE_DIRECTION = EAST
  REFERENCE_LATITUDE = "N/A"
  REFERENCE_LONGITUDE = "N/A"
  SAMPLE_FIRST_PIXEL = 1
  SAMPLE_LAST_PIXEL = 2751
  SAMPLE_PROJECTION_OFFSET = 1405.0
  SECOND_STANDARD_PARALLEL = "N/A"
  WESTERNMOST_LONGITUDE = -9.180999999999999
END_OBJECT = IMAGE_MAP_PROJECTION
/* The JPEG2000 image data file associated with this label. */
OBJECT = COMPRESSED_FILE
  FILE_NAME = "HF233_0000_GR3.JP2"
  RECORD_TYPE = UNDEFINED
  FILE_RECORDS = UNK
  ENCODING_TYPE = "JP2"
  INTERCHANGE_FORMAT = BINARY
  UNCOMPRESSED_FILE_NAME = "HF233_0000_GR3.IMG"
  REQUIRED_STORAGE_BYTES = "9094806"
  ^DESCRIPTION = "JP2INFO.TXT"
END_OBJECT = COMPRESSED_FILE
END
