PDS_VERSION_ID = PDS3
/* FILE DATA ELEMENTS */
RECORD_TYPE = STREAM
/* POINTERS TO DATA OBJECTS */
^COMPRESSED_FILE = "HF346_0000_BL3.JP2"
/* IDENTIFICATION DATA ELEMENTS */
DATA_SET_ID = "MEX-M-HRSC-5-REFDR-MAPPROJECTED-V3.0"
DATA_SET_NAME = "MARS EXPRESS HRSC MAP PROJECTED REFDR V3.0"
DETECTOR_ID = MEX_HRSC_BLUE
EVENT_TYPE = "MARS-CLOUD-VARIABLE-At"
INSTRUMENT_HOST_ID = MEX
INSTRUMENT_HOST_NAME = "MARS EXPRESS"
INSTRUMENT_ID = HRSC
INSTRUMENT_NAME = "HIGH RESOLUTION STEREO CAMERA"
MISSION_NAME = "MARS EXPRESS"
MISSION_PHASE_NAME = ME_Phase_34
PROCESSING_LEVEL_ID = 3
PRODUCT_CREATION_TIME = 2016-11-08T12:16:33.000Z
PRODUCT_ID = "HF346_0000_BL3.JP2"
RELEASE_ID = 0132
REVISION_ID = 0000
/* QUALITY DATA ELEMENTS */
DATA_QUALITY_ID = 1
DATA_QUALITY_DESC = "Data calculated based on original SPICE kernels"
/* TIME DATA ELEMENTS */
SPACECRAFT_CLOCK_START_COUNT = "1/0403031414.09045"
SPACECRAFT_CLOCK_STOP_COUNT = "1/0403033463.56742"
START_TIME = 2016-02-08T17:26:56.904Z
STOP_TIME = 2016-02-08T17:45:40.328Z
/* ORBITAL DATA ELEMENTS */
ASCENDING_NODE_LONGITUDE = 285.63
MAXIMUM_RESOLUTION = 488.8
FOOTPRINT_POINT_LATITUDE = (-20.7844,-20.5563,-20.3265,-20.0948, -19.8611,-19.6255,-19.3877,-19.1478, -18.9057,-18.6615,-18.4149,-18.1659, -17.9146,-17.6609,-17.4048,-17.1461, -16.8845,-16.62,-16.3524,-16.0816, -15.8075,-15.5293,-15.2474,-14.9621, -14.6734,-14.0378,-12.4483,-10.8579, -9.58287,-8.6255,-7.66648,-5.73774, -4.4519,-2.83571,-1.54052,0.0941553, 1.40643,3.06477,4.06212,5.39874,6.75228 ,8.11609,9.85121,11.587,13.3662,14.8001 ,16.257,17.7401,19.2483,18.7695,18.0592 ,17.6024,17.1575,16.7344,16.4213, 16.1124,15.7055,15.3132,14.931,14.6477, 14.2703,13.8227,13.4678,13.1189,12.7757 ,12.5157,12.1017,11.775,11.4552,11.1387 ,10.827,10.5277,10.2164,9.92243,8.71683 ,7.44315,5.86954,4.61895,3.68419,2.4436 ,1.20988,-0.0183934,-1.24301,-2.15935, -3.37747,-4.5928,-6.10838,-7.31466, -8.22168,-9.4344,-10.6422,-11.8505, -13.3622,-14.5731,-15.7874,-16.6983, -17.908,-18.8182,-20.0362,-20.7844)
FOOTPRINT_POINT_LONGITUDE = (314.016,314.885,315.747,316.602, 317.452,318.297,319.138,319.975,320.809 ,321.64,322.468,323.295,324.12,324.943, 325.766,326.588,327.41,328.234,329.059, 329.885,330.715,331.548,332.385,333.226 ,334.07,334.994,334.92,334.855,334.815, 334.789,334.768,334.752,334.739,334.741 ,334.748,334.781,334.815,334.883, 334.927,334.995,335.085,335.187,335.351 ,335.52,335.737,335.927,336.144,336.392 ,336.67,335.402,333.542,332.34,331.164, 330.02,329.175,328.34,327.242,326.163, 325.101,324.313,323.27,321.987,320.969, 319.96,318.958,318.211,316.975,315.991, 315.011,314.035,313.061,312.086,311.117 ,310.142,309.49,309.71,309.972,310.175, 310.326,310.522,310.712,310.897,311.078 ,311.211,311.384,311.552,311.756,311.9, 312.011,312.181,312.326,312.459,312.625 ,312.752,312.87,312.958,313.085,313.172 ,313.279,314.016)
ORBIT_NUMBER = 15346
ORBITAL_ECCENTRICITY = 0.578
ORBITAL_INCLINATION = 86.93
ORBITAL_SEMIMAJOR_AXIS = 8825.86
PERIAPSIS_ALTITUDE = 331.37
PERIAPSIS_ARGUMENT_ANGLE = 214.43
PERIAPSIS_TIME = 2016-02-08T16:11:36.000Z
SPACECRAFT_ORIENTATION = (0.0,-1.0,0.0)
^MEX_ORIENTATION_DESC = "MEX_ORIENTATION_DESC.TXT"
SPACECRAFT_POINTING_MODE = INERT
^MEX_POINTING_DESC = "MEX_POINTING_DESC.TXT"
RIGHT_ASCENSION = 332.242
DECLINATION = -1.348
OFFSET_ANGLE = -1e+32
SPACECRAFT_SOLAR_DISTANCE = 2.44626e+08
TARGET_NAME = MARS
/* CAMERA DATA ELEMENTS */
DETECTOR_TEMPERATURE = 18.9822
FOCAL_PLANE_TEMPERATURE = 9.3989
INST_CMPRS_NAME = "DISCRETE COSINE TRANSFORMATION (DCT)"
INST_CMPRS_RATIO = 21.9565
INST_CMPRS_QUALITY = 0
INST_CMPRS_QUANTZ_TBL_ID = 0
INSTRUMENT_TEMPERATURE = 12.0496
LENS_TEMPERATURE = 9.8067
MACROPIXEL_SIZE = 2
MISSING_FRAMES = 0
PIXEL_SUBSAMPLING_FLAG = N
SIGNAL_CHAIN_ID = 2
/* RADIOMETRIC DATA ELEMENTS */
BANDWIDTH = 76.0
CENTER_FILTER_WAVELENGTH = 444.0
RADIANCE_OFFSET = 0.182014
RADIANCE_SCALING_FACTOR = 0.00446112
REFLECTANCE_SCALING_FACTOR = 0.000274277
MEX:REFLECTANCE_OFFSET = 0.0111905
/* IMAGE OBJECT DEFINITIONS */
OBJECT = IMAGE
  INTERCHANGE_FORMAT = BINARY
  LINES = 5958
  LINE_SAMPLES = 3915
  SAMPLE_TYPE = UNSIGNED_INTEGER
  SAMPLE_BITS = 8
  BANDS = 1
  BAND_STORAGE_TYPE = BAND_SEQUENTIAL
  MAXIMUM = 255
  MEAN = 151.055
  MINIMUM = 1
  STANDARD_DEVIATION = 43.135
END_OBJECT = IMAGE
/* MAP OBJECT DEFINITIONS */
OBJECT = IMAGE_MAP_PROJECTION
  ^DATA_SET_MAP_PROJECTION_CATALOG= "DSMAP.CAT"
  A_AXIS_RADIUS = 3396.0
  B_AXIS_RADIUS = 3396.0
  C_AXIS_RADIUS = 3396.0
  CENTER_LATITUDE = 0.0
  CENTER_LONGITUDE = 323.0
  COORDINATE_SYSTEM_NAME = PLANETOGRAPHIC
  COORDINATE_SYSTEM_TYPE = "BODY-FIXED ROTATING"
  EASTERNMOST_LONGITUDE = 336.67
  FIRST_STANDARD_PARALLEL = "N/A"
  LINE_FIRST_PIXEL = 1
  LINE_LAST_PIXEL = 5958
  LINE_PROJECTION_OFFSET = 2843.0
  MAP_PROJECTION_ROTATION = 0.0
  MAP_PROJECTION_TYPE = SINUSOIDAL
  MAP_RESOLUTION = 148.178450966667
  MAP_SCALE = 0.4
  MAXIMUM_LATITUDE = 19.2483
  MINIMUM_LATITUDE = -20.7844
  POSITIVE_LONGITUDE_DIRECTION = EAST
  REFERENCE_LATITUDE = "N/A"
  REFERENCE_LONGITUDE = "N/A"
  SAMPLE_FIRST_PIXEL = 1
  SAMPLE_LAST_PIXEL = 3915
  SAMPLE_PROJECTION_OFFSET = 1999.0
  SECOND_STANDARD_PARALLEL = "N/A"
  WESTERNMOST_LONGITUDE = 309.49
END_OBJECT = IMAGE_MAP_PROJECTION
/* The JPEG2000 image data file associated with this label. */
OBJECT = COMPRESSED_FILE
  FILE_NAME = "HF346_0000_BL3.JP2"
  RECORD_TYPE = UNDEFINED
  FILE_RECORDS = UNK
  ENCODING_TYPE = "JP2"
  INTERCHANGE_FORMAT = BINARY
  UNCOMPRESSED_FILE_NAME = "HF346_0000_BL3.IMG"
  REQUIRED_STORAGE_BYTES = "23349060"
  ^DESCRIPTION = "JP2INFO.TXT"
END_OBJECT = COMPRESSED_FILE
END
