PDS_VERSION_ID = PDS3
/* FILE DATA ELEMENTS */
RECORD_TYPE = STREAM
/* POINTERS TO DATA OBJECTS */
^COMPRESSED_FILE = "HF388_0000_GR3.JP2"
/* IDENTIFICATION DATA ELEMENTS */
DATA_SET_ID = "MEX-M-HRSC-5-REFDR-MAPPROJECTED-V3.0"
DATA_SET_NAME = "MARS EXPRESS HRSC MAP PROJECTED REFDR V3.0"
DETECTOR_ID = MEX_HRSC_GREEN
EVENT_TYPE = "MARS-CLOUD-VARIABLE-At"
INSTRUMENT_HOST_ID = MEX
INSTRUMENT_HOST_NAME = "MARS EXPRESS"
INSTRUMENT_ID = HRSC
INSTRUMENT_NAME = "HIGH RESOLUTION STEREO CAMERA"
MISSION_NAME = "MARS EXPRESS"
MISSION_PHASE_NAME = ME_Phase_34
PROCESSING_LEVEL_ID = 3
PRODUCT_CREATION_TIME = 2016-11-08T12:16:33.000Z
PRODUCT_ID = "HF388_0000_GR3.JP2"
RELEASE_ID = 0132
REVISION_ID = 0000
/* QUALITY DATA ELEMENTS */
DATA_QUALITY_ID = 1
DATA_QUALITY_DESC = "Data calculated based on original SPICE kernels"
/* TIME DATA ELEMENTS */
SPACECRAFT_CLOCK_START_COUNT = "1/0404089665.07292"
SPACECRAFT_CLOCK_STOP_COUNT = "1/0404091742.08255"
START_TIME = 2016-02-20T23:20:00.258Z
STOP_TIME = 2016-02-20T23:40:20.762Z
/* ORBITAL DATA ELEMENTS */
ASCENDING_NODE_LONGITUDE = 284.84
MAXIMUM_RESOLUTION = 506.3
FOOTPRINT_POINT_LATITUDE = (-21.3602,-21.1211,-20.8784,-20.6319, -20.3817,-20.1275,-19.8694,-19.6073, -19.341,-19.0708,-18.7972,-18.2384, -17.663,-17.0703,-16.4598,-16.1474, -15.8297,-15.5064,-15.1782,-14.8448, -14.4684,-13.0642,-11.2952,-9.87515, -8.44828,-7.37319,-5.93212,-4.48108, -2.64788,-1.17039,0.320651,1.82629, 2.973,4.51298,6.06882,7.64857,9.24965, 10.8827,12.5393,14.2326,15.0972,16.4046 ,17.2928,18.6426,19.5487,20.9728, 21.9322,22.8733,23.8633,25.3769,24.8594 ,24.3179,23.4522,22.7965,22.1731, 21.5682,20.9945,20.2804,19.7466,19.2296 ,18.7268,18.2374,17.7644,17.3029,16.856 ,16.4153,15.9852,15.5665,15.1631, 14.7792,14.3931,14.0087,13.6429,13.2978 ,12.9364,11.1374,9.27588,7.81692, 5.99285,4.56328,3.13575,1.74855, 0.704325,-0.683702,-2.76012,-4.4638, -5.81065,-7.83155,-8.83504,-10.1792, -11.5094,-12.8362,-14.1599,-15.4811, -16.4712,-17.4612,-18.7805,-20.0996, -21.4187,-21.3602)
FOOTPRINT_POINT_LONGITUDE = (331.707,332.633,333.548,334.453,335.35 ,336.24,337.122,337.997,338.868,339.732 ,340.59,342.292,343.979,345.655,347.325 ,348.159,348.993,349.829,350.665, 351.502,352.423,352.335,352.241,352.171 ,352.106,352.061,352.007,351.961, 351.915,351.886,351.866,351.854,351.851 ,351.861,351.879,351.912,351.957, 352.021,352.099,352.199,352.257,352.355 ,352.43,352.554,352.641,352.808,352.927 ,353.04,353.18,353.411,352.394,351.384, 349.754,348.492,347.264,346.064,344.891 ,343.45,342.321,341.208,340.108,339.02, 337.942,336.873,335.81,334.752,333.699, 332.65,331.602,330.552,329.505,328.461, 327.41,326.347,325.294,324.766,325.204, 325.529,325.935,326.235,326.531,326.791 ,326.989,327.249,327.634,327.925, 328.136,328.441,328.586,328.793,328.972 ,329.142,329.301,329.448,329.553, 329.654,329.781,329.895,330.005, 331.707)
ORBIT_NUMBER = 15388
ORBITAL_ECCENTRICITY = 0.578
ORBITAL_INCLINATION = 86.92
ORBITAL_SEMIMAJOR_AXIS = 8836.33
PERIAPSIS_ALTITUDE = 333.86
PERIAPSIS_ARGUMENT_ANGLE = 207.18
PERIAPSIS_TIME = 2016-02-20T22:01:22.000Z
SPACECRAFT_ORIENTATION = (0.0,-1.0,0.0)
^MEX_ORIENTATION_DESC = "MEX_ORIENTATION_DESC.TXT"
SPACECRAFT_POINTING_MODE = INERT
^MEX_POINTING_DESC = "MEX_POINTING_DESC.TXT"
RIGHT_ASCENSION = 332.43
DECLINATION = -8.714
OFFSET_ANGLE = -1e+32
SPACECRAFT_SOLAR_DISTANCE = 2.43154e+08
TARGET_NAME = MARS
/* CAMERA DATA ELEMENTS */
DETECTOR_TEMPERATURE = 18.5744
FOCAL_PLANE_TEMPERATURE = 8.7872
INST_CMPRS_NAME = "DISCRETE COSINE TRANSFORMATION (DCT)"
INST_CMPRS_RATIO = 15.0326
INST_CMPRS_QUALITY = 0
INST_CMPRS_QUANTZ_TBL_ID = 0
INSTRUMENT_TEMPERATURE = 12.0496
LENS_TEMPERATURE = 9.195
MACROPIXEL_SIZE = 2
MISSING_FRAMES = 3
PIXEL_SUBSAMPLING_FLAG = N
SIGNAL_CHAIN_ID = 2
/* RADIOMETRIC DATA ELEMENTS */
BANDWIDTH = 88.0
CENTER_FILTER_WAVELENGTH = 538.0
RADIANCE_OFFSET = 0.193162
RADIANCE_SCALING_FACTOR = 0.0111731
REFLECTANCE_SCALING_FACTOR = 0.000568725
MEX:REFLECTANCE_OFFSET = 0.0098322
/* IMAGE OBJECT DEFINITIONS */
OBJECT = IMAGE
  INTERCHANGE_FORMAT = BINARY
  LINES = 7112
  LINE_SAMPLES = 4423
  SAMPLE_TYPE = UNSIGNED_INTEGER
  SAMPLE_BITS = 8
  BANDS = 1
  BAND_STORAGE_TYPE = BAND_SEQUENTIAL
  MAXIMUM = 255
  MEAN = 111.433
  MINIMUM = 1
  STANDARD_DEVIATION = 43.638
END_OBJECT = IMAGE
/* MAP OBJECT DEFINITIONS */
OBJECT = IMAGE_MAP_PROJECTION
  ^DATA_SET_MAP_PROJECTION_CATALOG= "DSMAP.CAT"
  A_AXIS_RADIUS = 3396.0
  B_AXIS_RADIUS = 3396.0
  C_AXIS_RADIUS = 3396.0
  CENTER_LATITUDE = 0.0
  CENTER_LONGITUDE = 344.0
  COORDINATE_SYSTEM_NAME = PLANETOGRAPHIC
  COORDINATE_SYSTEM_TYPE = "BODY-FIXED ROTATING"
  EASTERNMOST_LONGITUDE = 353.411
  FIRST_STANDARD_PARALLEL = "N/A"
  LINE_FIRST_PIXEL = 1
  LINE_LAST_PIXEL = 7112
  LINE_PROJECTION_OFFSET = 3827.0
  MAP_PROJECTION_ROTATION = 0.0
  MAP_PROJECTION_TYPE = SINUSOIDAL
  MAP_RESOLUTION = 148.178450966667
  MAP_SCALE = 0.4
  MAXIMUM_LATITUDE = 25.3769
  MINIMUM_LATITUDE = -21.4187
  POSITIVE_LONGITUDE_DIRECTION = EAST
  REFERENCE_LATITUDE = "N/A"
  REFERENCE_LONGITUDE = "N/A"
  SAMPLE_FIRST_PIXEL = 1
  SAMPLE_LAST_PIXEL = 4423
  SAMPLE_PROJECTION_OFFSET = 2282.0
  SECOND_STANDARD_PARALLEL = "N/A"
  WESTERNMOST_LONGITUDE = 324.766
END_OBJECT = IMAGE_MAP_PROJECTION
/* The JPEG2000 image data file associated with this label. */
OBJECT = COMPRESSED_FILE
  FILE_NAME = "HF388_0000_GR3.JP2"
  RECORD_TYPE = UNDEFINED
  FILE_RECORDS = UNK
  ENCODING_TYPE = "JP2"
  INTERCHANGE_FORMAT = BINARY
  UNCOMPRESSED_FILE_NAME = "HF388_0000_GR3.IMG"
  REQUIRED_STORAGE_BYTES = "31482914"
  ^DESCRIPTION = "JP2INFO.TXT"
END_OBJECT = COMPRESSED_FILE
END
