PDS_VERSION_ID = PDS3
/* FILE DATA ELEMENTS */
RECORD_TYPE = STREAM
/* POINTERS TO DATA OBJECTS */
^COMPRESSED_FILE = "HF491_0000_BL3.JP2"
/* IDENTIFICATION DATA ELEMENTS */
DATA_SET_ID = "MEX-M-HRSC-5-REFDR-MAPPROJECTED-V3.0"
DATA_SET_NAME = "MARS EXPRESS HRSC MAP PROJECTED REFDR V3.0"
DETECTOR_ID = MEX_HRSC_BLUE
EVENT_TYPE = "MARS-CLOUD-VARIABLE-At"
INSTRUMENT_HOST_ID = MEX
INSTRUMENT_HOST_NAME = "MARS EXPRESS"
INSTRUMENT_ID = HRSC
INSTRUMENT_NAME = "HIGH RESOLUTION STEREO CAMERA"
MISSION_NAME = "MARS EXPRESS"
MISSION_PHASE_NAME = ME_Phase_34
PROCESSING_LEVEL_ID = 3
PRODUCT_CREATION_TIME = 2016-11-08T12:16:33.000Z
PRODUCT_ID = "HF491_0000_BL3.JP2"
RELEASE_ID = 0132
REVISION_ID = 0000
/* QUALITY DATA ELEMENTS */
DATA_QUALITY_ID = 1
DATA_QUALITY_DESC = "Data calculated based on original SPICE kernels"
/* TIME DATA ELEMENTS */
SPACECRAFT_CLOCK_START_COUNT = "1/0406675641.07318"
SPACECRAFT_CLOCK_STOP_COUNT = "1/0406676236.55296"
START_TIME = 2016-03-21T21:34:53.967Z
STOP_TIME = 2016-03-21T21:37:21.938Z
/* ORBITAL DATA ELEMENTS */
ASCENDING_NODE_LONGITUDE = 282.9
MAXIMUM_RESOLUTION = 534.5
FOOTPRINT_POINT_LATITUDE = (0.646929,0.661855,0.898329,0.553779, 1.67638,0.689967,1.78113,0.878316, 2.07272,0.818758,2.07857,0.800673, 2.0891,0.981726,2.1546,0.908626,2.14163 ,1.15114,2.3111,1.00908,2.44256, 0.940473,2.47754,1.25397,2.5618,1.30012 ,2.39959,1.24434,3.44006,4.68734, 6.13265,7.83165,10.1328,13.3791,14.7045 ,15.4795,16.494,17.7642,18.2619,18.7818 ,19.1775,19.3389,19.3135,19.1395, 18.8061,18.3116,17.317,16.3643,15.7475, 14.9495,13.8342,12.4627,10.0883,7.97209 ,5.96453,3.96967,2.69079,4.08458,2.6361 ,4.05936,2.98485,4.03309,2.80297, 3.96686,2.50807,3.87954,2.69182,3.86641 ,2.72757,3.86739,2.63603,3.76842, 2.44782,3.64921,2.15476,3.48629,2.30011 ,3.46325,2.30592,3.44816,2.33337, 3.41888,2.30704,3.37609,2.23649,3.32883 ,2.12171,3.25752,2.06895,3.04629, 1.72533,2.87841,2.66304,1.41183,2.11719 ,1.4917,0.725502,0.646753,0.627742, 0.646929)
FOOTPRINT_POINT_LONGITUDE = (284.342,285.493,286.759,288.932, 289.839,290.419,290.747,292.016,291.988 ,292.36,292.328,292.589,292.554,293.039 ,293.004,293.155,293.117,293.489, 293.901,294.063,294.009,294.521,294.459 ,294.735,294.68,294.96,294.912,295.066, 294.971,294.921,294.866,294.806,294.735 ,294.652,294.625,293.675,292.198, 289.789,288.54,286.355,284.482,282.284, 280.703,279.004,277.289,275.552,273.12, 271.417,270.489,269.435,269.353,269.209 ,268.961,268.713,268.458,268.183, 267.995,268.318,268.107,268.434,268.519 ,268.787,268.612,268.897,268.689, 269.003,268.956,269.239,269.2,269.595, 269.427,269.819,269.64,270.277,270.078, 270.374,270.217,270.49,270.337,270.606, 270.46,270.72,270.576,270.833,270.686, 270.945,270.79,271.409,271.26,272.326, 272.168,272.424,273.576,274.62,275.513, 278.026,279.602,281.112,283.197, 284.342)
ORBIT_NUMBER = 15491
ORBITAL_ECCENTRICITY = 0.579
ORBITAL_INCLINATION = 86.92
ORBITAL_SEMIMAJOR_AXIS = 8862.94
PERIAPSIS_ALTITUDE = 339.69
PERIAPSIS_ARGUMENT_ANGLE = 189.44
PERIAPSIS_TIME = 2016-03-21T22:38:36.000Z
SPACECRAFT_ORIENTATION = (0.0,-1.0,0.0)
^MEX_ORIENTATION_DESC = "MEX_ORIENTATION_DESC.TXT"
SPACECRAFT_POINTING_MODE = INERT
^MEX_POINTING_DESC = "MEX_POINTING_DESC.TXT"
RIGHT_ASCENSION = 332.518
DECLINATION = -26.626
OFFSET_ANGLE = -1e+32
SPACECRAFT_SOLAR_DISTANCE = 2.38819e+08
TARGET_NAME = MARS
/* CAMERA DATA ELEMENTS */
DETECTOR_TEMPERATURE = 18.3705
FOCAL_PLANE_TEMPERATURE = 7.7677
INST_CMPRS_NAME = "DISCRETE COSINE TRANSFORMATION (DCT)"
INST_CMPRS_RATIO = 28.8265
INST_CMPRS_QUALITY = 0
INST_CMPRS_QUANTZ_TBL_ID = 0
INSTRUMENT_TEMPERATURE = 11.0301
LENS_TEMPERATURE = 8.5833
MACROPIXEL_SIZE = 2
MISSING_FRAMES = 0
PIXEL_SUBSAMPLING_FLAG = N
SIGNAL_CHAIN_ID = 2
/* RADIOMETRIC DATA ELEMENTS */
BANDWIDTH = 76.0
CENTER_FILTER_WAVELENGTH = 444.0
RADIANCE_OFFSET = 0.0
RADIANCE_SCALING_FACTOR = 0.012373
REFLECTANCE_SCALING_FACTOR = 0.0007251
MEX:REFLECTANCE_OFFSET = 0.0
/* IMAGE OBJECT DEFINITIONS */
OBJECT = IMAGE
  INTERCHANGE_FORMAT = BINARY
  LINES = 3332
  LINE_SAMPLES = 4201
  SAMPLE_TYPE = UNSIGNED_INTEGER
  SAMPLE_BITS = 8
  BANDS = 1
  BAND_STORAGE_TYPE = BAND_SEQUENTIAL
  MAXIMUM = 255
  MEAN = 213.254
  MINIMUM = 136
  STANDARD_DEVIATION = 20.2206
END_OBJECT = IMAGE
/* MAP OBJECT DEFINITIONS */
OBJECT = IMAGE_MAP_PROJECTION
  ^DATA_SET_MAP_PROJECTION_CATALOG= "DSMAP.CAT"
  A_AXIS_RADIUS = 3396.0
  B_AXIS_RADIUS = 3396.0
  C_AXIS_RADIUS = 3396.0
  CENTER_LATITUDE = 0.0
  CENTER_LONGITUDE = 283.0
  COORDINATE_SYSTEM_NAME = PLANETOGRAPHIC
  COORDINATE_SYSTEM_TYPE = "BODY-FIXED ROTATING"
  EASTERNMOST_LONGITUDE = 295.066
  FIRST_STANDARD_PARALLEL = "N/A"
  LINE_FIRST_PIXEL = 1
  LINE_LAST_PIXEL = 3332
  LINE_PROJECTION_OFFSET = 2878.25
  MAP_PROJECTION_ROTATION = 0.0
  MAP_PROJECTION_TYPE = SINUSOIDAL
  MAP_RESOLUTION = 148.178450966667
  MAP_SCALE = 0.4
  MAXIMUM_LATITUDE = 19.3389
  MINIMUM_LATITUDE = 0.553779
  POSITIVE_LONGITUDE_DIRECTION = EAST
  REFERENCE_LATITUDE = "N/A"
  REFERENCE_LONGITUDE = "N/A"
  SAMPLE_FIRST_PIXEL = 1
  SAMPLE_LAST_PIXEL = 4201
  SAMPLE_PROJECTION_OFFSET = 2232.75
  SECOND_STANDARD_PARALLEL = "N/A"
  WESTERNMOST_LONGITUDE = 267.995
END_OBJECT = IMAGE_MAP_PROJECTION
/* The JPEG2000 image data file associated with this label. */
OBJECT = COMPRESSED_FILE
  FILE_NAME = "HF491_0000_BL3.JP2"
  RECORD_TYPE = UNDEFINED
  FILE_RECORDS = UNK
  ENCODING_TYPE = "JP2"
  INTERCHANGE_FORMAT = BINARY
  UNCOMPRESSED_FILE_NAME = "HF491_0000_BL3.IMG"
  REQUIRED_STORAGE_BYTES = "14022938"
  ^DESCRIPTION = "JP2INFO.TXT"
END_OBJECT = COMPRESSED_FILE
END
