PDS_VERSION_ID = PDS3
/* FILE DATA ELEMENTS */
RECORD_TYPE = STREAM
/* POINTERS TO DATA OBJECTS */
^COMPRESSED_FILE = "HF533_0009_BL3.JP2"
/* IDENTIFICATION DATA ELEMENTS */
DATA_SET_ID = "MEX-M-HRSC-5-REFDR-MAPPROJECTED-V3.0"
DATA_SET_NAME = "MARS EXPRESS HRSC MAP PROJECTED REFDR V3.0"
DETECTOR_ID = MEX_HRSC_BLUE
EVENT_TYPE = "MARS-CLOUD-VARIABLE-Gl-At"
INSTRUMENT_HOST_ID = MEX
INSTRUMENT_HOST_NAME = "MARS EXPRESS"
INSTRUMENT_ID = HRSC
INSTRUMENT_NAME = "HIGH RESOLUTION STEREO CAMERA"
MISSION_NAME = "MARS EXPRESS"
MISSION_PHASE_NAME = ME_Phase_34
PROCESSING_LEVEL_ID = 3
PRODUCT_CREATION_TIME = 2016-11-08T12:40:53.000Z
PRODUCT_ID = "HF533_0009_BL3.JP2"
RELEASE_ID = 0133
REVISION_ID = 0000
/* QUALITY DATA ELEMENTS */
DATA_QUALITY_ID = 1
DATA_QUALITY_DESC = "Data calculated based on original SPICE kernels"
/* TIME DATA ELEMENTS */
SPACECRAFT_CLOCK_START_COUNT = "1/0407735051.08413"
SPACECRAFT_CLOCK_STOP_COUNT = "1/0407736099.31055"
START_TIME = 2016-04-03T03:52:06.129Z
STOP_TIME = 2016-04-03T04:01:44.643Z
/* ORBITAL DATA ELEMENTS */
ASCENDING_NODE_LONGITUDE = 282.11
MAXIMUM_RESOLUTION = 171.8
FOOTPRINT_POINT_LATITUDE = (75.5543,75.6046,75.6034,75.5512, 75.4487,75.3393,75.1514,74.917,74.6378, 74.3154,73.9515,73.5476,73.1064,73.2588 ,73.7476,74.2305,74.7069,75.1764, 75.6385,76.0926,76.5382,76.9745,77.4011 ,77.8167,78.2204,78.6117,79.1716, 79.8615,80.3276,80.7432,81.2081,81.623, 81.8059,81.8468,81.7448,81.5042,81.2393 ,80.7891,80.2373,79.6026,78.8983, 78.1365,77.3273,76.4787,75.4109,75.7013 ,76.0363,76.4746,76.7897,76.9712, 77.1062,77.2155,77.337,77.3763,77.658, 78.1979,78.7371,79.2757,79.8138,80.3515 ,80.8887,81.4253,81.9615,82.4971, 83.0321,83.5664,84.1003,85.1637,85.9568 ,86.7428,87.5156,88.2573,88.9029, 89.1128,88.7957,88.3582,87.8728,87.3656 ,86.8464,86.3208,85.7904,84.9892, 84.4525,83.9131,83.3722,82.8298,82.012, 81.4672,80.9227,80.3757,79.8264,79.2768 ,78.7263,78.1744,77.3443,76.5113, 75.9543,75.3958,75.5543)
FOOTPRINT_POINT_LONGITUDE = (294.055,297.413,300.77,304.11,307.408, 309.845,313.028,316.121,319.113,321.997 ,324.767,327.422,329.952,331.84,332.743 ,333.704,334.727,335.817,336.979, 338.219,339.543,340.959,342.473,344.093 ,345.827,347.683,350.716,355.264, 359.083,3.26687,9.41121,17.9111,25.1957 ,32.6755,40.0932,47.1997,52.2076, 58.3702,63.8808,68.7527,73.0249,76.7578 ,80.0167,82.8655,86.5185,88.5803, 91.2665,95.5014,99.365,102.139,104.664, 107.237,111.5,114.158,117.384,117.581, 117.796,118.03,118.286,118.568,118.88, 119.228,119.619,120.063,120.572,121.16, 121.836,123.645,125.596,128.492,133.195 ,141.985,162.208,226.995,251.362, 264.262,271.534,276.069,279.128,281.333 ,282.987,284.823,285.759,286.528, 287.177,287.732,288.421,288.819,289.177 ,289.492,289.772,290.029,290.263, 290.477,290.766,291.023,291.18,291.326, 294.055)
ORBIT_NUMBER = 15533
ORBITAL_ECCENTRICITY = 0.578
ORBITAL_INCLINATION = 86.91
ORBITAL_SEMIMAJOR_AXIS = 8864.04
PERIAPSIS_ALTITUDE = 343.36
PERIAPSIS_ARGUMENT_ANGLE = 182.21
PERIAPSIS_TIME = 2016-04-03T04:30:01.000Z
SPACECRAFT_ORIENTATION = (0.0,-1.0,0.0)
^MEX_ORIENTATION_DESC = "MEX_ORIENTATION_DESC.TXT"
SPACECRAFT_POINTING_MODE = INERT
^MEX_POINTING_DESC = "MEX_POINTING_DESC.TXT"
RIGHT_ASCENSION = 332.468
DECLINATION = -33.955
OFFSET_ANGLE = -1e+32
SPACECRAFT_SOLAR_DISTANCE = 2.36795e+08
TARGET_NAME = MARS
/* CAMERA DATA ELEMENTS */
DETECTOR_TEMPERATURE = 20.0017
FOCAL_PLANE_TEMPERATURE = 8.7872
INST_CMPRS_NAME = "DISCRETE COSINE TRANSFORMATION (DCT)"
INST_CMPRS_RATIO = 28.284
INST_CMPRS_QUALITY = 0
INST_CMPRS_QUANTZ_TBL_ID = 0
INSTRUMENT_TEMPERATURE = 14.0886
LENS_TEMPERATURE = 8.9911
MACROPIXEL_SIZE = 2
MISSING_FRAMES = 0
PIXEL_SUBSAMPLING_FLAG = N
SIGNAL_CHAIN_ID = 2
/* RADIOMETRIC DATA ELEMENTS */
BANDWIDTH = 76.0
CENTER_FILTER_WAVELENGTH = 444.0
RADIANCE_OFFSET = 0.239487
RADIANCE_SCALING_FACTOR = 0.0119744
REFLECTANCE_SCALING_FACTOR = 0.000689882
MEX:REFLECTANCE_OFFSET = 0.0137976
/* IMAGE OBJECT DEFINITIONS */
OBJECT = IMAGE
  INTERCHANGE_FORMAT = BINARY
  LINES = 6160
  LINE_SAMPLES = 8359
  SAMPLE_TYPE = UNSIGNED_INTEGER
  SAMPLE_BITS = 8
  BANDS = 1
  BAND_STORAGE_TYPE = BAND_SEQUENTIAL
  MAXIMUM = 255
  MEAN = 79.2672
  MINIMUM = 3
  STANDARD_DEVIATION = 60.538
END_OBJECT = IMAGE
/* MAP OBJECT DEFINITIONS */
OBJECT = IMAGE_MAP_PROJECTION
  ^DATA_SET_MAP_PROJECTION_CATALOG= "DSMAP.CAT"
  A_AXIS_RADIUS = 3396.0
  B_AXIS_RADIUS = 3396.0
  C_AXIS_RADIUS = 3396.0
  CENTER_LATITUDE = 90.0
  CENTER_LONGITUDE = 0.0
  COORDINATE_SYSTEM_NAME = PLANETOGRAPHIC
  COORDINATE_SYSTEM_TYPE = "BODY-FIXED ROTATING"
  EASTERNMOST_LONGITUDE = 360.0
  FIRST_STANDARD_PARALLEL = "N/A"
  LINE_FIRST_PIXEL = 1
  LINE_LAST_PIXEL = 6160
  LINE_PROJECTION_OFFSET = 1698.0
  MAP_PROJECTION_ROTATION = 0
  MAP_PROJECTION_TYPE = STEREOGRAPHIC
  MAP_RESOLUTION = 296.356901933333
  MAP_SCALE = 0.2
  MAXIMUM_LATITUDE = 90.0
  MINIMUM_LATITUDE = 73.10639999999999
  POSITIVE_LONGITUDE_DIRECTION = EAST
  REFERENCE_LATITUDE = "N/A"
  REFERENCE_LONGITUDE = "N/A"
  SAMPLE_FIRST_PIXEL = 1
  SAMPLE_LAST_PIXEL = 8359
  SAMPLE_PROJECTION_OFFSET = 4023.0
  SECOND_STANDARD_PARALLEL = "N/A"
  WESTERNMOST_LONGITUDE = 0.0
END_OBJECT = IMAGE_MAP_PROJECTION
/* The JPEG2000 image data file associated with this label. */
OBJECT = COMPRESSED_FILE
  FILE_NAME = "HF533_0009_BL3.JP2"
  RECORD_TYPE = UNDEFINED
  FILE_RECORDS = UNK
  ENCODING_TYPE = "JP2"
  INTERCHANGE_FORMAT = BINARY
  UNCOMPRESSED_FILE_NAME = "HF533_0009_BL3.IMG"
  REQUIRED_STORAGE_BYTES = "51524876"
  ^DESCRIPTION = "JP2INFO.TXT"
END_OBJECT = COMPRESSED_FILE
END
